BEGIN:VCALENDAR
VERSION:2.0
PRODID:-//Sotterley - ECPv6.15.17.1//NONSGML v1.0//EN
CALSCALE:GREGORIAN
METHOD:PUBLISH
X-WR-CALNAME:Sotterley
X-ORIGINAL-URL:https://sotterley.org
X-WR-CALDESC:Events for Sotterley
REFRESH-INTERVAL;VALUE=DURATION:PT1H
X-Robots-Tag:noindex
X-PUBLISHED-TTL:PT1H
BEGIN:VTIMEZONE
TZID:America/New_York
BEGIN:DAYLIGHT
TZOFFSETFROM:-0500
TZOFFSETTO:-0400
TZNAME:EDT
DTSTART:20240310T070000
END:DAYLIGHT
BEGIN:STANDARD
TZOFFSETFROM:-0400
TZOFFSETTO:-0500
TZNAME:EST
DTSTART:20241103T060000
END:STANDARD
BEGIN:DAYLIGHT
TZOFFSETFROM:-0500
TZOFFSETTO:-0400
TZNAME:EDT
DTSTART:20250309T070000
END:DAYLIGHT
BEGIN:STANDARD
TZOFFSETFROM:-0400
TZOFFSETTO:-0500
TZNAME:EST
DTSTART:20251102T060000
END:STANDARD
BEGIN:DAYLIGHT
TZOFFSETFROM:-0500
TZOFFSETTO:-0400
TZNAME:EDT
DTSTART:20260308T070000
END:DAYLIGHT
BEGIN:STANDARD
TZOFFSETFROM:-0400
TZOFFSETTO:-0500
TZNAME:EST
DTSTART:20261101T060000
END:STANDARD
END:VTIMEZONE
BEGIN:VEVENT
DTSTART;TZID=America/New_York:20250423T190000
DTEND;TZID=America/New_York:20250423T203000
DTSTAMP:20260419T172039
CREATED:20250206T173126Z
LAST-MODIFIED:20250214T193807Z
UID:8058-1745434800-1745440200@sotterley.org
SUMMARY:Sotterley Presents: People & Perspectives with Matthew Neff
DESCRIPTION:April 23\, 2025 – Have you learned about one of the newest animal exhibits at the Calvert Marine Museum – the Eastern Hellbenders? These gargantuan amphibians were once common across the eastern United States\, spanning from southwestern New York to Georgia\, now their populations are widely declining and they’ve disappeared from many of their historic homes. Learn all about these lost denizens that used to be found in the Chesapeake Bay. Matt will also be talking about fieldwork he did with their larger cousins in Hiroshima\, Japan – The Japanese Giant Salamander. \n\n\n  \nThis is a FREE in-person event. Registration is required.\nAll participants are welcome to join us for a pre-reception at 6:15 pm.\n\nRegister Here!\n\nMatt Neff is in his third year as Curator of Estuarine Biology at the Calvert Marine Museum. Since joining the museum\, he has launched several new exhibits\, including one focused on the Eastern Hellbender\, an endangered salamander once found in the Bay. Matt is also starting his 13th season with FrogWatch\, a citizen science program that trains individuals to listen for and record frog calls during the breeding season. Last year\, over 1\,100 observations of 14 different frog species were submitted across the Southern Maryland and surrounding DMV area. Prior to his work at the museum\, Matt spent 12 years as a zookeeper in the Department of Herpetology at the Smithsonian National Zoo. With a lifelong passion for animals and environmental education\, Matt is excited to continue sharing his love for the natural world\, particularly the native species of Southern Maryland. 
URL:https://sotterley.org/event/sotterley-presents-people-perspectives-with-matthew-neff/
LOCATION:Historic Sotterley\, 44300 Sotterley Lane\, Hollywood\, MD\, 20636\, United States
ATTACH;FMTTYPE=image/png:https://sotterley.org/wp-content/uploads/2025/02/Wordpress-Featured-Image-Matthew-Neff.png
END:VEVENT
END:VCALENDAR