BEGIN:VCALENDAR
VERSION:2.0
PRODID:-//Sotterley - ECPv6.15.17.1//NONSGML v1.0//EN
CALSCALE:GREGORIAN
METHOD:PUBLISH
X-WR-CALNAME:Sotterley
X-ORIGINAL-URL:https://sotterley.org
X-WR-CALDESC:Events for Sotterley
REFRESH-INTERVAL;VALUE=DURATION:PT1H
X-Robots-Tag:noindex
X-PUBLISHED-TTL:PT1H
BEGIN:VTIMEZONE
TZID:America/New_York
BEGIN:DAYLIGHT
TZOFFSETFROM:-0500
TZOFFSETTO:-0400
TZNAME:EDT
DTSTART:20240310T070000
END:DAYLIGHT
BEGIN:STANDARD
TZOFFSETFROM:-0400
TZOFFSETTO:-0500
TZNAME:EST
DTSTART:20241103T060000
END:STANDARD
BEGIN:DAYLIGHT
TZOFFSETFROM:-0500
TZOFFSETTO:-0400
TZNAME:EDT
DTSTART:20250309T070000
END:DAYLIGHT
BEGIN:STANDARD
TZOFFSETFROM:-0400
TZOFFSETTO:-0500
TZNAME:EST
DTSTART:20251102T060000
END:STANDARD
BEGIN:DAYLIGHT
TZOFFSETFROM:-0500
TZOFFSETTO:-0400
TZNAME:EDT
DTSTART:20260308T070000
END:DAYLIGHT
BEGIN:STANDARD
TZOFFSETFROM:-0400
TZOFFSETTO:-0500
TZNAME:EST
DTSTART:20261101T060000
END:STANDARD
END:VTIMEZONE
BEGIN:VEVENT
DTSTART;TZID=America/New_York:20250606T103000
DTEND;TZID=America/New_York:20250606T123000
DTSTAMP:20260424T223259
CREATED:20250319T192144Z
LAST-MODIFIED:20250513T141000Z
UID:8158-1749205800-1749213000@sotterley.org
SUMMARY:Create Artwork from Nature All Around You with Jami Faith
DESCRIPTION:June 6\, 2025 – Create art at Historic Sotterley by using objects found in nature. Creation Guide Jami will provide small accordian style books and guidance to our guests as we create prints from leaves and other natural elements. We will do a short walkabout on the grounds of Historic Sotterley \, gathering items – lookinh for textures\, and then return to the barn to make our own nature booklet. \n  \nThis opportunity is open to artists of all levels and ages. Registration is not required. $5 per person for non-members. FREE for Members. Please Arrive between 10:00-10:15 to pay your event fee at the Visitor Center. \n  \nNot a Historic Sotterley Member yet? Become a Member now! \n 
URL:https://sotterley.org/event/create-artwork-from-nature-all-around-you-with-jami-faith/
LOCATION:Historic Sotterley\, 44300 Sotterley Lane\, Hollywood\, MD\, 20636\, United States
ATTACH;FMTTYPE=image/png:https://sotterley.org/wp-content/uploads/2025/03/Wordpress-Jami-Faith-1-1.png
END:VEVENT
BEGIN:VEVENT
DTSTART;TZID=America/New_York:20250611T190000
DTEND;TZID=America/New_York:20250611T203000
DTSTAMP:20260424T223259
CREATED:20250320T154429Z
LAST-MODIFIED:20250609T125736Z
UID:8162-1749668400-1749673800@sotterley.org
SUMMARY:Sotterley Presents: People & Perspectives with Jennifer Ritterhouse
DESCRIPTION:June 11\, 2025 – When white newspaper editor Jonathan Daniels set out to “discover the South” in his stately black Plymouth in the summer of 1937\, he especially hoped to find the land that existed somewhere between the mythical old plantation and the sharecropper’s cabin\, between Margaret Mitchell’s Gone with the Wind and Erskine Caldwell’s Tobacco Road. He succeeded. His published and unpublished accounts of his trip captured a panoramic picture of the South during the Great Depression. In Discovering the South: One Man’s Travels through a Changing America in the 1930s\, historian Jennifer Ritterhouse follows Daniels on his journey to explore a wide range of interrelated topics\, from the impact of the New Deal and the southern literary Renaissance\, to the tragic Scottsboro case and planters’ and industrialists’ violent suppression of labor organizing. \nThe questions at the center of Discovering the South are big ones: What was the true nature of the South and its problems\, and who was trying to address them–in what ways\, against what opposition\, and with what results–during the Roosevelt years? More provocatively\, why\, in the late 1930s when Jonathan Daniels\, Franklin and Eleanor Roosevelt\, and a great many other Americans were “traveling\,” did the destination of a more just and egalitarian South prove so impossible to reach? \n  \nThis is a FREE hybrid event\, meaning you can join in person or virtually. Registration is required. \nIn-person attendees are welcome to join us for a pre-reception at 6:15 pm. \n  \nRegister for In-Person Attendance Here!\nRegister for Virtual Attendance Here!\n  \nJennifer Ritterhouse is Professor of History at George Mason University. She specializes in the history of the post-Reconstruction South\, with emphasis on race and gender issues. She is the author of Discovering the South: One Man’s Travels Through a Changing America in the 1930s (UNC Press\, 2017) and Growing Up Jim Crow: How Black and White Southern Children Learned Race (UNC Press\, 2006). She is the editor of a reprint edition of Sarah Patton Boyle’s autobiography\, The Desegregated Heart: A Virginian’s Stand in Time of Transition (UVA Press\, 2001)\, and one of several co-editors of Remembering Jim Crow: African Americans Tell About Life in the Segregated South (New Press\, 2001). Her current research focuses on the surprisingly southern history of the women’s rights projects of the American Civil Liberties Union (ACLU) in the 1970s. \n  \nThis event is made possible in part by a sponsorship from:
URL:https://sotterley.org/event/sotterley-presents-people-perspectives-with-jennifer-rittenhouse/
LOCATION:Historic Sotterley\, 44300 Sotterley Lane\, Hollywood\, MD\, 20636\, United States
ATTACH;FMTTYPE=image/png:https://sotterley.org/wp-content/uploads/2025/03/Wordpress-Featured-Image-Jennifer-Ritterhouse.png
END:VEVENT
BEGIN:VEVENT
DTSTART;VALUE=DATE:20250620
DTEND;VALUE=DATE:20250623
DTSTAMP:20260424T223259
CREATED:20250320T154751Z
LAST-MODIFIED:20250618T121055Z
UID:6370-1750377600-1750636799@sotterley.org
SUMMARY:Juneteenth Weekend Tours
DESCRIPTION:June 19-22\, 2025 – In honor of Juneteenth\, Historic Sotterley will offer guided tours focusing on stories of strength and resilience. Learn about how over the centuries\, the enslaved at Sotterley resisted against slavery\, how they maintained strength and identity when it had been denied to them\, how they built families and communities\, and discover how many took their freedom\, and what life was like at Sotterley after the abolition of slavery. \n  \nTour Times\nFriday – Saturday: 10:30 am\, 12:30 pm\, 2:00 pm \nSunday’s tours will be open house all day long due to the From Legacy to Leadership event\, but will still have a focus on stories of strength and resilience. Please considering joining us for Sunday’s event – it’s free! \n  \nFor more information on visiting Historic Sotterley and our hours\, check out the visit page.
URL:https://sotterley.org/event/juneteenth-weekend-tours-2/
LOCATION:Historic Sotterley\, 44300 Sotterley Lane\, Hollywood\, MD\, 20636\, United States
ATTACH;FMTTYPE=image/png:https://sotterley.org/wp-content/uploads/2025/03/Juneteenth-Tours-1.png
END:VEVENT
BEGIN:VEVENT
DTSTART;TZID=America/New_York:20250620T103000
DTEND;TZID=America/New_York:20250620T123000
DTSTAMP:20260424T223259
CREATED:20250319T192422Z
LAST-MODIFIED:20250513T141025Z
UID:8160-1750415400-1750422600@sotterley.org
SUMMARY:Colorful Creative Collage Card with Jami Faith
DESCRIPTION:June 20\, 2025 – Make a lovely collage card inspired by the nature around Historic Sotterley. Creation Guide Jami will walk with our guests through Sotterley’s beautiful and colorful flower garden for our inspiration to create a beautiful collage card. We will use a variety of colorful paper ephemera as well as a variety of mark making tools. \n  \nThis opportunity is open to artists of all levels and ages. Registration is not required. $5 per person for non-members. FREE for Members. Please Arrive between 10:00-10:15 to pay your event fee at the Visitor Center.  \n  \nNot a Historic Sotterley Member yet? Become a Member now!
URL:https://sotterley.org/event/colorful-creative-collage-card-with-jami-faith/
LOCATION:Historic Sotterley\, 44300 Sotterley Lane\, Hollywood\, MD\, 20636\, United States
ATTACH;FMTTYPE=image/png:https://sotterley.org/wp-content/uploads/2025/03/Wordpress-Jami-Faith-1-2.png
END:VEVENT
END:VCALENDAR