BEGIN:VCALENDAR
VERSION:2.0
PRODID:-//Sotterley - ECPv6.15.17.1//NONSGML v1.0//EN
CALSCALE:GREGORIAN
METHOD:PUBLISH
X-WR-CALNAME:Sotterley
X-ORIGINAL-URL:https://sotterley.org
X-WR-CALDESC:Events for Sotterley
REFRESH-INTERVAL;VALUE=DURATION:PT1H
X-Robots-Tag:noindex
X-PUBLISHED-TTL:PT1H
BEGIN:VTIMEZONE
TZID:America/New_York
BEGIN:DAYLIGHT
TZOFFSETFROM:-0500
TZOFFSETTO:-0400
TZNAME:EDT
DTSTART:20240310T070000
END:DAYLIGHT
BEGIN:STANDARD
TZOFFSETFROM:-0400
TZOFFSETTO:-0500
TZNAME:EST
DTSTART:20241103T060000
END:STANDARD
BEGIN:DAYLIGHT
TZOFFSETFROM:-0500
TZOFFSETTO:-0400
TZNAME:EDT
DTSTART:20250309T070000
END:DAYLIGHT
BEGIN:STANDARD
TZOFFSETFROM:-0400
TZOFFSETTO:-0500
TZNAME:EST
DTSTART:20251102T060000
END:STANDARD
BEGIN:DAYLIGHT
TZOFFSETFROM:-0500
TZOFFSETTO:-0400
TZNAME:EDT
DTSTART:20260308T070000
END:DAYLIGHT
BEGIN:STANDARD
TZOFFSETFROM:-0400
TZOFFSETTO:-0500
TZNAME:EST
DTSTART:20261101T060000
END:STANDARD
END:VTIMEZONE
BEGIN:VEVENT
DTSTART;VALUE=DATE:20250502
DTEND;VALUE=DATE:20250503
DTSTAMP:20260424T232158
CREATED:20250319T160711Z
LAST-MODIFIED:20250319T160711Z
UID:8152-1746144000-1746230399@sotterley.org
SUMMARY:Guided Tour Season Opens
DESCRIPTION:May 2\, 2025 – Historic Sotterley’s Tour Season officially begins on Friday\, May 2nd! Guided tours of our Historic Manor House will be offered Friday through Saturday – specific tour times coming soon. Tickets can be purchased at our Visitor Center the day of the tour. Exhibits will also be opened for self-guided tours. For more information closer to opening weekend\, see our visit page. \n  \nWe’re looking forward to another great tour season!
URL:https://sotterley.org/event/guided-tour-season-opens/
LOCATION:Historic Sotterley\, 44300 Sotterley Lane\, Hollywood\, MD\, 20636\, United States
END:VEVENT
BEGIN:VEVENT
DTSTART;TZID=America/New_York:20250521T190000
DTEND;TZID=America/New_York:20250521T203000
DTSTAMP:20260424T232158
CREATED:20250507T143801Z
LAST-MODIFIED:20250514T160756Z
UID:8261-1747854000-1747859400@sotterley.org
SUMMARY:Sotterley Presents: People & Perspectives with Lauren Zimmerman
DESCRIPTION:May 21\, 2025 – The Southern Maryland Wine Growers Cooperative (SMWGC) was formed in 2007 by a group of local farmers\, of which several were transitioning away from tobacco production to begin planting grapes. 12 farms came together to form the SMWGC making it the first grape-growing cooperative in the state of Maryland leading the way for viticulture and future wineries. With the help of local funding\, the group opened Port of Leonardtown Winery in 2010 to process and sell their product. The Port of Leonardtown Winery has developed a strong reputation for producing premium wines grown from vineyards located throughout Maryland. The Winery is located in the prosperous town of Leonardtown and is open daily for wine tastings. \nLauren Zimmerman\, winemaker at Port of Leonardtown Winery\, will be joined by David Wood\, current President of the Southern Maryland Wine Growers Co-op\, and vineyard owner at Forest Hall Farm\, who supplies grapes to Port of Leonardtown Winery to speak about the Southern Maryland Wine Growers Cooperative and Port of Leonardtown Winery. \n\n\n\n  \nThis is a FREE in-person event. Registration is required.\nAll participants are welcome to join us for a pre-reception at 6:15 pm.\n\nRegister Here!\n\nLauren Y. Zimmerman has 20 years of experience managing different areas of the wine industry\, from grape growing\, and winemaking\, to marketing and sales. After graduating with a degree in Enology\, she purchased land and planted 5 acres of vines in her hometown of Wellington\, Ontario\, Canada. She has worked with wineries around North America and New Zealand\, gaining experience from top players in the industry. Lauren met her husband and moved to Maryland in 2012. Since working with Port of Leonardtown Winery\, the winery has brought home numerous prestigious awards\, including five Best in Show trophies. Lauren is a big advocate for local tourism and is an ongoing ambassador for the local craft beverage industries.
URL:https://sotterley.org/event/sotterley-presents-people-perspectives-with-lauren-zimmerman/
LOCATION:Historic Sotterley\, 44300 Sotterley Lane\, Hollywood\, MD\, 20636\, United States
ATTACH;FMTTYPE=image/png:https://sotterley.org/wp-content/uploads/2025/05/Wordpress-Featured-Image-Lauren-Zimmerman-1.png
ORGANIZER;CN="Historic Sotterley":MAILTO:marketing@sotterley.org
END:VEVENT
BEGIN:VEVENT
DTSTART;TZID=America/New_York:20250523T103000
DTEND;TZID=America/New_York:20250523T123000
DTSTAMP:20260424T232158
CREATED:20250319T172853Z
LAST-MODIFIED:20250513T140935Z
UID:8155-1747996200-1748003400@sotterley.org
SUMMARY:Creating our own Natural Brushes with Jami Faith
DESCRIPTION:May 23\, 2025 – You don’t need expensive brushes to create art\, you can do it with things you forage around you! Creation Guide Jami will take us out on the grounds\, as we walk about the garden and surrounding areas to gather leaves\, twigs\, pine needles etc.\nOnce we have acquired our own items we will return to the barn where we will assemble our brushes\, play with the marks they make and then create a painting. A great way to create texture and unique patterns from various natural elements. \n  \nThis opportunity is open to artists of all levels and ages. Registration is not required. $5 per person for non-members. FREE for Members. Please Arrive between 10:00-10:15 to pay your event fee at the Visitor Center. \nNot a Historic Sotterley Member yet? Become a Member now!
URL:https://sotterley.org/event/creating-our-own-natural-brushes-with-jami-faith/
LOCATION:Historic Sotterley\, 44300 Sotterley Lane\, Hollywood\, MD\, 20636\, United States
ATTACH;FMTTYPE=image/png:https://sotterley.org/wp-content/uploads/2025/03/Wordpress-Jami-Faith-1.png
END:VEVENT
END:VCALENDAR