BEGIN:VCALENDAR
VERSION:2.0
PRODID:-//Sotterley - ECPv6.15.17.1//NONSGML v1.0//EN
CALSCALE:GREGORIAN
METHOD:PUBLISH
X-ORIGINAL-URL:https://sotterley.org
X-WR-CALDESC:Events for Sotterley
REFRESH-INTERVAL;VALUE=DURATION:PT1H
X-Robots-Tag:noindex
X-PUBLISHED-TTL:PT1H
BEGIN:VTIMEZONE
TZID:America/New_York
BEGIN:DAYLIGHT
TZOFFSETFROM:-0500
TZOFFSETTO:-0400
TZNAME:EDT
DTSTART:20240310T070000
END:DAYLIGHT
BEGIN:STANDARD
TZOFFSETFROM:-0400
TZOFFSETTO:-0500
TZNAME:EST
DTSTART:20241103T060000
END:STANDARD
BEGIN:DAYLIGHT
TZOFFSETFROM:-0500
TZOFFSETTO:-0400
TZNAME:EDT
DTSTART:20250309T070000
END:DAYLIGHT
BEGIN:STANDARD
TZOFFSETFROM:-0400
TZOFFSETTO:-0500
TZNAME:EST
DTSTART:20251102T060000
END:STANDARD
BEGIN:DAYLIGHT
TZOFFSETFROM:-0500
TZOFFSETTO:-0400
TZNAME:EDT
DTSTART:20260308T070000
END:DAYLIGHT
BEGIN:STANDARD
TZOFFSETFROM:-0400
TZOFFSETTO:-0500
TZNAME:EST
DTSTART:20261101T060000
END:STANDARD
END:VTIMEZONE
BEGIN:VEVENT
DTSTART;TZID=America/New_York:20250823T100000
DTEND;TZID=America/New_York:20250823T140000
DTSTAMP:20260420T150017
CREATED:20250214T195249Z
LAST-MODIFIED:20250811T124520Z
UID:8083-1755943200-1755957600@sotterley.org
SUMMARY:Day of Unity and Healing
DESCRIPTION:August 23\, 2025 – Join us for our annual Day of Unity and Healing. This descendant-led event centers on shared history\, healing\, and education by bringing together descendants and interfaith and community leaders to recognize the interconnectedness of our lives and to honestly confront Sotterley’s past and build unity. The ceremony will begin at 10:00 am and will include a bell ringing ceremony to honor the lives and sacrifices of those who came before us. \nAfter the ceremony\, there will be wagon tours\, open house tours\, music by Casual Groove Band\, a documentary quilt exhibit\, archaeology updates from our community partners\, and holistic health screenings. More information and an exact schedule are coming soon. \nIf you know you’ll be joining us\, please consider registering so we have an idea of attendance. Thank you! \n  \nRegister Here!\n  \nDocumentary Story Quilt Workshop\n12:30 pm \n$30/person\, limited space \nDr Joan M.E. Gaither will be conducting a documentary quilting workshop in the afternoon. No prior quilting experience is required. There will be an afternoon quilting workshop to provide an opportunity to learn about documentary story quilting and then you will be able to create your own quilt square using personal photographs and objects. Her documentary story quilts have been on display at each Day of Unity and Healing for the past four years. Registration is required. \nDr. Joan M.E. Gaither\, a native Baltimorean with a history of helping to integrate local schools and businesses during the Civil Rights Movement\, is an artist\, teacher\, and activist. She has created 183 documentary story quilts since 2000 and continues to hold quilting workshops that encourage participants to research\, capture\, and visualize personal oral histories and memories. Dr. Gaither’s documentary story quilts are a one-of-a-kind creation with complex themes and depth of expression in each quilt. Each documentary story quilt uses traditional quilting fabric’s\, recycled clothing\, and objects relevant to each quilt theme to create vibrant and colorful quilts to illuminate historical events\, places or people that have shaped American History\, She has created 300 documentary story quilts since 2000. Her documentary story quilts are included in personal collections and continue to be exhibited in local and national museums\, galleries\, schools\, and churches. \nPurchase Tickets\n  \nAre you interested in hearing more about human migration?  Visit Lexington Park Library to view the exhibit World on the Move\, 250\,000 Years of Human Migration\, from July 21 – August 22\, 2025.
URL:https://sotterley.org/event/day-of-unity-and-healing/
LOCATION:Historic Sotterley\, 44300 Sotterley Lane\, Hollywood\, MD\, 20636\, United States
ATTACH;FMTTYPE=image/png:https://sotterley.org/wp-content/uploads/2025/02/Day-of-Unity-and-Healing-2025.png
END:VEVENT
BEGIN:VEVENT
DTSTART;TZID=America/New_York:20250831T193000
DTEND;TZID=America/New_York:20250831T213000
DTSTAMP:20260420T150017
CREATED:20250627T184919Z
LAST-MODIFIED:20250806T133554Z
UID:8395-1756668600-1756675800@sotterley.org
SUMMARY:Sweet Summer Nights at Sotterley
DESCRIPTION:August 31\, 2025 – Join us at Sotterley from 7:30 – 9:30 p.m. to explore Nature After Dark!  We’ll enjoy a night hike through the fields and forests\, calling owls\, looking for foxfire\, identifying frog calls and all of the other cool nighttime noises.  This program is best for children ages 8 and up; bring a flashlight and you’ll go home with a flashlight adapter for your own fun night hikes at home. \n  \nThis event is best for children ages 8 and up. $5/person for non-members. FREE for members! Please arrive 10-15 minutes early to check in at the Warehouse and pay event fees or check membership. Registration is requested so we can have a rough estimate of attendance. \nParents are expected to pay the event fee and stay with their children for the duration of the event. Thank you! \n  \nRegister here!\n  \nNot a member yet? Become one today!  \n  \nThis event series is made possible in partnership with the Southern Maryland Folklife Center and instructor Dorothy Birch.
URL:https://sotterley.org/event/sweet-summer-nights-at-sotterley-2/
LOCATION:Historic Sotterley\, 44300 Sotterley Lane\, Hollywood\, MD\, 20636\, United States
ATTACH;FMTTYPE=image/png:https://sotterley.org/wp-content/uploads/2025/06/Summer-Nights-at-Sotterley-2-2.png
ORGANIZER;CN="Historic Sotterley":MAILTO:marketing@sotterley.org
END:VEVENT
END:VCALENDAR