BEGIN:VCALENDAR
VERSION:2.0
PRODID:-//Sotterley - ECPv6.15.17.1//NONSGML v1.0//EN
CALSCALE:GREGORIAN
METHOD:PUBLISH
X-WR-CALNAME:Sotterley
X-ORIGINAL-URL:https://sotterley.org
X-WR-CALDESC:Events for Sotterley
REFRESH-INTERVAL;VALUE=DURATION:PT1H
X-Robots-Tag:noindex
X-PUBLISHED-TTL:PT1H
BEGIN:VTIMEZONE
TZID:America/New_York
BEGIN:DAYLIGHT
TZOFFSETFROM:-0500
TZOFFSETTO:-0400
TZNAME:EDT
DTSTART:20230312T070000
END:DAYLIGHT
BEGIN:STANDARD
TZOFFSETFROM:-0400
TZOFFSETTO:-0500
TZNAME:EST
DTSTART:20231105T060000
END:STANDARD
BEGIN:DAYLIGHT
TZOFFSETFROM:-0500
TZOFFSETTO:-0400
TZNAME:EDT
DTSTART:20240310T070000
END:DAYLIGHT
BEGIN:STANDARD
TZOFFSETFROM:-0400
TZOFFSETTO:-0500
TZNAME:EST
DTSTART:20241103T060000
END:STANDARD
BEGIN:DAYLIGHT
TZOFFSETFROM:-0500
TZOFFSETTO:-0400
TZNAME:EDT
DTSTART:20250309T070000
END:DAYLIGHT
BEGIN:STANDARD
TZOFFSETFROM:-0400
TZOFFSETTO:-0500
TZNAME:EST
DTSTART:20251102T060000
END:STANDARD
END:VTIMEZONE
BEGIN:VEVENT
DTSTART;VALUE=DATE:20241207
DTEND;VALUE=DATE:20241208
DTSTAMP:20260421T005651
CREATED:20240930T160958Z
LAST-MODIFIED:20240930T160958Z
UID:7886-1733529600-1733615999@sotterley.org
SUMMARY:Winter Wonderland Wreathmaking Workshops
DESCRIPTION:December 7\, 2024 – Have you tried DIY holiday décor projects before\, but just couldn’t seem to pull it off? Great news\, the Sotterley Garden Guild is offering workshops on Saturday\, December 7th to share their expertise! Only 16 participants per session and each session is 1 1/2 hours long. \nVarious times throughout the day available for you to choose from: 8:30\, 10:30\, 1:00 & 3:00\nMake this Christmas event part of your family tradition! \nPlease Note: Bring your own gloves and clippers for the workshops – other materials to be provided. Workshops will be held in Historic Sotterley Maintenance Building. Guests are asked to arrive promptly for your workshop time and to proceed directly to the Maintenance Building across from the Visitor Center to check in. Visitors are encouraged to dress appropriately for the weather and to wear foot gear suitable for the conditions as the site is kept rustic\, although the workshop will be held indoors. \nIf you experience any trouble making your reservation for a workshop\, please call the office at 301-373-2280 (9 am – 5 pm\, Monday – Friday) and we will be happy to help. \n  \nReserve your seat here! 
URL:https://sotterley.org/event/winter-wonderland-wreathmaking-workshops/
LOCATION:Historic Sotterley\, 44300 Sotterley Lane\, Hollywood\, MD\, 20636\, United States
ATTACH;FMTTYPE=image/jpeg:https://sotterley.org/wp-content/uploads/2024/09/https___cdn.evbuc_.com_images_622386589_95046139087_1_original.jpg
END:VEVENT
END:VCALENDAR