BEGIN:VCALENDAR
VERSION:2.0
PRODID:-//Sotterley - ECPv6.15.17.1//NONSGML v1.0//EN
CALSCALE:GREGORIAN
METHOD:PUBLISH
X-ORIGINAL-URL:https://sotterley.org
X-WR-CALDESC:Events for Sotterley
REFRESH-INTERVAL;VALUE=DURATION:PT1H
X-Robots-Tag:noindex
X-PUBLISHED-TTL:PT1H
BEGIN:VTIMEZONE
TZID:America/New_York
BEGIN:DAYLIGHT
TZOFFSETFROM:-0500
TZOFFSETTO:-0400
TZNAME:EDT
DTSTART:20230312T070000
END:DAYLIGHT
BEGIN:STANDARD
TZOFFSETFROM:-0400
TZOFFSETTO:-0500
TZNAME:EST
DTSTART:20231105T060000
END:STANDARD
BEGIN:DAYLIGHT
TZOFFSETFROM:-0500
TZOFFSETTO:-0400
TZNAME:EDT
DTSTART:20240310T070000
END:DAYLIGHT
BEGIN:STANDARD
TZOFFSETFROM:-0400
TZOFFSETTO:-0500
TZNAME:EST
DTSTART:20241103T060000
END:STANDARD
BEGIN:DAYLIGHT
TZOFFSETFROM:-0500
TZOFFSETTO:-0400
TZNAME:EDT
DTSTART:20250309T070000
END:DAYLIGHT
BEGIN:STANDARD
TZOFFSETFROM:-0400
TZOFFSETTO:-0500
TZNAME:EST
DTSTART:20251102T060000
END:STANDARD
END:VTIMEZONE
BEGIN:VEVENT
DTSTART;VALUE=DATE:20240929
DTEND;VALUE=DATE:20241028
DTSTAMP:20260421T043305
CREATED:20240930T122603Z
LAST-MODIFIED:20240930T122612Z
UID:7880-1727568000-1730073599@sotterley.org
SUMMARY:Moments in Nature Art Exhibition
DESCRIPTION:September 29 to October 27\, 2024 – Come see Joi Lowe’s new art exhibition\, “Moments in Nature: Acknowledging spiritual connections to the landscape of Historic Sotterley”. The exhibit features artworks created by Joi using resources from Historic Sotterley\, as well as special contributions from artists Pamela Callen\, Mark Boneham\, and Damien Wilkinson. Joi’s exhibit aims to reflect her emotional and spiritual connection to Historic Sotterley’s complex history and to inspire viewers to engage with the past. \nThe exhibition will be open every Friday through Saturday in October. Please check in at the Visitor Center first to pay for your $5 grounds pass!
URL:https://sotterley.org/event/moments-in-nature-art-exhibition/
LOCATION:Historic Sotterley\, 44300 Sotterley Lane\, Hollywood\, MD\, 20636\, United States
END:VEVENT
BEGIN:VEVENT
DTSTART;TZID=America/New_York:20241001T190000
DTEND;TZID=America/New_York:20241001T203000
DTSTAMP:20260421T043305
CREATED:20240912T122531Z
LAST-MODIFIED:20240912T122550Z
UID:7854-1727809200-1727814600@sotterley.org
SUMMARY:The Civil Rights Act in Southern Maryland: Yesterday\, Today\, and for Tomorrow
DESCRIPTION:To commemorate the 60th anniversary of the Civil Rights Act and to coincide with Governor Wes Moore’s proclamation of 2024 as Maryland’s Year of Civil Rights\, the Center for the Study of Democracy\, Historic Sotterley\, St. Mary’s College of Maryland\, and Historic St. Mary’s City will host a panel discussion titled “The Civil Rights Act in Southern Maryland: Yesterday\, Today\, and for Tomorrow.” This program will feature distinguished panelists from academia\, law\, activist and advocacy circles and the museum studies community from the region to explore the legacy of the Civil Rights Act in Southern Maryland. We hope to stimulate dialogue\, enhance learning\, forge partnerships and promote civic engagement within the Southern Maryland community. \n\nThis event will take place in-person at St. Mary’s College of Maryland in the Nancy R. and Norton T. Dodge Performing Arts Center – Concert Hall\n47855 College Dr\, St Marys City\, MD 20686 \n\nThe panel will feature: \nMODERATOR:\nKelsey R. Bush\, Community Affairs Liasion for St. Mary’s College of Maryland. Mr. Bush is also the President of the Board of Directors for Walden Wise\, the Secretary for Historic Sotterley\, the Chair of the St. Mary’s County Human Relation Commission\, and a Founding Board member of the Foundation Board for the Patuxent River Test Museum. \nSPEAKERS:\nChuck Holden\, Professor at St. Mary’s College of Maryland since 1999. His books include: In the Great Maelstrom: Conservatives in Post-Civil War South Carolina (2002) and The New Southern University: Academic Freedom and Liberalism at UNC (2011). He is also a co-author on Republican Populist: Spiro Agnew and the Origin of Donald Trump’s America (2019). His op-eds have appeared in The Washington Post\, The Baltimore Sun\, The Charlotte Observer\, the Des Moines Register. and the History News Network. \nMichael Kent\,Historian. He began his career as an Historian by collecting his family’s oral histories and then expanded his research to include all of Calvert County’s Black history. He put that research in a book titled “Mulatto\, the Black history of Calvert County”. Michael served as a Lt. for the Judge Advocate General Corps of the U.S. Naval Reserves and as an Assistant State’s Attorney in Baltimore and Prince George’s Counties in Maryland. Michael was appointed by Governor O’Mally and Governor Hogan to serve on the Maryland Commission for African American History and culture. \nMaya Davis\, Director of the Riversdale House Museum\, the former 19th Century Plantation home in Prince George’s County. Ms. Davis\, representing Prince George’s County\, also serves as Chair of The Maryland Commission on African American History and Culture. She was also the Research Archivist and Legislative Liaison at the Maryland State Archives. Some of her recent projects include the Adam Francis Plummer Portrait Commission\, Installation of the Frederick Douglass and Harriet Tubman Statue at the Maryland State House\, Annapolis Port Marker project\, and the Harriet Tubman Underground Railroad National Park and Visitor Center. \nChief Mark Tayac\, 29th generation of hereditary chiefs of the Piscataway Indian Nation. Mark Tayac and the Piscataway Nation Singers & Dancers carry on the long-standing traditions\, culture and heritage of their Indigenous ancestors. From Tayac Territory\, (Port Tobacco\, MD)\, Mark Tayac travels with the Piscataway Nation Singers & Dancers presenting a colorful\, educational and entertaining pow wow-style campus event featuring American Indian Dance\, Drum & Song. Mark has worked tirelessly to ensure the recognition of the tribe in the state of Maryland and worked with federal authorities to repatriate material culture and human remains belonging to the Piscataway. \nDr. Janice Walthour\, a retired educator\, worked in St. Mary’s County Public Schools for 36 years as a teacher\, resource teacher\, assistant principal\, principal and coordinator of academic intervention programs. As a political activist\, she served as voter registration chair for the historic event of electing Joseph Lee Somerville\, Sheriff of St. Mary’s County. Dr. Walthour is past president and currently a member of the Unified Committee for Afro American Contributions (UCAC). Walthour has been awarded numerous citations for professional and community services. \n A pre-event reception with light refreshments will take place at 6 p.m. in the lobby of the Dodge PAC. \n\n\nRegistration information\n\nThe event is free and open to the public\, but tickets are required. \nRegister Here
URL:https://sotterley.org/event/the-civil-rights-act-in-southern-maryland-yesterday-today-and-for-tomorrow/
LOCATION:St. Mary’s College of Maryland Dodge Performing Arts Center\, 47855 College Dr\, St. Mary's City\, MD\, 20868\, United States
END:VEVENT
BEGIN:VEVENT
DTSTART;TZID=America/New_York:20241016T190000
DTEND;TZID=America/New_York:20241016T190000
DTSTAMP:20260421T043305
CREATED:20240731T161642Z
LAST-MODIFIED:20240920T192111Z
UID:7779-1729105200-1729105200@sotterley.org
SUMMARY:Sotterley Presents: People & Perspectives with Ralph Eshelman
DESCRIPTION:October 16\, 2024 – “It starts as a whisper near the four corners of Maryland\, where Montgomery\, Frederick\, Howard and Carroll counties converge. It’s little more than a meandering brook winding its way through farmland\, but when it completes its 110-mile journey to Southern Maryland\, the Patuxent River runs 120 feet deep\, reaches two miles wide and is the source of billions of dollars in industry\, research and recreation.” – The Calver Recorder\, June 7\, 2020 \n  \nRalph Eshelman\, specialist in maritime history\, joins us to discuss the Patuxent River and highlight some lesser-known facts about the longest river fully contained within Maryland. Smack dab in the middle of Earth Science Week\, this speaker event is perfect for learning about and appreciating one of our most important local resources. \n  \nThis event is FREE and hybrid\, meaning you can join us in-person or virtually. Registration is required.\nIn-person participants are welcome to join us for a pre-reception at 6:15 pm. \n  \nRegister to attend In-Person\nRegister to attend Virtually\n  \nDr. Ralph Eshelman is a distinguished specialist in maritime history\, particularly related to the Chesapeake Bay and the War of 1812\, as well as geology and vertebrate paleontology. He earned his Ph.D. in 1974 from the University of Michigan\, following earlier studies at SUNY Stony Brook and the University of Iowa. From 1975 to 2005\, he served as a Research Associate at the Smithsonian Institution’s National Museum of Natural History. Eshelman has held leadership roles in various professional and civic organizations\, including the Council of American Maritime Museums and The Nature Conservancy. His extensive research and fieldwork have taken him across continents and major global expeditions\, reflecting his broad expertise and active involvement in scientific and historical communities. \n  \nThis event is made possible in part by a sponsorship from:
URL:https://sotterley.org/event/sotterley-presents-people-perspectives-with-ralph-eshelman/
LOCATION:Historic Sotterley\, 44300 Sotterley Lane\, Hollywood\, MD\, 20636\, United States
ATTACH;FMTTYPE=image/png:https://sotterley.org/wp-content/uploads/2024/07/Wordpress-Featured-Image-Ralph-Eshelman-1.png
END:VEVENT
BEGIN:VEVENT
DTSTART;TZID=America/New_York:20241025T173000
DTEND;TZID=America/New_York:20241025T173000
DTSTAMP:20260421T043305
CREATED:20240516T174832Z
LAST-MODIFIED:20240522T124044Z
UID:7684-1729877400-1729877400@sotterley.org
SUMMARY:Legends\, Lore\, and More - Specialty Tour
DESCRIPTION:October 25\, 2024 – Just in time for Halloween – Pirates\, unmarked graves\, and ghosts-oh my! Join us for an evening tour with local historian Sam Baldwin exploring the grounds and learning more about the myths\, legends\, and lore of Sotterley! Don’t be surprised if along the way you discover that truth can be stranger than fiction. \nThe tour will be followed by a reception with wine\, nibbles\, and a Q&A. \nRecommended for ages 16 & older.  Walking and standing required.  The historic house is not ADA compliant. \nAdvance reservations required – please no walk-ins.  Tour is limited to 18 people. \nIt is advised to arrive approximately 15 minutes prior to your tour. Please proceed to the Warehouse to Check-in upon arrival. \n  \nPurchase Tickets Here
URL:https://sotterley.org/event/legends-lore-and-more-specialty-tour/
LOCATION:Historic Sotterley\, 44300 Sotterley Lane\, Hollywood\, MD\, 20636\, United States
ATTACH;FMTTYPE=image/png:https://sotterley.org/wp-content/uploads/2024/05/Wordpress-Featured-Image-Legends-Lore-and-More.png
END:VEVENT
BEGIN:VEVENT
DTSTART;TZID=America/New_York:20241026T170000
DTEND;TZID=America/New_York:20241026T170000
DTSTAMP:20260421T043305
CREATED:20240919T192708Z
LAST-MODIFIED:20240919T192708Z
UID:7858-1729962000-1729962000@sotterley.org
SUMMARY:Legends\, Lore\, and More - Specialty Tour
DESCRIPTION:October 26\, 2024 – Just in time for Halloween – Pirates\, unmarked graves\, and ghosts-oh my! Join us for an evening tour with local historian Sam Baldwin exploring the grounds and learning more about the myths\, legends\, and lore of Sotterley! Don’t be surprised if along the way you discover that truth can be stranger than fiction. \nThe tour will be followed by a reception with wine\, nibbles\, and a Q&A. \nRecommended for ages 16 & older.  Walking and standing required.  The historic house is not ADA compliant. \nAdvance reservations required – please no walk-ins.  Tour is limited to 18 people. \nIt is advised to arrive approximately 15 minutes prior to your tour. Please proceed to the Warehouse to Check-in upon arrival. \n  \nPurchase Tickets Here
URL:https://sotterley.org/event/legends-lore-and-more-specialty-tour-2/
LOCATION:Historic Sotterley\, 44300 Sotterley Lane\, Hollywood\, MD\, 20636\, United States
ATTACH;FMTTYPE=image/png:https://sotterley.org/wp-content/uploads/2024/09/Wordpress-Featured-Image-Legends-Lore-and-More-1.png
END:VEVENT
BEGIN:VEVENT
DTSTART;TZID=America/New_York:20241027T170000
DTEND;TZID=America/New_York:20241027T170000
DTSTAMP:20260421T043305
CREATED:20241009T204506Z
LAST-MODIFIED:20250604T174843Z
UID:7902-1730048400-1730048400@sotterley.org
SUMMARY:Legends\, Lore\, and More - Specialty Tour
DESCRIPTION:October 27\, 2024 – Just in time for Halloween – Pirates\, unmarked graves\, and ghosts-oh my! Join us for an evening tour with local historian Sam Baldwin exploring the grounds and learning more about the myths\, legends\, and lore of Sotterley! Don’t be surprised if along the way you discover that truth can be stranger than fiction. \nThe tour will be followed by a reception with wine\, nibbles\, and a Q&A. \nRecommended for ages 16 & older.  Walking and standing required.  The historic house is not ADA compliant. \nAdvance reservations required – please no walk-ins.  Tour is limited to 18 people. \nIt is advised to arrive approximately 15 minutes prior to your tour. Please proceed to the Warehouse to Check-in upon arrival. \n  \nPurchase Tickets Here
URL:https://sotterley.org/event/legends-lore-and-more-specialty-tour-3/
LOCATION:Historic Sotterley\, 44300 Sotterley Lane\, Hollywood\, MD\, 20636\, United States
ATTACH;FMTTYPE=image/png:https://sotterley.org/wp-content/uploads/2024/10/Wordpress-Featured-Image-Legends-Lore-and-More-2.png
END:VEVENT
END:VCALENDAR