BEGIN:VCALENDAR
VERSION:2.0
PRODID:-//Sotterley - ECPv6.15.17.1//NONSGML v1.0//EN
CALSCALE:GREGORIAN
METHOD:PUBLISH
X-ORIGINAL-URL:https://sotterley.org
X-WR-CALDESC:Events for Sotterley
REFRESH-INTERVAL;VALUE=DURATION:PT1H
X-Robots-Tag:noindex
X-PUBLISHED-TTL:PT1H
BEGIN:VTIMEZONE
TZID:America/New_York
BEGIN:DAYLIGHT
TZOFFSETFROM:-0500
TZOFFSETTO:-0400
TZNAME:EDT
DTSTART:20230312T070000
END:DAYLIGHT
BEGIN:STANDARD
TZOFFSETFROM:-0400
TZOFFSETTO:-0500
TZNAME:EST
DTSTART:20231105T060000
END:STANDARD
BEGIN:DAYLIGHT
TZOFFSETFROM:-0500
TZOFFSETTO:-0400
TZNAME:EDT
DTSTART:20240310T070000
END:DAYLIGHT
BEGIN:STANDARD
TZOFFSETFROM:-0400
TZOFFSETTO:-0500
TZNAME:EST
DTSTART:20241103T060000
END:STANDARD
BEGIN:DAYLIGHT
TZOFFSETFROM:-0500
TZOFFSETTO:-0400
TZNAME:EDT
DTSTART:20250309T070000
END:DAYLIGHT
BEGIN:STANDARD
TZOFFSETFROM:-0400
TZOFFSETTO:-0500
TZNAME:EST
DTSTART:20251102T060000
END:STANDARD
END:VTIMEZONE
BEGIN:VEVENT
DTSTART;TZID=America/New_York:20240406T090000
DTEND;TZID=America/New_York:20240406T120000
DTSTAMP:20260421T155958
CREATED:20240207T151950Z
LAST-MODIFIED:20240322T185812Z
UID:6915-1712394000-1712404800@sotterley.org
SUMMARY:Growing for Good Planting Day
DESCRIPTION:April 6\, 2024 – Ready to help Historic Sotterley usher in spring? We’re looking for volunteers who don’t mind getting dirty\, love gardening and farming\, and want to help their community to join us for our Growing for Good Planting Days! You will help us get our seeds planted so they can start growing in our Hoop House or cut and prep potatoes for planting in our fields. What we produce here at Historic Sotterley gets donated to our partners at local food banks and pantries to support community members in need. \n  \nWe’re hosting 3 planting days: March 23\, March 30\, and April 6. Planting will take place from 9:00 am to 12:00 pm. These planting dates are not weather dependent\, if the weather does not cooperate we can move indoors to continue planting while staying dry! Please sign up in advance so we can know how many volunteers to expect. \n  \nThis volunteer opportunity is family-friendly. Anyone 5 years and older is invited to help us plant\, and it’s a wonderful opportunity to teach little ones about where food comes from. This is also a great opportunity for Girl Scout or Boy Scout troops to get their volunteer requirements in. \n  \nPlan to arrive 15 minutes prior to the start time and check-in at the Farm Building to the right of the Visitor Center. We recommend hats\, gloves\, sunscreen\, bug spray\, and shoes and clothes you are not afraid to get dirty. \n  \nRegister to Volunteer Here!
URL:https://sotterley.org/event/growing-for-good-planting-day-3/
LOCATION:Historic Sotterley\, 44300 Sotterley Lane\, Hollywood\, MD\, 20636\, United States
ATTACH;FMTTYPE=image/png:https://sotterley.org/wp-content/uploads/2024/01/Copy-of-Wordpress-Featured-Image-Planting-Day-1.png
ORGANIZER;CN="Historic Sotterley":MAILTO:marketing@sotterley.org
END:VEVENT
BEGIN:VEVENT
DTSTART;TZID=America/New_York:20240410T190000
DTEND;TZID=America/New_York:20240410T190000
DTSTAMP:20260421T155958
CREATED:20240314T142641Z
LAST-MODIFIED:20240322T185812Z
UID:7303-1712775600-1712775600@sotterley.org
SUMMARY:Sotterley Presents: People & Perspectives with Jaelon Moaney\, Phoebe Tate\, Roderick Lewis\, and host Kelsey Bush
DESCRIPTION:April 10\, 2024 – Historic Sotterley will be proud to host a virtual moderated panel of exceptional young professionals to discuss the topic “How far have we come\, and where do we need to go?”. \n2024 has been proclaimed Maryland Year of Civil Rights as we commemorate the 60th anniversary of the signing of the 1964 Civil Rights Act. The Civil Rights Act was a milestone in American democracy and justice\, dismantling Jim Crow laws and paving a way for racial and gender equality\, but with all the progress made\, equality is still something that eludes many in our nation. \nTonight’s panel will discuss how they view the progress that has been made in the previous 60 years\, and the challenges that they feel we still see face today\, despite the effects of this groundbreaking legislation. Are there solutions for some of these challenges\, and if so\, are we up for making the changes necessary? \nThis is a free virtual event\, but registration is required \nRegister here\nJaelon T. Moaney is the deputy director of the Starr Center for the Study of the American at Washington College. He is an interdisciplinary visionary\, ruralist\, historic resource steward\, and civic change agent with deep roots in the Maryland Eastern Shore. As a descendant of founding Black families in Kent and Talbot counties\, he carries forward a legacy of resilience and innovation\, evidenced by his appointment by Gov. Wes Moore to the MD Commission on African American History & Culture. Jaelon’s commitment to producing scholarship centering life on\, and along\, Chesapeake Bay tributaries has garnered prestigious awards and recognition\, including the Sentinels of the Republic Prize in Government and the Gaius C. Bolin 1889 Prize in Africana Studies. With a decade of experience as a national leader in the preservation movement\, he has successfully advocated for legislative measures such as the designation of the Southern Maryland National Heritage Area. Additionally\, Jaelon actively invests in future generations through his involvement with educational initiatives like The Needle’s Eye Academy and serving on various boards including the Williams-Mystic Alumni Council and the Talbot County Public Schools Education Foundation. \nPhoebe Tate is a Senior at St. Mary’s College of Maryland\, where she majors in English with a minor in Educational Studies. Fueled by her passion for Language Arts\, she is dedicated to fostering a love for learning in others. Phoebe is currently pursuing her Bachelor’s degree in English with the goal of obtaining a Master’s in Teaching. Outside of class\, she immerses herself in reading\, design\, sketching\, creative writing\, and exploring various subjects including English\, Science\, Math\, and History. Her internship at Historic Sotterley over the summer has deepened her lifelong interest in inclusive history\, and she is currently focused on her St. Mary’s Project\, which involves adapting Slave Narratives into a graphic novel. Phoebe finds immense joy in conducting research for her project and sharing the rich history of the site with others. \nRoderick Lewis is currently Senator Ben Cardin’s Prince George’s County and Southern Maryland Field Representative. In 2019\, he graduated from St. Mary’s College of Maryland with a BA in Political Science. While in high school and college\, he worked on local campaigns\, including for Delegate John Bohanan\, and has been active in the St. Mary’s County NAACP Chapter. Roderick also interned in Congressman Hoyer’s District office and was a legislative intern in Annapolis for St. Mary’s College through the 2018 General Assembly session. He has served on the St. Mary’s County Democratic Central Committee and currently serves on the Charles County Democratic Central Committee.  After graduation\, Roderick worked in the St. Mary’s College Admissions Office and helped recruit future Seahawks during the challenging pandemic cycle. Today\, Roderick resides in Waldorf\, Maryland with his husband Ivan their two cats\, Laura and Scrappy\, and their dog Bentley. \nKelsey R.M. Bush\, hailing from Lexington Park in St. Mary’s County\, Maryland\, boasts a diverse academic and professional background. With a Bachelor of Arts from St. Mary’s College of Maryland in Political Science and Sociology/Anthropology\, as well as a Juris Doctorate from the University of Maryland Francis King Carey School of Law\, Bush currently serves as the Community Affairs Liaison for St. Mary’s College. Prior to this role\, he held positions such as Interim Chief Diversity Officer at the college and spent two decades working in various capacities for St. Mary’s County Government\, focusing on youth-related initiatives\, grant monitoring\, and collaboration on community issues. Bush’s extensive involvement includes appointments to the Historic St. Mary’s Commission and the Maryland Commission for African American History and Culture\, along with membership in numerous boards and committees dedicated to youth\, family\, and historical preservation efforts. Residing in California\, Maryland\, with his family\, Bush remains deeply committed to enhancing the quality of life and fostering inclusivity in his community.
URL:https://sotterley.org/event/sotterley-presents-people-perspectives-with-jaelon-moaney-phoebe-tate-roderick-lewis-and-host-kelsey-bush/
LOCATION:Virtual
ATTACH;FMTTYPE=image/png:https://sotterley.org/wp-content/uploads/2024/03/Copy-of-Copy-of-Wordpress-Featured-Image-April-Panel.png
END:VEVENT
BEGIN:VEVENT
DTSTART;TZID=America/New_York:20240420T080000
DTEND;TZID=America/New_York:20240420T110000
DTSTAMP:20260421T155958
CREATED:20240223T173745Z
LAST-MODIFIED:20240322T185812Z
UID:7076-1713600000-1713610800@sotterley.org
SUMMARY:What's Soaring at Sotterley Birdwalk
DESCRIPTION:April 20\, 2024 – Historic Sotterley and Southern Maryland Audobon Society are joining in partnership to bring you this FREE Event being led by Dean Newman\, Director of the Southern Maryland Audobon Society. \nCelebrate Earth Day with a bird walk at this scenic and historic Patuxent River property as the annual surge of migrating birds begins throughout St. Mary’s County. Nesting Bald Eagles\, migrating warblers\, meadowlarks\, woodpeckers and waterfowl can all be found via Sotterley’s farm roads and trails. \nThe walk starts promptly at 8:00 am\, please arrive 10-15 minutes prior in the parking lot in front of the Visitor Center. Please bring binoculars and a field guide (don’t worry if you don’t have). Suggested to wear comfortable walking shoes and attire weather appropriate. For all levels of birdwatchers. \n  \nRegister Here
URL:https://sotterley.org/event/whats-soaring-at-sotterley-birdwalk/
LOCATION:Historic Sotterley\, 44300 Sotterley Lane\, Hollywood\, MD\, 20636\, United States
ATTACH;FMTTYPE=image/png:https://sotterley.org/wp-content/uploads/2024/02/Wordpress-Featured-Image-Whats-Soaring-at-Sotterley.png
ORGANIZER;CN="Historic Sotterley":MAILTO:marketing@sotterley.org
END:VEVENT
BEGIN:VEVENT
DTSTART;TZID=America/New_York:20240427T090000
DTEND;TZID=America/New_York:20240427T140000
DTSTAMP:20260421T155958
CREATED:20240312T132939Z
LAST-MODIFIED:20240322T185812Z
UID:7279-1714208400-1714226400@sotterley.org
SUMMARY:Garden Guild Plant Sale
DESCRIPTION:From nurturing and maintaining our exquisite Colonial Revival Gardens – to giving fun and informative workshops\, and bringing extra flair and beauty to the site. The Sotterley Garden Guild are dedicated volunteers who do so much! Please stop by\, support\, and shop at their Annual Plant Sale! \nHere is your chance to buy plants lovingly nurtured by the Sotterley gardeners. Have questions? Members of the Garden Guild will be on hand with the answers and to share advice. The funds raised by this all-volunteer group of gardening enthusiasts are used to maintain the beautiful Colonial Revival Garden. It is in the gardens that their labors and their love of gardening is displayed so majestically. \nTo come and browse the plant selection is free. A cost is only involved if you choose to purchase plants or other items. \nPLANT SALE: \nSaturday\, April 27 – 9:00 am to 2:00 pm \nSunday\, April 28 – 12:00 pm to 3:00 pm
URL:https://sotterley.org/event/garden-guild-plant-sale-6/
LOCATION:Historic Sotterley\, 44300 Sotterley Lane\, Hollywood\, MD\, 20636\, United States
ATTACH;FMTTYPE=image/png:https://sotterley.org/wp-content/uploads/2024/03/Wordpress-Featured-Image-Plant-Sale.png
END:VEVENT
BEGIN:VEVENT
DTSTART;TZID=America/New_York:20240428T120000
DTEND;TZID=America/New_York:20240428T150000
DTSTAMP:20260421T155958
CREATED:20240312T133232Z
LAST-MODIFIED:20240322T185811Z
UID:7282-1714305600-1714316400@sotterley.org
SUMMARY:Garden Guild Plant Sale
DESCRIPTION:From nurturing and maintaining our exquisite Colonial Revival Gardens – to giving fun and informative workshops\, and bringing extra flair and beauty to the site. The Sotterley Garden Guild are dedicated volunteers who do so much! Please stop by\, support\, and shop at their Annual Plant Sale! \nHere is your chance to buy plants lovingly nurtured by the Sotterley gardeners. Have questions? Members of the Garden Guild will be on hand with the answers and to share advice. The funds raised by this all-volunteer group of gardening enthusiasts are used to maintain the beautiful Colonial Revival Garden. It is in the gardens that their labors and their love of gardening is displayed so majestically. \nTo come and browse the plant selection is free. A cost is only involved if you choose to purchase plants or other items. \nPLANT SALE: \nSaturday\, April 27 – 9:00 am to 2:00 pm \nSunday\, April 28 – 12:00 pm to 3:00 pm
URL:https://sotterley.org/event/garden-guild-plant-sale-7/
LOCATION:Historic Sotterley\, 44300 Sotterley Lane\, Hollywood\, MD\, 20636\, United States
ATTACH;FMTTYPE=image/png:https://sotterley.org/wp-content/uploads/2024/03/Wordpress-Featured-Image-Plant-Sale.png
END:VEVENT
END:VCALENDAR