BEGIN:VCALENDAR
VERSION:2.0
PRODID:-//Sotterley - ECPv6.15.17.1//NONSGML v1.0//EN
CALSCALE:GREGORIAN
METHOD:PUBLISH
X-ORIGINAL-URL:https://sotterley.org
X-WR-CALDESC:Events for Sotterley
REFRESH-INTERVAL;VALUE=DURATION:PT1H
X-Robots-Tag:noindex
X-PUBLISHED-TTL:PT1H
BEGIN:VTIMEZONE
TZID:America/New_York
BEGIN:DAYLIGHT
TZOFFSETFROM:-0500
TZOFFSETTO:-0400
TZNAME:EDT
DTSTART:20230312T070000
END:DAYLIGHT
BEGIN:STANDARD
TZOFFSETFROM:-0400
TZOFFSETTO:-0500
TZNAME:EST
DTSTART:20231105T060000
END:STANDARD
BEGIN:DAYLIGHT
TZOFFSETFROM:-0500
TZOFFSETTO:-0400
TZNAME:EDT
DTSTART:20240310T070000
END:DAYLIGHT
BEGIN:STANDARD
TZOFFSETFROM:-0400
TZOFFSETTO:-0500
TZNAME:EST
DTSTART:20241103T060000
END:STANDARD
BEGIN:DAYLIGHT
TZOFFSETFROM:-0500
TZOFFSETTO:-0400
TZNAME:EDT
DTSTART:20250309T070000
END:DAYLIGHT
BEGIN:STANDARD
TZOFFSETFROM:-0400
TZOFFSETTO:-0500
TZNAME:EST
DTSTART:20251102T060000
END:STANDARD
END:VTIMEZONE
BEGIN:VEVENT
DTSTART;TZID=America/New_York:20240211T090000
DTEND;TZID=America/New_York:20240211T130000
DTSTAMP:20260421T155958
CREATED:20240116T153345Z
LAST-MODIFIED:20240322T185814Z
UID:6826-1707642000-1707656400@sotterley.org
SUMMARY:AeroPark Farmer's Market
DESCRIPTION:February 11\, 2024\, 9:00 am – 1:00 pm – Historic Sotterley is sponsoring the AeroPark Farmer’s Market\, but you don’t need a plane to visit! Drive\, bike\, or walk in to get fresh goods and produce. All businesses selling at our Airport Farmer’s Market are local small businesses that sell products that they have grown or produced themselves. When you shop local\, up to 68% of the money you spend stays in the community\, so come help support the wonderful entrepreneurs that make Maryland unique. The market runs from 9am – 1pm and is located indoors so you can enjoy watching the planes go by while shopping rain or shine! \nSotterley is sponsoring this unique market at the Airport Terminal building located at 44200 Airport Road\, California\, Maryland. Located in St. Mary’s County\, the airport is about four miles northeast of the central business district of Leonardtown. \n  \nVendors:  (Subject to change before market date) \n\n\nFree State Ciders\nOlivin’s Oils & Vinegar\nIntoxi-cake-tion\nZekiah Farms\nOlga’s Treats\nUnforgoatable Goods\nDixon Family Farm\nBoon Doggie Farm\nBeez Kneez Ice Cream\nAchterberg Acres Farm\nThe Garden (Mushrooms) \nBlack Pointe – Chocolatier\nBeachin Bay Bakery\nJuice Buzz\nMuzzy’s Wine Jelly\nSotterley (Growing for Good) sweet potatoes\nBird Dog Bistro (hot food & coffee)\nMia Moore\nTobacco Barn Distillery\nCoastal Canyon Seafood (Fresh Fish)
URL:https://sotterley.org/event/aeropark-farmers-market-16/
LOCATION:SMC Regional Airport
ATTACH;FMTTYPE=image/png:https://sotterley.org/wp-content/uploads/2024/01/Wordpress-Featured-Image-AeroPark-Farmers-Market.png
END:VEVENT
END:VCALENDAR