BEGIN:VCALENDAR
VERSION:2.0
PRODID:-//Sotterley - ECPv6.15.17.1//NONSGML v1.0//EN
CALSCALE:GREGORIAN
METHOD:PUBLISH
X-ORIGINAL-URL:https://sotterley.org
X-WR-CALDESC:Events for Sotterley
REFRESH-INTERVAL;VALUE=DURATION:PT1H
X-Robots-Tag:noindex
X-PUBLISHED-TTL:PT1H
BEGIN:VTIMEZONE
TZID:America/New_York
BEGIN:DAYLIGHT
TZOFFSETFROM:-0500
TZOFFSETTO:-0400
TZNAME:EDT
DTSTART:20220313T070000
END:DAYLIGHT
BEGIN:STANDARD
TZOFFSETFROM:-0400
TZOFFSETTO:-0500
TZNAME:EST
DTSTART:20221106T060000
END:STANDARD
BEGIN:DAYLIGHT
TZOFFSETFROM:-0500
TZOFFSETTO:-0400
TZNAME:EDT
DTSTART:20230312T070000
END:DAYLIGHT
BEGIN:STANDARD
TZOFFSETFROM:-0400
TZOFFSETTO:-0500
TZNAME:EST
DTSTART:20231105T060000
END:STANDARD
BEGIN:DAYLIGHT
TZOFFSETFROM:-0500
TZOFFSETTO:-0400
TZNAME:EDT
DTSTART:20240310T070000
END:DAYLIGHT
BEGIN:STANDARD
TZOFFSETFROM:-0400
TZOFFSETTO:-0500
TZNAME:EST
DTSTART:20241103T060000
END:STANDARD
END:VTIMEZONE
BEGIN:VEVENT
DTSTART;TZID=America/New_York:20231202T083000
DTEND;TZID=America/New_York:20231202T150000
DTSTAMP:20260421T173946
CREATED:20231011T194005Z
LAST-MODIFIED:20240322T185814Z
UID:6667-1701505800-1701529200@sotterley.org
SUMMARY:Winter Wonderland Wreath Making Workshop
DESCRIPTION:Various times throughout the day available for you to choose from: 8:30\, 10:30\, 1:00 & 3:00\nHave you tried DIY holiday décor projects before\, but just couldn’t seem to pull it off? Great news\, the Sotterley Garden Guild is offering workshops on Saturday\, December 3rd to share their expertise! Only 16 participants per session and each session is 1 1/2 hours long. \nMake this Christmas event part of your family tradition! \nPlease Note: Bring your own gloves and clippers for the workshops – other materials to be provided. Workshops will be held in Historic Sotterley Maintenance Building. Guests are asked to arrive promptly for your workshop time and to proceed directly to the Maintenance Building across from the Visitor Center to check in. Visitors are encouraged to dress appropriately for the weather and to wear foot gear suitable for the conditions as the site is kept rustic\, although the workshop will be held indoors. \nIf you experience any trouble making your reservation for a workshop\, please call the office at 301-373-2280 (9 am – 5 pm\, Monday – Friday) and we will be happy to help. \n  \nReserve your seat here! 
URL:https://sotterley.org/event/winter-wonderland-workshop/
LOCATION:Historic Sotterley\, 44300 Sotterley Lane\, Hollywood\, MD\, 20636\, United States
END:VEVENT
BEGIN:VEVENT
DTSTART;TZID=America/New_York:20231217T090000
DTEND;TZID=America/New_York:20231217T130000
DTSTAMP:20260421T173946
CREATED:20230123T160525Z
LAST-MODIFIED:20240322T185814Z
UID:6153-1702803600-1702818000@sotterley.org
SUMMARY:AeroPark Farmer's Market
DESCRIPTION:Historic Sotterley is sponsoring the AeroPark Farmer’s Market\, but you don’t need a plane to visit! Drive\, bike\, or walk in to get fresh goods and produce. All businesses selling at our Airport Farmer’s Market are local small businesses that sell products that they have grown or produced themselves. When you shop local\, up to 68% of the money you spend stays in the community\, so come help support the wonderful entrepreneurs that make Maryland unique. The market runs from 9am – 1pm and is located indoors so you can enjoy watching the planes go by while shopping rain or shine! \nSotterley is sponsoring this unique market at the Airport Terminal building located at 44200 Airport Road\, California\, Maryland. Located in St. Mary’s County\, the airport is about four miles northeast of the central business district of Leonardtown. \n  \nVendors:  \nTBD
URL:https://sotterley.org/event/aeropark-farmers-market-15/
LOCATION:SMC Regional Airport
ORGANIZER;CN="Historic Sotterley":MAILTO:marketing@sotterley.org
END:VEVENT
END:VCALENDAR