BEGIN:VCALENDAR
VERSION:2.0
PRODID:-//Sotterley - ECPv6.15.17.1//NONSGML v1.0//EN
CALSCALE:GREGORIAN
METHOD:PUBLISH
X-ORIGINAL-URL:https://sotterley.org
X-WR-CALDESC:Events for Sotterley
REFRESH-INTERVAL;VALUE=DURATION:PT1H
X-Robots-Tag:noindex
X-PUBLISHED-TTL:PT1H
BEGIN:VTIMEZONE
TZID:America/New_York
BEGIN:DAYLIGHT
TZOFFSETFROM:-0500
TZOFFSETTO:-0400
TZNAME:EDT
DTSTART:20220313T070000
END:DAYLIGHT
BEGIN:STANDARD
TZOFFSETFROM:-0400
TZOFFSETTO:-0500
TZNAME:EST
DTSTART:20221106T060000
END:STANDARD
BEGIN:DAYLIGHT
TZOFFSETFROM:-0500
TZOFFSETTO:-0400
TZNAME:EDT
DTSTART:20230312T070000
END:DAYLIGHT
BEGIN:STANDARD
TZOFFSETFROM:-0400
TZOFFSETTO:-0500
TZNAME:EST
DTSTART:20231105T060000
END:STANDARD
BEGIN:DAYLIGHT
TZOFFSETFROM:-0500
TZOFFSETTO:-0400
TZNAME:EDT
DTSTART:20240310T070000
END:DAYLIGHT
BEGIN:STANDARD
TZOFFSETFROM:-0400
TZOFFSETTO:-0500
TZNAME:EST
DTSTART:20241103T060000
END:STANDARD
END:VTIMEZONE
BEGIN:VEVENT
DTSTART;TZID=America/New_York:20230715T100000
DTEND;TZID=America/New_York:20230715T130000
DTSTAMP:20260421T234705
CREATED:20230321T195650Z
LAST-MODIFIED:20240322T190040Z
UID:6257-1689415200-1689426000@sotterley.org
SUMMARY:Scales & Tails Program
DESCRIPTION:Join us on site for family fun this summer with a Scales & Tails event! This event is being brought to us by Samantha Warby from the Maryland Department of Natural Resources to introduce our visitors to some of the wild and wonderful creatures that live right in our back yards. Learn about all friends scaley and their incredibly important roles in our environment! \n  \nThe program will be open to everyone that visits us between 10am and 1pm and is included in our $5 per person grounds fee.
URL:https://sotterley.org/event/scales-tails-program/
LOCATION:Historic Sotterley\, 44300 Sotterley Lane\, Hollywood\, MD\, 20636\, United States
END:VEVENT
BEGIN:VEVENT
DTSTART;TZID=America/New_York:20230716T090000
DTEND;TZID=America/New_York:20230716T130000
DTSTAMP:20260421T234705
CREATED:20230123T160144Z
LAST-MODIFIED:20240322T190040Z
UID:6143-1689498000-1689512400@sotterley.org
SUMMARY:AeroPark Farmer's Market
DESCRIPTION:Historic Sotterley is sponsoring the AeroPark Farmer’s Market\, but you don’t need a plane to visit! Drive\, bike\, or walk in to get fresh goods and produce. All businesses selling at our Airport Farmer’s Market are local small businesses that sell products that they have grown or produced themselves. When you shop local\, up to 68% of the money you spend stays in the community\, so come help support the wonderful entrepreneurs that make Maryland unique. The market runs from 9am – 1pm and is located indoors so you can enjoy watching the planes go by while shopping rain or shine! \nSotterley is sponsoring this unique market at the Airport Terminal building located at 44200 Airport Road\, California\, Maryland. Located in St. Mary’s County\, the airport is about four miles northeast of the central business district of Leonardtown. \n  \nVendors:  \n\nFree State Ciders\nOlivin’s Oils & Vinegar\nMully’s Brewery\nIntoxi-cake-tion\nZekiah Farms\nOlga’s Treats\nUnforgoatable Goods\nDixon Family Farm\nBoon Doggie Farm\nBeez Kneez Ice Cream\nAchterberg Acres Farm\nThe Garden (Mushrooms)\nBlack Pointe – Chocolatier\nBeachin Bay Bakery\nJuice Buzz\nMuzzy’s Wine Jelly\nSotterley (Growing for Good) sweet potatoes\nBird Dog Bistro (hot food & coffee)\nMia Moore\nTobacco Barn Distillery
URL:https://sotterley.org/event/aeropark-farmers-market-10/
LOCATION:SMC Regional Airport
ORGANIZER;CN="Historic Sotterley":MAILTO:marketing@sotterley.org
END:VEVENT
BEGIN:VEVENT
DTSTART;TZID=America/New_York:20230719T190000
DTEND;TZID=America/New_York:20230719T190000
DTSTAMP:20260421T234705
CREATED:20230424T191430Z
LAST-MODIFIED:20240322T190040Z
UID:6315-1689793200-1689793200@sotterley.org
SUMMARY:Sotterley Presents: People and Perspectives with Richard Bell
DESCRIPTION:Join us for a talk with Dr. Richard Bell\, the author of Stolen\, a new book that tells the incredible story of five boys whose courage forever changed the fight against slavery in America. \n​​​​​​​Philadelphia\, 1825: five young\, free black boys fall into the clutches of the most fearsome gang of kidnappers and slavers in the United States. Lured onto a small ship with the promise of food and pay\, they are instead met with blindfolds\, ropes\, and knives. Over four long months\, their kidnappers drive them overland into the Cotton Kingdom to be sold as slaves. Determined to resist\, the boys form a tight brotherhood as they struggle to free themselves and find their way home. \nTheir ordeal—an odyssey that takes them from the Philadelphia waterfront to the marshes of Mississippi and then onward still—shines a glaring spotlight on the Reverse Underground Railroad\, a black market network of human traffickers and slave traders who stole away thousands of legally free African Americans from their families in order to fuel slavery’s rapid expansion in the decades before the Civil War.\n​​​​​​​\n​​​​​​​Richard Bell is Professor of History at the University of Maryland and author of the book Stolen: Five Free Boys Kidnapped into Slavery and their Astonishing Odyssey Home which was a finalist for the George Washington Prize and the Harriet Tubman Prize. He has held major research fellowships at Yale\, Cambridge\, and the Library of Congress and is the recipient of the National Endowment of the Humanities Public Scholar award and the 2021 Andrew Carnegie Fellowship. He serves as a Trustee of the Maryland Center for History and Culture and as a fellow of the Royal Historical Society. \nThis event is HYBRID\, meaning it is available both in person or online. You can register for EITHER in-person or virtual attendance: \n  \nRegister For In-Person Attendance Here!\nRegister for Virtual Attendance Here! 
URL:https://sotterley.org/event/sotterley-presents-people-and-perspectives-with-richard-bell/
LOCATION:Historic Sotterley\, 44300 Sotterley Lane\, Hollywood\, MD\, 20636\, United States
ATTACH;FMTTYPE=image/png:https://sotterley.org/wp-content/uploads/2023/04/People-and-Perspectives-Richard-Bell-1.png
ORGANIZER;CN="Historic Sotterley":MAILTO:marketing@sotterley.org
END:VEVENT
END:VCALENDAR