BEGIN:VCALENDAR
VERSION:2.0
PRODID:-//Sotterley - ECPv6.15.17.1//NONSGML v1.0//EN
CALSCALE:GREGORIAN
METHOD:PUBLISH
X-ORIGINAL-URL:https://sotterley.org
X-WR-CALDESC:Events for Sotterley
REFRESH-INTERVAL;VALUE=DURATION:PT1H
X-Robots-Tag:noindex
X-PUBLISHED-TTL:PT1H
BEGIN:VTIMEZONE
TZID:America/New_York
BEGIN:DAYLIGHT
TZOFFSETFROM:-0500
TZOFFSETTO:-0400
TZNAME:EDT
DTSTART:20220313T070000
END:DAYLIGHT
BEGIN:STANDARD
TZOFFSETFROM:-0400
TZOFFSETTO:-0500
TZNAME:EST
DTSTART:20221106T060000
END:STANDARD
BEGIN:DAYLIGHT
TZOFFSETFROM:-0500
TZOFFSETTO:-0400
TZNAME:EDT
DTSTART:20230312T070000
END:DAYLIGHT
BEGIN:STANDARD
TZOFFSETFROM:-0400
TZOFFSETTO:-0500
TZNAME:EST
DTSTART:20231105T060000
END:STANDARD
BEGIN:DAYLIGHT
TZOFFSETFROM:-0500
TZOFFSETTO:-0400
TZNAME:EDT
DTSTART:20240310T070000
END:DAYLIGHT
BEGIN:STANDARD
TZOFFSETFROM:-0400
TZOFFSETTO:-0500
TZNAME:EST
DTSTART:20241103T060000
END:STANDARD
END:VTIMEZONE
BEGIN:VEVENT
DTSTART;TZID=America/New_York:20230506T090000
DTEND;TZID=America/New_York:20230506T100000
DTSTAMP:20260422T021036
CREATED:20230503T172409Z
LAST-MODIFIED:20240322T190425Z
UID:6330-1683363600-1683367200@sotterley.org
SUMMARY:Heritage Healing Prayer Circle
DESCRIPTION:Join us on Saturday\, May 6th\, at 9:00 a.m. as we come together to pray for all Descendants’ journeys to understand and connect with their ancestors at historic sites\, and to honor their ancestors’ memories and learn from their experiences.  This event seeks to release the pain of past wounds\, aid in forgiveness\, and provide inspiration to move forward with courage while exploring the lives\, traditions\, of those who lived on the land before us. \nWe are holding this prayer circle at the beginning of our guided tour season to honor the memory of those who came to Historic Sotterley during the middle passage and remember the lives of those who perished on the journey. This event is free and open to the public\, but if you’d like to stay and purchase a guided or self-guided tour of Sotterley after the event\, you are welcome to do so at the Visitor Center.\n \nHistoric Sotterley is proud to be a UNESCO Site of Memory for the Routes of the Enslaved\, Middle Passage Port Marker’s Project Site\, and a partner in the Return Passage Initiative.
URL:https://sotterley.org/event/heritage-healing-prayer-circle/
LOCATION:Historic Sotterley\, 44300 Sotterley Lane\, Hollywood\, MD\, 20636\, United States
ORGANIZER;CN="Historic Sotterley":MAILTO:marketing@sotterley.org
END:VEVENT
BEGIN:VEVENT
DTSTART;VALUE=DATE:20230514
DTEND;VALUE=DATE:20230515
DTSTAMP:20260422T021037
CREATED:20230503T120945Z
LAST-MODIFIED:20240322T190424Z
UID:6327-1684022400-1684108799@sotterley.org
SUMMARY:Half-Priced Specialty Tours for Mother's Day
DESCRIPTION:Looking to spend time with your mom this Mother’s Day? Spend the day at Historic Sotterley! \nHistoric Sotterley will be hosting “Women of Sotterley” specialty tours on Sunday\, May 14\, in honor of Mother’s Day. Tours will be offered at half-price so you can spend quality time together without breaking the bank. As always\, members can enjoy the tour for free! \nTours will run hourly from 12:00 – 4:00pm (12:00\, 1:00\, 2:00 and 3:00pm inclusive). Tickets can be purchased at Sotterley’s Visitor Center on the day of the tour or reserved in advance by calling Sotterley’s office at 301-373-2280. \nHistoric Sotterley’s guided tours allow visitors an intimate perspective of the lives and cultures of those that owned\, lived\, and worked in the historic Manor House\, enslaved or free\, over three centuries of American history. This specialty tour will focus on the women of Sotterley\, from Rebecca Bowles\, the second wife of Sotterley’s first owner\, to Ruth Barber\, one of Sotterley’s last residents. Visitors will learn about how these women influenced Sotterley’s history and set the course for its future. \nThe tour is on the ground floor spaces and is approximately 45-60 minutes in length. The 18th Century Manor House doorways may not accommodate all wheelchairs or walkers in some rooms of the house. Please call in advance for full access details. \nAfter the tour\, Sotterley offers a museum gift shop\, beautiful trails\, expansive gardens\, access to a quiet creek\, and additional exhibits to explore and learn from. Tour attendees are welcome to bring a picnic and enjoy all that the grounds have to offer with their mom. Historic Sotterley is a “Leave No Trace” site\, so please be prepared to pack out any trash and leftover food when you leave.
URL:https://sotterley.org/event/half-priced-guided-tours-for-mothers-day/
LOCATION:Historic Sotterley\, 44300 Sotterley Lane\, Hollywood\, MD\, 20636\, United States
ORGANIZER;CN="Historic Sotterley":MAILTO:marketing@sotterley.org
END:VEVENT
BEGIN:VEVENT
DTSTART;TZID=America/New_York:20230521T090000
DTEND;TZID=America/New_York:20230521T130000
DTSTAMP:20260422T021037
CREATED:20230123T160044Z
LAST-MODIFIED:20240322T190424Z
UID:6139-1684659600-1684674000@sotterley.org
SUMMARY:AeroPark Farmer's Market
DESCRIPTION:Historic Sotterley is sponsoring the AeroPark Farmer’s Market\, but you don’t need a plane to visit! Drive\, bike\, or walk in to get fresh goods and produce. All businesses selling at our Airport Farmer’s Market are local small businesses that sell products that they have grown or produced themselves. When you shop local\, up to 68% of the money you spend stays in the community\, so come help support the wonderful entrepreneurs that make Maryland unique. The market runs from 9am – 1pm and is located indoors so you can enjoy watching the planes go by while shopping rain or shine! \nSotterley is sponsoring this unique market at the Airport Terminal building located at 44200 Airport Road\, California\, Maryland. Located in St. Mary’s County\, the airport is about four miles northeast of the central business district of Leonardtown. \n  \nVendors:  \n\nFree State Ciders\nOlivin’s Oils & Vinegar\nMully’s Brewery\nIntoxi-cake-tion\nZekiah Farms\nOlga’s Treats\nUnforgoatable Goods\nDixon Family Farm\nBoon Doggie Farm\nBeez Kneez Ice Cream\nAchterberg Acres Farm\nThe Garden (Mushrooms)\nBlack Pointe Chocolatier\nBeachin Bay Bakery\nJuice Buzz\nMuzzy’s Wine Jelly\nHistoric Sotterley (Growing for Good)\nBird Dog Bistro (Food & Coffee)
URL:https://sotterley.org/event/aeropark-farmers-market-8/
LOCATION:SMC Regional Airport
ORGANIZER;CN="Historic Sotterley":MAILTO:marketing@sotterley.org
END:VEVENT
BEGIN:VEVENT
DTSTART;TZID=America/New_York:20230524T190000
DTEND;TZID=America/New_York:20230524T190000
DTSTAMP:20260422T021037
CREATED:20230424T151545Z
LAST-MODIFIED:20240322T190424Z
UID:6309-1684954800-1684954800@sotterley.org
SUMMARY:Sotterley Presents: People and Perspectives with Imani Black
DESCRIPTION:Our next installment of Sotterley Presents: People and Perspectives will take place virtually on May 24th. The seafood industry has rapidly grown over the last few decades\, while natural seafood resources have slowly decreased. Imani Black\, founder of Minorities in Aquaculture\, will explore the opportunities presented by aquaculture\, farming seafood like oysters in a sustainable way. \nImani Black was born and raised on the Eastern Shore of Maryland in Chestertown. She has always had a passion for restoration and conservation since she was a young girl and found great interest in the rapidly growing shellfish aquaculture industry\, after completing an aquaculture training program at Virginia Institute of Marine Science in 2016. Since then\, Imani has worked on oyster farms\, nurseries and hatcheries along the Eastern Shore of Virginia and Maryland. From 2018 to 2020\, she was the Assistant Hatchery Manager for Hoopers Island Oyster Company\, having the opportunity to work in all aspects of shellfish growout. \nThrough her love for her career\, Imani founded Minorities In Aquaculture\, a nonprofit organization that strives to empower and support women of color in the aquaculture industry by educating women of traditional watermen legacy and heritage in coastal communities while providing opportunities such as paid internship\, technical skills training and career development resources in the new wave of commercial fisheries. In addition to developing the nonprofit\, Imani is also pursuing a Master’s degree at the University of Maryland’s Center for Environmental Science researching the historical minority engagement in commercial fisheries in the Chesapeake Bay. \n  \nRegister Here!
URL:https://sotterley.org/event/sotterley-presents-people-and-perspectives-with-imani-black/
LOCATION:Virtual
ATTACH;FMTTYPE=image/png:https://sotterley.org/wp-content/uploads/2023/04/People-and-Perspectives-Imani.png
ORGANIZER;CN="Historic Sotterley":MAILTO:marketing@sotterley.org
END:VEVENT
END:VCALENDAR