BEGIN:VCALENDAR
VERSION:2.0
PRODID:-//Sotterley - ECPv6.15.17.1//NONSGML v1.0//EN
CALSCALE:GREGORIAN
METHOD:PUBLISH
X-WR-CALNAME:Sotterley
X-ORIGINAL-URL:https://sotterley.org
X-WR-CALDESC:Events for Sotterley
REFRESH-INTERVAL;VALUE=DURATION:PT1H
X-Robots-Tag:noindex
X-PUBLISHED-TTL:PT1H
BEGIN:VTIMEZONE
TZID:America/New_York
BEGIN:DAYLIGHT
TZOFFSETFROM:-0500
TZOFFSETTO:-0400
TZNAME:EDT
DTSTART:20220313T070000
END:DAYLIGHT
BEGIN:STANDARD
TZOFFSETFROM:-0400
TZOFFSETTO:-0500
TZNAME:EST
DTSTART:20221106T060000
END:STANDARD
BEGIN:DAYLIGHT
TZOFFSETFROM:-0500
TZOFFSETTO:-0400
TZNAME:EDT
DTSTART:20230312T070000
END:DAYLIGHT
BEGIN:STANDARD
TZOFFSETFROM:-0400
TZOFFSETTO:-0500
TZNAME:EST
DTSTART:20231105T060000
END:STANDARD
BEGIN:DAYLIGHT
TZOFFSETFROM:-0500
TZOFFSETTO:-0400
TZNAME:EDT
DTSTART:20240310T070000
END:DAYLIGHT
BEGIN:STANDARD
TZOFFSETFROM:-0400
TZOFFSETTO:-0500
TZNAME:EST
DTSTART:20241103T060000
END:STANDARD
END:VTIMEZONE
BEGIN:VEVENT
DTSTART;TZID=America/New_York:20230403T103000
DTEND;TZID=America/New_York:20230403T120000
DTSTAMP:20260422T033038
CREATED:20230308T193857Z
LAST-MODIFIED:20240322T190426Z
UID:6223-1680517800-1680523200@sotterley.org
SUMMARY:Spring Break Activities
DESCRIPTION:Historic Sotterley is once again hosting daily kids activities during Spring Break week to keep our community’s young minds active and engaged! There will be new activities each day running from 10:30 am to noon\, which you can see below: \nMonday– Explore how aircraft fly!  Meet our aircraft expert and learn about how planes and jets soar above the clouds.  Then test your skills by building paper airplanes and launching them to see how far they’ll go! \nTuesday– Little Hands Can Make a Big Impact!  Join us for a morning of dirt filled fun planting vegetable seeds and seedlings.  Later this year\, the produce raised will be harvested and ndonated to local food pantries and soup kitchens. There will also be a mini Scales and Tails event brought to us by Park Ranger Sam Behrens\, who will be bringing a couple friends to meet everyone! \nWednesday– How does our garden grow?  With your help!  Day 2 of planting vegetables that will be donated to help supply people in need with healthy vegetables. \nThursday– Let’s rock-n-roll!  Eggs may be a little pricey this Easter but local Girl Scouts have found an alternative to decorate and hide on the grounds at Sotterley- rocks.  Come and decorate a rock that you can take home or hide in the gardens and trails of Sotterley! \nFriday– Once Upon A Time in the Garden is back!  The St. Mary’s County Public Library will be on site leading a storytime in the garden. \nCheck in for each day’s events will be between 10:00 am and 10:30 am near the Visitor Center. Activities are included with our $5/person grounds fee. Members are free.\nWe are offering a special $55 Family Pass for the week of Spring Break so you and your family can get into all of our activities for the week for one simple payment. \nWe will also be doing a soft opening of our tour season with a 10:30 guided tour available for purchase each day of Spring Break. You can purchase your tour when you check in near the Visitor Center between 10:00 – 10:30 am.\nDon’t just join us for the activities – we are open until 4:00 pm\, stay and have a picnic lunch\, walk the trails\, see if you can spot our residents eagles\, bring your own outside activity and enjoy the day.
URL:https://sotterley.org/event/spring-break-activities/
LOCATION:Historic Sotterley\, 44300 Sotterley Lane\, Hollywood\, MD\, 20636\, United States
ORGANIZER;CN="Historic Sotterley":MAILTO:marketing@sotterley.org
END:VEVENT
BEGIN:VEVENT
DTSTART;TZID=America/New_York:20230404T103000
DTEND;TZID=America/New_York:20230404T120000
DTSTAMP:20260422T033038
CREATED:20230308T194332Z
LAST-MODIFIED:20240322T190426Z
UID:6225-1680604200-1680609600@sotterley.org
SUMMARY:Spring Break Activities
DESCRIPTION:Historic Sotterley is once again hosting daily kids activities during Spring Break week to keep our community’s young minds active and engaged! There will be new activities each day running from 10:30 am to noon\, which you can see below: \nMonday– Explore how aircraft fly!  Meet our aircraft expert and learn about how planes and jets soar above the clouds.  Then test your skills by building paper airplanes and launching them to see how far they’ll go! \nTuesday– Little Hands Can Make a Big Impact!  Join us for a morning of dirt filled fun planting vegetable seeds and seedlings.  Later this year\, the produce raised will be harvested and ndonated to local food pantries and soup kitchens. There will also be a mini Scales and Tails event brought to us by Park Ranger Sam Behrens\, who will be bringing a couple friends to meet everyone! \nWednesday– How does our garden grow?  With your help!  Day 2 of planting vegetables that will be donated to help supply people in need with healthy vegetables. \nThursday– Let’s rock-n-roll!  Eggs may be a little pricey this Easter but local Girl Scouts have found an alternative to decorate and hide on the grounds at Sotterley- rocks.  Come and decorate a rock that you can take home or hide in the gardens and trails of Sotterley! \nFriday– Once Upon A Time in the Garden is back!  The St. Mary’s County Public Library will be on site leading a storytime in the garden. \nCheck in for each day’s events will be between 10:00 am and 10:30 am near the Visitor Center. Activities are included with our $5/person grounds fee. Members are free.\nWe are offering a special $55 Family Pass for the week of Spring Break so you and your family can get into all of our activities for the week for one simple payment. \nWe will also be doing a soft opening of our tour season with a 10:30 guided tour available for purchase each day of Spring Break. You can purchase your tour when you check in near the Visitor Center between 10:00 – 10:30 am.\nDon’t just join us for the activities – we are open until 4:00 pm\, stay and have a picnic lunch\, walk the trails\, see if you can spot our residents eagles\, bring your own outside activity and enjoy the day.
URL:https://sotterley.org/event/spring-break-activities-2/
LOCATION:Historic Sotterley\, 44300 Sotterley Lane\, Hollywood\, MD\, 20636\, United States
ORGANIZER;CN="Historic Sotterley":MAILTO:marketing@sotterley.org
END:VEVENT
BEGIN:VEVENT
DTSTART;TZID=America/New_York:20230405T103000
DTEND;TZID=America/New_York:20230405T120000
DTSTAMP:20260422T033038
CREATED:20230308T194426Z
LAST-MODIFIED:20240322T190426Z
UID:6227-1680690600-1680696000@sotterley.org
SUMMARY:Spring Break Activities
DESCRIPTION:Historic Sotterley is once again hosting daily kids activities during Spring Break week to keep our community’s young minds active and engaged! There will be new activities each day running from 10:30 am to noon\, which you can see below: \nMonday– Explore how aircraft fly!  Meet our aircraft expert and learn about how planes and jets soar above the clouds.  Then test your skills by building paper airplanes and launching them to see how far they’ll go! \nTuesday– Little Hands Can Make a Big Impact!  Join us for a morning of dirt filled fun planting vegetable seeds and seedlings.  Later this year\, the produce raised will be harvested and ndonated to local food pantries and soup kitchens. There will also be a mini Scales and Tails event brought to us by Park Ranger Sam Behrens\, who will be bringing a couple friends to meet everyone! \nWednesday– How does our garden grow?  With your help!  Day 2 of planting vegetables that will be donated to help supply people in need with healthy vegetables. \nThursday– Let’s rock-n-roll!  Eggs may be a little pricey this Easter but local Girl Scouts have found an alternative to decorate and hide on the grounds at Sotterley- rocks.  Come and decorate a rock that you can take home or hide in the gardens and trails of Sotterley! \nFriday– Once Upon A Time in the Garden is back!  The St. Mary’s County Public Library will be on site leading a storytime in the garden. \nCheck in for each day’s events will be between 10:00 am and 10:30 am near the Visitor Center. Activities are included with our $5/person grounds fee. Members are free.\nWe are offering a special $55 Family Pass for the week of Spring Break so you and your family can get into all of our activities for the week for one simple payment. \nWe will also be doing a soft opening of our tour season with a 10:30 guided tour available for purchase each day of Spring Break. You can purchase your tour when you check in near the Visitor Center between 10:00 – 10:30 am.\nDon’t just join us for the activities – we are open until 4:00 pm\, stay and have a picnic lunch\, walk the trails\, see if you can spot our residents eagles\, bring your own outside activity and enjoy the day.
URL:https://sotterley.org/event/spring-break-activities-3/
LOCATION:Historic Sotterley\, 44300 Sotterley Lane\, Hollywood\, MD\, 20636\, United States
END:VEVENT
BEGIN:VEVENT
DTSTART;TZID=America/New_York:20230406T103000
DTEND;TZID=America/New_York:20230406T120000
DTSTAMP:20260422T033038
CREATED:20230308T194508Z
LAST-MODIFIED:20240322T190426Z
UID:6229-1680777000-1680782400@sotterley.org
SUMMARY:Spring Break Activities
DESCRIPTION:Historic Sotterley is once again hosting daily kids activities during Spring Break week to keep our community’s young minds active and engaged! There will be new activities each day running from 10:30 am to noon\, which you can see below: \nMonday– Explore how aircraft fly!  Meet our aircraft expert and learn about how planes and jets soar above the clouds.  Then test your skills by building paper airplanes and launching them to see how far they’ll go! \nTuesday– Little Hands Can Make a Big Impact!  Join us for a morning of dirt filled fun planting vegetable seeds and seedlings.  Later this year\, the produce raised will be harvested and ndonated to local food pantries and soup kitchens. There will also be a mini Scales and Tails event brought to us by Park Ranger Sam Behrens\, who will be bringing a couple friends to meet everyone! \nWednesday– How does our garden grow?  With your help!  Day 2 of planting vegetables that will be donated to help supply people in need with healthy vegetables. \nThursday– Let’s rock-n-roll!  Eggs may be a little pricey this Easter but local Girl Scouts have found an alternative to decorate and hide on the grounds at Sotterley- rocks.  Come and decorate a rock that you can take home or hide in the gardens and trails of Sotterley! \nFriday– Once Upon A Time in the Garden is back!  The St. Mary’s County Public Library will be on site leading a storytime in the garden. \nCheck in for each day’s events will be between 10:00 am and 10:30 am near the Visitor Center. Activities are included with our $5/person grounds fee. Members are free.\nWe are offering a special $55 Family Pass for the week of Spring Break so you and your family can get into all of our activities for the week for one simple payment. \nWe will also be doing a soft opening of our tour season with a 10:30 guided tour available for purchase each day of Spring Break. You can purchase your tour when you check in near the Visitor Center between 10:00 – 10:30 am.\nDon’t just join us for the activities – we are open until 4:00 pm\, stay and have a picnic lunch\, walk the trails\, see if you can spot our residents eagles\, bring your own outside activity and enjoy the day.\nDon’t just join us for the activities – we are open until 4:00 pm\, stay and have a picnic lunch\, walk the trails\, see if you can spot our residents eagles\, bring your own outside activity and enjoy the day.
URL:https://sotterley.org/event/spring-break-activities-4/
LOCATION:Historic Sotterley\, 44300 Sotterley Lane\, Hollywood\, MD\, 20636\, United States
ORGANIZER;CN="Historic Sotterley":MAILTO:marketing@sotterley.org
END:VEVENT
BEGIN:VEVENT
DTSTART;TZID=America/New_York:20230407T103000
DTEND;TZID=America/New_York:20230407T120000
DTSTAMP:20260422T033038
CREATED:20230308T194539Z
LAST-MODIFIED:20240322T190426Z
UID:6231-1680863400-1680868800@sotterley.org
SUMMARY:Spring Break Activities
DESCRIPTION:Historic Sotterley is once again hosting daily kids activities during Spring Break week to keep our community’s young minds active and engaged! There will be new activities each day running from 10:30 am to noon\, which you can see below: \nMonday– Explore how aircraft fly!  Meet our aircraft expert and learn about how planes and jets soar above the clouds.  Then test your skills by building paper airplanes and launching them to see how far they’ll go! \nTuesday– Little Hands Can Make a Big Impact!  Join us for a morning of dirt filled fun planting vegetable seeds and seedlings.  Later this year\, the produce raised will be harvested and ndonated to local food pantries and soup kitchens. There will also be a mini Scales and Tails event brought to us by Park Ranger Sam Behrens\, who will be bringing a couple friends to meet everyone! \nWednesday– How does our garden grow?  With your help!  Day 2 of planting vegetables that will be donated to help supply people in need with healthy vegetables. \nThursday– Let’s rock-n-roll!  Eggs may be a little pricey this Easter but local Girl Scouts have found an alternative to decorate and hide on the grounds at Sotterley- rocks.  Come and decorate a rock that you can take home or hide in the gardens and trails of Sotterley! \nFriday– Once Upon A Time in the Garden is back!  The St. Mary’s County Public Library will be on site leading a storytime in the garden. \nCheck in for each day’s events will be between 10:00 am and 10:30 am near the Visitor Center. Activities are included with our $5/person grounds fee. Members are free.\nWe are offering a special $55 Family Pass for the week of Spring Break so you and your family can get into all of our activities for the week for one simple payment. \nWe will also be doing a soft opening of our tour season with a 10:30 guided tour available for purchase each day of Spring Break. You can purchase your tour when you check in near the Visitor Center between 10:00 – 10:30 am.\nDon’t just join us for the activities – we are open until 4:00 pm\, stay and have a picnic lunch\, walk the trails\, see if you can spot our residents eagles\, bring your own outside activity and enjoy the day.
URL:https://sotterley.org/event/spring-break-activities-5/
LOCATION:Historic Sotterley\, 44300 Sotterley Lane\, Hollywood\, MD\, 20636\, United States
ORGANIZER;CN="Historic Sotterley":MAILTO:marketing@sotterley.org
END:VEVENT
BEGIN:VEVENT
DTSTART;TZID=America/New_York:20230416T090000
DTEND;TZID=America/New_York:20230416T130000
DTSTAMP:20260422T033038
CREATED:20230123T160015Z
LAST-MODIFIED:20240322T190425Z
UID:6137-1681635600-1681650000@sotterley.org
SUMMARY:AeroPark Farmer's Market
DESCRIPTION:Historic Sotterley is sponsoring the AeroPark Farmer’s Market\, but you don’t need a plane to visit! Drive\, bike\, or walk in to get fresh goods and produce. All businesses selling at our Airport Farmer’s Market are local small businesses that sell products that they have grown or produced themselves. When you shop local\, up to 68% of the money you spend stays in the community\, so come help support the wonderful entrepreneurs that make Maryland unique. The market runs from 9am – 1pm and is located indoors so you can enjoy watching the planes go by while shopping rain or shine! \nSotterley is sponsoring this unique market at the Airport Terminal building located at 44200 Airport Road\, California\, Maryland. Located in St. Mary’s County\, the airport is about four miles northeast of the central business district of Leonardtown. \n  \nVendors:  \n\nDixon Family Farm\nOlga’s Cakes\nOlivin’s Olive Oils & Balsamic Vinegars\nUnforgoatable Goods\nBeez Knees (Ice Cream!)\nBoon Doggie Farm\nZekiah Farms\nTobacco Barn Distillery\nBeachin Bay Bakery\nMully’s Brewery\nFree State Ciders\nGigi’s treats\nNativo Spices (Empanadas & take home pizza!)\nSotterley (Growing for Good)\nAchterberg Acres\nThe Garden (Mushrooms)\nBird Dog Café\nBlue Wind (Chocolate & Stuffed Ham)\nJuice Buzz\nMuzzy’s Wine Jellies
URL:https://sotterley.org/event/aeropark-farmers-market-7/
LOCATION:SMC Regional Airport
ORGANIZER;CN="Historic Sotterley":MAILTO:marketing@sotterley.org
END:VEVENT
BEGIN:VEVENT
DTSTART;TZID=America/New_York:20230419T190000
DTEND;TZID=America/New_York:20230419T190000
DTSTAMP:20260422T033038
CREATED:20230313T135352Z
LAST-MODIFIED:20240322T190425Z
UID:6236-1681930800-1681930800@sotterley.org
SUMMARY:Forward Together: The Legacy of John Hanson Briscoe
DESCRIPTION:Join us virtually on Wednesday\, April 19th\, for the second of our two connected events featuring two individuals who were transformative in shaping Historic Sotterley\, their communities\, and our State. April was the birth month of Trustee Emeritus John Hanson Briscoe\, former Maryland Circuit Court Judge\, Maryland Speaker of the House\, and staunch advocate for Historic Sotterley. This event will feature a panel to discuss his life\, his work\, and the impact he had on Sotterley and our community. Our panel for the evening will include Jan Briscoe\, Sam Baldwin\, the Honorable James Kenney and Michael Whitson. Senator Ben Cardin has also been invited to join the event to share his remembrances of the man he knew so well. \nJohn Hanson Briscoe was born on April 10\, 1934. In his lifetime as a St. Mary’s County resident\, he served as a Member and Speaker of the House of Delegates and County Administrative Judge\, and served on many County\, State and National commissions and boards for the betterment of our communities and their citizens. He always advocated the need to remember our past with historical preservation\, to protect and conserve our natural resources and environment\, and was instrumental in the passage of state civil rights laws. In his time on the Historic Sotterley Board of Trustees\, he advocated strongly for the preservation of Sotterley so that it could continue to share its history with the world. \nJohn worked closely with Agnes Kane Callum\, who was honored in part one of our series in February\, and their friendship and mutual respect laid the foundation for Historic Sotterley’s Decendants Project today. Together this extraordinary pair created a powerful duo who helped to save Sotterley\, but just as importantly\, worked to ensure that this irreplaceable site tells an inclusive and honest history. \n  \nRegister Here
URL:https://sotterley.org/event/6236/
END:VEVENT
BEGIN:VEVENT
DTSTART;TZID=America/New_York:20230423T080000
DTEND;TZID=America/New_York:20230423T110000
DTSTAMP:20260422T033038
CREATED:20230321T190515Z
LAST-MODIFIED:20240322T190425Z
UID:6255-1682236800-1682247600@sotterley.org
SUMMARY:What's Soaring at Sotterley - Bird Walk
DESCRIPTION:Celebrate Earth Day weekend with a bird walk at this scenic and historic Patuxent River property as the annual surge of migrating birds begins throughout St. Mary’s County. Nesting Bald Eagles\, migrating warblers\, meadowlarks\, woodpeckers\, and waterfowl can all be found via Sotterley’s farm roads and trails. From Rt. 235\, go north on Sotterley Road\, turn right through the gates to the gravel parking lot on the Sotterley historic property. 15-person maximum. RSVP at moulton.davidh@gmail.com or 240-278-4473.
URL:https://sotterley.org/event/whats-soaring-at-sotterley-bird-walk/
LOCATION:Historic Sotterley\, 44300 Sotterley Lane\, Hollywood\, MD\, 20636\, United States
END:VEVENT
BEGIN:VEVENT
DTSTART;TZID=America/New_York:20230429T090000
DTEND;TZID=America/New_York:20230429T140000
DTSTAMP:20260422T033038
CREATED:20230306T192900Z
LAST-MODIFIED:20240322T190425Z
UID:6209-1682758800-1682776800@sotterley.org
SUMMARY:Garden Guild Plant Sale
DESCRIPTION:
URL:https://sotterley.org/event/garden-guild-plant-sale-4/
LOCATION:Historic Sotterley\, 44300 Sotterley Lane\, Hollywood\, MD\, 20636\, United States
END:VEVENT
BEGIN:VEVENT
DTSTART;TZID=America/New_York:20230429T133000
DTEND;TZID=America/New_York:20230429T170000
DTSTAMP:20260422T033038
CREATED:20230308T155056Z
LAST-MODIFIED:20240322T190425Z
UID:6214-1682775000-1682787600@sotterley.org
SUMMARY:Whispers from the Water: Ancestral Memories from the Clotilda
DESCRIPTION:On April 29\, 2022\, St. Mary’s College of Maryland and Historic Sotterley are partnering to present a screening of the powerful 2022 Netflix film\, “Descendant\,” to our community. The screening will be followed by a panel that will discuss the film\, how it showcases previously undiscovered historical findings\, as well as the long-lasting negative economic\, environmental and social impacts the slave trade continues to have on Africatown and our nation. \nSet in the small Alabama community of Africatown\, the documentary follows the descendants of the survivors of the Clotilda\, the last known slave ship to transport human beings as cargo from Africa to America. On July 9\, 1860\, more than 100 captive Africans were illicitly brought to the shores of Mobile\, Alabama\, under cover of darkness. The international slave trade had been made illegal in the US in 1808\, but human trafficker Timothy Meaher made a bet that he could get around the law with his ship. After the illegal voyage\, the ship was burned and scuttled in Mobile Cay in an attempt to destroy the evidence. Today\, the residents of Africatown\, just north of Mobile\, count the Clotilda survivors among their ancestors. Uncovering the truth about the Clotilda\, which was a centuries-old open secret\, was pursued by marine archaeologists to confirm the ship’s existence and bring its stories to the surface. \nThe panel will feature Jocelyn Davis\, a direct descendant of Clotilda survivor Charlie Lewis and lifelong resident of Africatown\, as well as Kamau Sadiki who was featured in the documentary for his work as a member of the dive team Divers with a Purpose and who is the President of the National Association of Black Scuba Divers that identified the Clotilda. Joining the panel will be Dr. Susan Langley\, the Maryland State Underwater Archaeologist and Adjunct Professor of Anthropology at St. Mary’s College of Maryland; Dr. Liza Gijanto\, Associate Professor of Anthropology at St. Mary’s College of Maryland; Kelsy Bush\, Historic Sotterley Descendant and Board Member as well as the Community Affairs Liaison of St. Mary’s College of Maryland; and Gwen Bankins\, Historic Sotterley Descendant and Secretary of the Board of Trustees. \nThe event will be held in the St. Mary’s College of Maryland Nancy R. & Norton T. Dodge Performing Arts Center\, 47855 College Dr.\, St. Mary’s City\, MD with doors opening at 1:00 pm. The film begins at 1:30 pm\, followed by an intermission and then the panel discussion approximately at 3:45 p.m. This event is being held free of charge to our community\, though tickets are required. \n  \nRegister Here\n  \nPhoto of Kamau Sadiki courtesy of Wayne Lawrence.
URL:https://sotterley.org/event/whispers-from-the-water-ancestral-memories-from-the-clotilda/
LOCATION:St. Mary’s College of Maryland Dodge Performing Arts Center – Main Auditorium\, 47855 College Drive\, Saint Mary's City\, MD\, 20686\, United States
ORGANIZER;CN="Historic Sotterley":MAILTO:marketing@sotterley.org
END:VEVENT
BEGIN:VEVENT
DTSTART;TZID=America/New_York:20230430T120000
DTEND;TZID=America/New_York:20230430T150000
DTSTAMP:20260422T033038
CREATED:20230306T193203Z
LAST-MODIFIED:20240322T190425Z
UID:6212-1682856000-1682866800@sotterley.org
SUMMARY:Garden Guild Plant Sale
DESCRIPTION:
URL:https://sotterley.org/event/garden-guild-plant-sale-5/
LOCATION:Historic Sotterley\, 44300 Sotterley Lane\, Hollywood\, MD\, 20636\, United States
END:VEVENT
END:VCALENDAR