BEGIN:VCALENDAR
VERSION:2.0
PRODID:-//Sotterley - ECPv6.15.17.1//NONSGML v1.0//EN
CALSCALE:GREGORIAN
METHOD:PUBLISH
X-ORIGINAL-URL:https://sotterley.org
X-WR-CALDESC:Events for Sotterley
REFRESH-INTERVAL;VALUE=DURATION:PT1H
X-Robots-Tag:noindex
X-PUBLISHED-TTL:PT1H
BEGIN:VTIMEZONE
TZID:America/New_York
BEGIN:DAYLIGHT
TZOFFSETFROM:-0500
TZOFFSETTO:-0400
TZNAME:EDT
DTSTART:20240310T070000
END:DAYLIGHT
BEGIN:STANDARD
TZOFFSETFROM:-0400
TZOFFSETTO:-0500
TZNAME:EST
DTSTART:20241103T060000
END:STANDARD
BEGIN:DAYLIGHT
TZOFFSETFROM:-0500
TZOFFSETTO:-0400
TZNAME:EDT
DTSTART:20250309T070000
END:DAYLIGHT
BEGIN:STANDARD
TZOFFSETFROM:-0400
TZOFFSETTO:-0500
TZNAME:EST
DTSTART:20251102T060000
END:STANDARD
BEGIN:DAYLIGHT
TZOFFSETFROM:-0500
TZOFFSETTO:-0400
TZNAME:EDT
DTSTART:20260308T070000
END:DAYLIGHT
BEGIN:STANDARD
TZOFFSETFROM:-0400
TZOFFSETTO:-0500
TZNAME:EST
DTSTART:20261101T060000
END:STANDARD
END:VTIMEZONE
BEGIN:VEVENT
DTSTART;TZID=America/New_York:20250913T180000
DTEND;TZID=America/New_York:20250913T210000
DTSTAMP:20260420T145855
CREATED:20250714T160136Z
LAST-MODIFIED:20250807T143456Z
UID:8413-1757786400-1757797200@sotterley.org
SUMMARY:Sunset at Sotterley Gala
DESCRIPTION:September 13\, 2025 – Join us to enjoy golden hour views\, a signature cocktail\, a fabulous silent auction\, and music and dancing in our beautifully remodeled barns of sotterley\, all while helping preserve one of Maryland’s treasured historic landmarks. \nDress in your best garden party chic attire and party under the sunset. \n  \nThis is a fundraising event in support of Historic Sotterley and its programming. The event is open to the public\, but tickets are required. $150 per person. \nSponsorship options are available\, please see the sponsorship link below or reach out to Angela Stansbury at stewardship@sotterley.org or 301-373-2280 for more information. \n  \nBuy your tickets now!\nBecome a Sunset at Sotterley Sponsor!\nEvent takes place RAIN or SHINE. Reservations are non-refundable. \n 
URL:https://sotterley.org/event/sunset-at-sotterley-fundraising-gala/
LOCATION:Historic Sotterley\, 44300 Sotterley Lane\, Hollywood\, MD\, 20636\, United States
ATTACH;FMTTYPE=image/png:https://sotterley.org/wp-content/uploads/2025/07/Sunset-at-Sotterley-Listing.png
END:VEVENT
END:VCALENDAR