BEGIN:VCALENDAR
VERSION:2.0
PRODID:-//Sotterley - ECPv6.15.17.1//NONSGML v1.0//EN
CALSCALE:GREGORIAN
METHOD:PUBLISH
X-WR-CALNAME:Sotterley
X-ORIGINAL-URL:https://sotterley.org
X-WR-CALDESC:Events for Sotterley
REFRESH-INTERVAL;VALUE=DURATION:PT1H
X-Robots-Tag:noindex
X-PUBLISHED-TTL:PT1H
BEGIN:VTIMEZONE
TZID:America/New_York
BEGIN:DAYLIGHT
TZOFFSETFROM:-0500
TZOFFSETTO:-0400
TZNAME:EDT
DTSTART:20240310T070000
END:DAYLIGHT
BEGIN:STANDARD
TZOFFSETFROM:-0400
TZOFFSETTO:-0500
TZNAME:EST
DTSTART:20241103T060000
END:STANDARD
BEGIN:DAYLIGHT
TZOFFSETFROM:-0500
TZOFFSETTO:-0400
TZNAME:EDT
DTSTART:20250309T070000
END:DAYLIGHT
BEGIN:STANDARD
TZOFFSETFROM:-0400
TZOFFSETTO:-0500
TZNAME:EST
DTSTART:20251102T060000
END:STANDARD
BEGIN:DAYLIGHT
TZOFFSETFROM:-0500
TZOFFSETTO:-0400
TZNAME:EDT
DTSTART:20260308T070000
END:DAYLIGHT
BEGIN:STANDARD
TZOFFSETFROM:-0400
TZOFFSETTO:-0500
TZNAME:EST
DTSTART:20261101T060000
END:STANDARD
END:VTIMEZONE
BEGIN:VEVENT
DTSTART;TZID=America/New_York:20250726T193000
DTEND;TZID=America/New_York:20250726T213000
DTSTAMP:20260420T172356
CREATED:20250627T180809Z
LAST-MODIFIED:20250627T195805Z
UID:8392-1753558200-1753565400@sotterley.org
SUMMARY:Sweet Summer Nights at Sotterley
DESCRIPTION:July 26\, 2025 – Join us at Sotterley from 7:30 – 9:30 p.m. to explore Lovely Lepidoptera!  This program will include a Moth Magnet for seeing and identifying beautiful moths up close and a tour of the gardens with UV lights to see the amazing patterns that butterflies can see in the flowers they visit (that are usually invisible to us).   \n  \nThis event is best for children ages 5 and up. $5/person for non-members. FREE for members! Please arrive 10-15 minutes early to check in at the Warehouse and pay event fees or check membership. Registration is requested so we can have a rough estimate of attendance. \nParents are expected to pay the event fee and stay with their children for the duration of the event. Thank you! \n  \nRegister here!\n  \nNot a member yet? Become one today!  \n  \nThis event series is made possible in partnership with the Southern Maryland Folklife Center and instructor Dorothy Birch.
URL:https://sotterley.org/event/sweet-summer-nights-at-sotterley/
LOCATION:Historic Sotterley\, 44300 Sotterley Lane\, Hollywood\, MD\, 20636\, United States
ATTACH;FMTTYPE=image/png:https://sotterley.org/wp-content/uploads/2025/06/Summer-Nights-at-Sotterley-1.png
END:VEVENT
END:VCALENDAR