BEGIN:VCALENDAR
VERSION:2.0
PRODID:-//Sotterley - ECPv6.15.17.1//NONSGML v1.0//EN
CALSCALE:GREGORIAN
METHOD:PUBLISH
X-ORIGINAL-URL:https://sotterley.org
X-WR-CALDESC:Events for Sotterley
REFRESH-INTERVAL;VALUE=DURATION:PT1H
X-Robots-Tag:noindex
X-PUBLISHED-TTL:PT1H
BEGIN:VTIMEZONE
TZID:America/New_York
BEGIN:DAYLIGHT
TZOFFSETFROM:-0500
TZOFFSETTO:-0400
TZNAME:EDT
DTSTART:20240310T070000
END:DAYLIGHT
BEGIN:STANDARD
TZOFFSETFROM:-0400
TZOFFSETTO:-0500
TZNAME:EST
DTSTART:20241103T060000
END:STANDARD
BEGIN:DAYLIGHT
TZOFFSETFROM:-0500
TZOFFSETTO:-0400
TZNAME:EDT
DTSTART:20250309T070000
END:DAYLIGHT
BEGIN:STANDARD
TZOFFSETFROM:-0400
TZOFFSETTO:-0500
TZNAME:EST
DTSTART:20251102T060000
END:STANDARD
BEGIN:DAYLIGHT
TZOFFSETFROM:-0500
TZOFFSETTO:-0400
TZNAME:EDT
DTSTART:20260308T070000
END:DAYLIGHT
BEGIN:STANDARD
TZOFFSETFROM:-0400
TZOFFSETTO:-0500
TZNAME:EST
DTSTART:20261101T060000
END:STANDARD
END:VTIMEZONE
BEGIN:VEVENT
DTSTART;TZID=America/New_York:20250718T173000
DTEND;TZID=America/New_York:20250718T173000
DTSTAMP:20260420T172534
CREATED:20250604T173921Z
LAST-MODIFIED:20250714T175447Z
UID:8346-1752859800-1752859800@sotterley.org
SUMMARY:To Be Rescheduled - Pursuit of Freedom Specialty Tour
DESCRIPTION:**Due to unforeseen circumstances\, this tour is being rescheduled. More information coming soon.** \n  \nJuly 18\, 2025 – Historic Sotterley is offering a guided tour with a special focus on The Pursuit of Freedom at Historic Sotterley. Take a guided tour with our Interpretive Programs Manager for an in-depth look at how freedom evolved through the Revolutionary War\, War of 1812\, the Civil War\, and post-emacipation into the 20th century. We are offering only one time for this tour on Friday\, July 18th\, at 5:30 pm. \n\n\nRecommended for ages 16 & older.  Walking and standing required.  The historic house is not ADA compliant. \nAdvance reservations required – please no walk-ins.  Tour is limited to 18 people. Tickets are $25/person. \nIt is advised to arrive approximately 15 minutes prior to your tour. Please proceed to the Warehouse to Check-in upon arrival. \n\n\n\nBuy Tickets Here!
URL:https://sotterley.org/event/pursuit-of-freedom-specialty-tour/
LOCATION:Historic Sotterley\, 44300 Sotterley Lane\, Hollywood\, MD\, 20636\, United States
ATTACH;FMTTYPE=image/png:https://sotterley.org/wp-content/uploads/2025/06/Pursuit-of-Freedom-Specialty-Tour-1.png
END:VEVENT
END:VCALENDAR