BEGIN:VCALENDAR
VERSION:2.0
PRODID:-//Sotterley - ECPv6.15.17.1//NONSGML v1.0//EN
CALSCALE:GREGORIAN
METHOD:PUBLISH
X-ORIGINAL-URL:https://sotterley.org
X-WR-CALDESC:Events for Sotterley
REFRESH-INTERVAL;VALUE=DURATION:PT1H
X-Robots-Tag:noindex
X-PUBLISHED-TTL:PT1H
BEGIN:VTIMEZONE
TZID:America/New_York
BEGIN:DAYLIGHT
TZOFFSETFROM:-0500
TZOFFSETTO:-0400
TZNAME:EDT
DTSTART:20240310T070000
END:DAYLIGHT
BEGIN:STANDARD
TZOFFSETFROM:-0400
TZOFFSETTO:-0500
TZNAME:EST
DTSTART:20241103T060000
END:STANDARD
BEGIN:DAYLIGHT
TZOFFSETFROM:-0500
TZOFFSETTO:-0400
TZNAME:EDT
DTSTART:20250309T070000
END:DAYLIGHT
BEGIN:STANDARD
TZOFFSETFROM:-0400
TZOFFSETTO:-0500
TZNAME:EST
DTSTART:20251102T060000
END:STANDARD
BEGIN:DAYLIGHT
TZOFFSETFROM:-0500
TZOFFSETTO:-0400
TZNAME:EDT
DTSTART:20260308T070000
END:DAYLIGHT
BEGIN:STANDARD
TZOFFSETFROM:-0400
TZOFFSETTO:-0500
TZNAME:EST
DTSTART:20261101T060000
END:STANDARD
END:VTIMEZONE
BEGIN:VEVENT
DTSTART;TZID=America/New_York:20250716T190000
DTEND;TZID=America/New_York:20250716T203000
DTSTAMP:20260420T172508
CREATED:20250310T202749Z
LAST-MODIFIED:20250630T124619Z
UID:8114-1752692400-1752697800@sotterley.org
SUMMARY:Sotterley Presents: People & Perspectives with Dr. Tayzhuan Glover
DESCRIPTION:July 16\, 2025 – During the War of 1812 between the United States and Great Britain\, hundreds of enslaved men\, women\, and children in the Chesapeake\, Georgia\, Florida\, and Louisiana were able to secure their freedom by offering aid to the British. Following the war\, many of these freedom-seekers were resettled in Nova Scotia and Trinidad. This presentation will use American and British colonial archives to follow the journey to freedom of the enslaved men\, women\, and children from Historic Sotterley who were resettled in Trinidad in 1815\, where they laid the foundation for Trinidad’s “Merikin” descendant community.\n\n\n  \nThis is a FREE hybrid event\, meaning participants can join us in-person OR virtually. Registration is required.\nIn-person participants are welcome to join us for a pre-reception at 6:30pm with cookies and drinks.\n\nRegister Here to Attend In-Person\nRegister Here to Attend Virtually\n\n\nDr. Tayzhaun Glover received a Ph.D. in History from Duke University in 2024. He also received a B.A. in Africana Studies\, Anthropology\, and French from Franklin & Marshall College in 2017. He is primarily interested in the seaborne mobility practices of freedom-seeking enslaved men\, women\, and children in the French islands of Martinique and Guadeloupe in the Eastern Caribbean\, and the Americas\, more broadly. He engages with questions about labor\, geography\, law\, and European and Indigenous sovereignty to understand how enslaved people conceptualized refuge\, liberty\, and freedom based on their geopolitical knowledge of their worlds. His research has received support from Fulbright France\, The McNeil Center for Early American Studies\, the Gilder Lehrman Institute of American History\, the Duke History and African and African American Studies departments\, and the Center for Latin American and Caribbean Studies. He is currently a Mellon Humanities Postdoctoral Research Fellow for the National Park Service where he researches and interprets the legacy of enslaved people from the Chesapeake who joined the Colonial Marines during the War of 1812 \n  \nAre you interested in hearing more about human migration?  Visit Lexington Park Library to view the exhibit World on the Move\, 250\,000 Years of Human Migration\, from July 21 – August 22\, 2025.\n\n\n\n\nThis event is made possible in part by a sponsorship from:
URL:https://sotterley.org/event/sotterley-presents-people-perspectives-with-dr-tayzhuan-glover/
LOCATION:Historic Sotterley\, 44300 Sotterley Lane\, Hollywood\, MD\, 20636\, United States
ATTACH;FMTTYPE=image/png:https://sotterley.org/wp-content/uploads/2025/03/Wordpress-Featured-Image-Tayzhuan-Glover.png
ORGANIZER;CN="Historic Sotterley":MAILTO:marketing@sotterley.org
END:VEVENT
END:VCALENDAR