BEGIN:VCALENDAR
VERSION:2.0
PRODID:-//Sotterley - ECPv6.15.17.1//NONSGML v1.0//EN
CALSCALE:GREGORIAN
METHOD:PUBLISH
X-ORIGINAL-URL:https://sotterley.org
X-WR-CALDESC:Events for Sotterley
REFRESH-INTERVAL;VALUE=DURATION:PT1H
X-Robots-Tag:noindex
X-PUBLISHED-TTL:PT1H
BEGIN:VTIMEZONE
TZID:America/New_York
BEGIN:DAYLIGHT
TZOFFSETFROM:-0500
TZOFFSETTO:-0400
TZNAME:EDT
DTSTART:20240310T070000
END:DAYLIGHT
BEGIN:STANDARD
TZOFFSETFROM:-0400
TZOFFSETTO:-0500
TZNAME:EST
DTSTART:20241103T060000
END:STANDARD
BEGIN:DAYLIGHT
TZOFFSETFROM:-0500
TZOFFSETTO:-0400
TZNAME:EDT
DTSTART:20250309T070000
END:DAYLIGHT
BEGIN:STANDARD
TZOFFSETFROM:-0400
TZOFFSETTO:-0500
TZNAME:EST
DTSTART:20251102T060000
END:STANDARD
BEGIN:DAYLIGHT
TZOFFSETFROM:-0500
TZOFFSETTO:-0400
TZNAME:EDT
DTSTART:20260308T070000
END:DAYLIGHT
BEGIN:STANDARD
TZOFFSETFROM:-0400
TZOFFSETTO:-0500
TZNAME:EST
DTSTART:20261101T060000
END:STANDARD
END:VTIMEZONE
BEGIN:VEVENT
DTSTART;TZID=America/New_York:20250523T103000
DTEND;TZID=America/New_York:20250523T123000
DTSTAMP:20260420T194728
CREATED:20250319T172853Z
LAST-MODIFIED:20250513T140935Z
UID:8155-1747996200-1748003400@sotterley.org
SUMMARY:Creating our own Natural Brushes with Jami Faith
DESCRIPTION:May 23\, 2025 – You don’t need expensive brushes to create art\, you can do it with things you forage around you! Creation Guide Jami will take us out on the grounds\, as we walk about the garden and surrounding areas to gather leaves\, twigs\, pine needles etc.\nOnce we have acquired our own items we will return to the barn where we will assemble our brushes\, play with the marks they make and then create a painting. A great way to create texture and unique patterns from various natural elements. \n  \nThis opportunity is open to artists of all levels and ages. Registration is not required. $5 per person for non-members. FREE for Members. Please Arrive between 10:00-10:15 to pay your event fee at the Visitor Center. \nNot a Historic Sotterley Member yet? Become a Member now!
URL:https://sotterley.org/event/creating-our-own-natural-brushes-with-jami-faith/
LOCATION:Historic Sotterley\, 44300 Sotterley Lane\, Hollywood\, MD\, 20636\, United States
ATTACH;FMTTYPE=image/png:https://sotterley.org/wp-content/uploads/2025/03/Wordpress-Jami-Faith-1.png
END:VEVENT
END:VCALENDAR