BEGIN:VCALENDAR
VERSION:2.0
PRODID:-//Sotterley - ECPv6.15.17.1//NONSGML v1.0//EN
CALSCALE:GREGORIAN
METHOD:PUBLISH
X-ORIGINAL-URL:https://sotterley.org
X-WR-CALDESC:Events for Sotterley
REFRESH-INTERVAL;VALUE=DURATION:PT1H
X-Robots-Tag:noindex
X-PUBLISHED-TTL:PT1H
BEGIN:VTIMEZONE
TZID:America/New_York
BEGIN:DAYLIGHT
TZOFFSETFROM:-0500
TZOFFSETTO:-0400
TZNAME:EDT
DTSTART:20240310T070000
END:DAYLIGHT
BEGIN:STANDARD
TZOFFSETFROM:-0400
TZOFFSETTO:-0500
TZNAME:EST
DTSTART:20241103T060000
END:STANDARD
BEGIN:DAYLIGHT
TZOFFSETFROM:-0500
TZOFFSETTO:-0400
TZNAME:EDT
DTSTART:20250309T070000
END:DAYLIGHT
BEGIN:STANDARD
TZOFFSETFROM:-0400
TZOFFSETTO:-0500
TZNAME:EST
DTSTART:20251102T060000
END:STANDARD
BEGIN:DAYLIGHT
TZOFFSETFROM:-0500
TZOFFSETTO:-0400
TZNAME:EDT
DTSTART:20260308T070000
END:DAYLIGHT
BEGIN:STANDARD
TZOFFSETFROM:-0400
TZOFFSETTO:-0500
TZNAME:EST
DTSTART:20261101T060000
END:STANDARD
END:VTIMEZONE
BEGIN:VEVENT
DTSTART;TZID=America/New_York:20250517T110000
DTEND;TZID=America/New_York:20250517T170000
DTSTAMP:20260420T194647
CREATED:20240422T194838Z
LAST-MODIFIED:20250205T132239Z
UID:7621-1747479600-1747501200@sotterley.org
SUMMARY:Southern Maryland Heritage Festival
DESCRIPTION:May 17 & 18\, 2025 – Historic Sotterley is excited to host the 2nd Southern Maryland Heritage Festival. Join us for an unforgettable two-day celebration of Southern Maryland’s rich history and culture\, and the incredible people who make it unique. This festival promises something for everyone\, so mark your calendars and get ready for an amazing experience! \n\n\nHeritage Demos & Exhibits – Check out demonstrations and exhibits from Southern Maryland businesses and organizations\, such as blacksmithing\, jousting\, quilting\, antique tractor pulls\, and more!\nFood and Artisan Vendors – Shop one-of-a-kind hand-crafted goods made by local artisans\, and enjoy fabulous food from local favorites!\nMusic & Entertainment – Music is part of our heritage! Enjoy live performances on our outdoor stage – more info about our performers to come.\nBeer & Wine – Brews on tap and wine will be available at two locations on site. (Bring your ID!)\nKids Corner – Your little ones can enjoy games and other family-friendly activities at our designated kids area.\nWagon Rides – Take a scenic ride through Historic Sotterley on a tractor-pulled wagon ride.\n\nOpen House Tours – Explore some areas of our Manor House and learn some history from our experienced docents. \n\n\n\nDon’t miss out on this vibrant celebration of Southern Maryland’s heritage. Bring your friends and family for a weekend filled with fun\, learning\, and community spirit! Event information will be updated as information becomes available. \n\n\nTicket Pricing\nTwo-Day Entrance (Adults): $18 in advance\, $25 at the gate.\nOne-Day Entrance (Adults): $10 in advance\, $15 at the gate\n\nChildren (12 & under): FREE \n\n\nBoondocking at the Southern Maryland Heritage Festival\nFor the first time this year\, the Southern Maryland Heritage Festival will allow 2 nights of on-site RV camping (May 16 & 17)! Guests will be able to fully immerse themselves in the beauty of Sotterley and the festival experience.\nCamping Registration costs $100 and includes 2 adult two-day tickets to the festival. To reserve your spot\, please reach out to Sotterleyfest@gmail.com\n\nPurchase Tickets Here!\nLearn more about the Exhibitors\, Vendors\, Entertainment\, Etc.! 
URL:https://sotterley.org/event/southern-maryland-heritage-festival/
LOCATION:Historic Sotterley\, 44300 Sotterley Lane\, Hollywood\, MD\, 20636\, United States
ATTACH;FMTTYPE=image/png:https://sotterley.org/wp-content/uploads/2024/04/Wordpress-Featured-Image-Heritage-Festival-2025.png
ORGANIZER;CN="Historic Sotterley":MAILTO:marketing@sotterley.org
END:VEVENT
END:VCALENDAR