BEGIN:VCALENDAR
VERSION:2.0
PRODID:-//Sotterley - ECPv6.15.17.1//NONSGML v1.0//EN
CALSCALE:GREGORIAN
METHOD:PUBLISH
X-ORIGINAL-URL:https://sotterley.org
X-WR-CALDESC:Events for Sotterley
REFRESH-INTERVAL;VALUE=DURATION:PT1H
X-Robots-Tag:noindex
X-PUBLISHED-TTL:PT1H
BEGIN:VTIMEZONE
TZID:America/New_York
BEGIN:DAYLIGHT
TZOFFSETFROM:-0500
TZOFFSETTO:-0400
TZNAME:EDT
DTSTART:20240310T070000
END:DAYLIGHT
BEGIN:STANDARD
TZOFFSETFROM:-0400
TZOFFSETTO:-0500
TZNAME:EST
DTSTART:20241103T060000
END:STANDARD
BEGIN:DAYLIGHT
TZOFFSETFROM:-0500
TZOFFSETTO:-0400
TZNAME:EDT
DTSTART:20250309T070000
END:DAYLIGHT
BEGIN:STANDARD
TZOFFSETFROM:-0400
TZOFFSETTO:-0500
TZNAME:EST
DTSTART:20251102T060000
END:STANDARD
BEGIN:DAYLIGHT
TZOFFSETFROM:-0500
TZOFFSETTO:-0400
TZNAME:EDT
DTSTART:20260308T070000
END:DAYLIGHT
BEGIN:STANDARD
TZOFFSETFROM:-0400
TZOFFSETTO:-0500
TZNAME:EST
DTSTART:20261101T060000
END:STANDARD
END:VTIMEZONE
BEGIN:VEVENT
DTSTART;VALUE=DATE:20250510
DTEND;VALUE=DATE:20250512
DTSTAMP:20260420T194726
CREATED:20250505T160957Z
LAST-MODIFIED:20250505T161043Z
UID:8248-1746835200-1747007999@sotterley.org
SUMMARY:Mother's Day Weekend - Mom's tours are FREE
DESCRIPTION:May 10 & 11\, 2025 – Looking to spend time with your mom this Mother’s Day? Spend the day at Historic Sotterley! \nHistoric Sotterley will have an extra focus on the women of Sotterley on Saturday\, May 10 and Sunday\, May 11. To make the day extra special\, Moms get their tours for free! Tickets can be purchased at Sotterley’s Visitor Center on the day of the tour. Other tour participants will need to buy their tickets at normal price. \nTours will be offered on Saturday at 10:30 am\, 12:30 pm\, and 2:00 pm and on Sunday at 12:30 pm and 2:00 pm. For more information about our hours and pricing\, check our visit page.  \nHistoric Sotterley’s guided tours allow visitors an intimate perspective of the lives and cultures of those that owned\, lived\, and worked in the historic Manor House\, enslaved or free\, over three centuries of American history. Tours this weekend will have an extra focus on the women of Sotterley\, from Rebecca Bowles\, the second wife of Sotterley’s first owner\, to Ruth Barber\, one of Sotterley’s last residents. Visitors will learn about how these women influenced Sotterley’s history and set the course for its future. \nThe tour is on the ground floor spaces and is approximately 45-60 minutes in length. The 18th Century Manor House doorways may not accommodate all wheelchairs or walkers in some rooms of the house. Please call in advance for full access details. \nAfter the tour\, Sotterley offers a museum gift shop\, beautiful trails\, expansive gardens\, access to a quiet creek\, and additional exhibits to explore and learn from. Tour attendees are welcome to bring a picnic and enjoy all that the grounds have to offer with their mom. Historic Sotterley is a “Leave No Trace” site\, so please be prepared to pack out any trash and leftover food when you leave.
URL:https://sotterley.org/event/mothers-day-weekend-moms-tours-are-free/
LOCATION:Historic Sotterley\, 44300 Sotterley Lane\, Hollywood\, MD\, 20636\, United States
END:VEVENT
END:VCALENDAR