BEGIN:VCALENDAR
VERSION:2.0
PRODID:-//Sotterley - ECPv6.15.17.1//NONSGML v1.0//EN
CALSCALE:GREGORIAN
METHOD:PUBLISH
X-ORIGINAL-URL:https://sotterley.org
X-WR-CALDESC:Events for Sotterley
REFRESH-INTERVAL;VALUE=DURATION:PT1H
X-Robots-Tag:noindex
X-PUBLISHED-TTL:PT1H
BEGIN:VTIMEZONE
TZID:America/New_York
BEGIN:DAYLIGHT
TZOFFSETFROM:-0500
TZOFFSETTO:-0400
TZNAME:EDT
DTSTART:20240310T070000
END:DAYLIGHT
BEGIN:STANDARD
TZOFFSETFROM:-0400
TZOFFSETTO:-0500
TZNAME:EST
DTSTART:20241103T060000
END:STANDARD
BEGIN:DAYLIGHT
TZOFFSETFROM:-0500
TZOFFSETTO:-0400
TZNAME:EDT
DTSTART:20250309T070000
END:DAYLIGHT
BEGIN:STANDARD
TZOFFSETFROM:-0400
TZOFFSETTO:-0500
TZNAME:EST
DTSTART:20251102T060000
END:STANDARD
BEGIN:DAYLIGHT
TZOFFSETFROM:-0500
TZOFFSETTO:-0400
TZNAME:EDT
DTSTART:20260308T070000
END:DAYLIGHT
BEGIN:STANDARD
TZOFFSETFROM:-0400
TZOFFSETTO:-0500
TZNAME:EST
DTSTART:20261101T060000
END:STANDARD
END:VTIMEZONE
BEGIN:VEVENT
DTSTART;TZID=America/New_York:20250426T090000
DTEND;TZID=America/New_York:20250426T140000
DTSTAMP:20260420T211027
CREATED:20250312T190807Z
LAST-MODIFIED:20250313T175522Z
UID:8120-1745658000-1745676000@sotterley.org
SUMMARY:Annual Historic Sotterley Garden Guild Plant Sale
DESCRIPTION:April 26 & 27\, 2025 – From nurturing and maintaining our exquisite Colonial Revival Gardens – to giving fun and informative workshops\, and bringing extra flair and beauty to the site. The Sotterley Garden Guild are dedicated volunteers who do so much! Please stop by\, support\, and shop at their Annual Plant Sale! \n\n\n\nHere is your chance to buy plants lovingly nurtured by the Sotterley gardeners. Have questions? Members of the Garden Guild will be on hand with the answers and to share advice. The funds raised by this all-volunteer group of gardening enthusiasts are used to maintain the beautiful Colonial Revival Garden. It is in the gardens that their labors and their love of gardening is displayed so majestically. \nTo come and browse the plant selection is free. A cost is only involved if you choose to purchase plants or other items. \n2025 PLANT SALE: \nSaturday\, April 26 – 9:00 am to 2:00 pm\nSunday\, April 27 – 12:00 pm to 3:00 pm
URL:https://sotterley.org/event/annual-historic-sotterley-garden-guild-plant-sale/
LOCATION:Historic Sotterley\, 44300 Sotterley Lane\, Hollywood\, MD\, 20636\, United States
ATTACH;FMTTYPE=image/png:https://sotterley.org/wp-content/uploads/2025/03/Copy-of-Wordpress-Featured-Image-Plant-Sale.png
ORGANIZER;CN="Historic Sotterley":MAILTO:marketing@sotterley.org
END:VEVENT
END:VCALENDAR