BEGIN:VCALENDAR
VERSION:2.0
PRODID:-//Sotterley - ECPv6.15.17.1//NONSGML v1.0//EN
CALSCALE:GREGORIAN
METHOD:PUBLISH
X-ORIGINAL-URL:https://sotterley.org
X-WR-CALDESC:Events for Sotterley
REFRESH-INTERVAL;VALUE=DURATION:PT1H
X-Robots-Tag:noindex
X-PUBLISHED-TTL:PT1H
BEGIN:VTIMEZONE
TZID:America/New_York
BEGIN:DAYLIGHT
TZOFFSETFROM:-0500
TZOFFSETTO:-0400
TZNAME:EDT
DTSTART:20240310T070000
END:DAYLIGHT
BEGIN:STANDARD
TZOFFSETFROM:-0400
TZOFFSETTO:-0500
TZNAME:EST
DTSTART:20241103T060000
END:STANDARD
BEGIN:DAYLIGHT
TZOFFSETFROM:-0500
TZOFFSETTO:-0400
TZNAME:EDT
DTSTART:20250309T070000
END:DAYLIGHT
BEGIN:STANDARD
TZOFFSETFROM:-0400
TZOFFSETTO:-0500
TZNAME:EST
DTSTART:20251102T060000
END:STANDARD
BEGIN:DAYLIGHT
TZOFFSETFROM:-0500
TZOFFSETTO:-0400
TZNAME:EDT
DTSTART:20260308T070000
END:DAYLIGHT
BEGIN:STANDARD
TZOFFSETFROM:-0400
TZOFFSETTO:-0500
TZNAME:EST
DTSTART:20261101T060000
END:STANDARD
END:VTIMEZONE
BEGIN:VEVENT
DTSTART;TZID=America/New_York:20250419T090000
DTEND;TZID=America/New_York:20250419T120000
DTSTAMP:20260420T211030
CREATED:20250206T162900Z
LAST-MODIFIED:20250414T140656Z
UID:8048-1745053200-1745064000@sotterley.org
SUMMARY:What's Soaring at Sotterley Birdwalk
DESCRIPTION:April 19\, 2025 – Historic Sotterley and Southern Maryland Audobon Society are joining in partnership to bring you this FREE Event being led by Dean Newman\, Director of the Southern Maryland Audobon Society. \nCelebrate Earth Day with a bird walk at this scenic and historic Patuxent River property as the annual surge of migrating birds begins throughout St. Mary’s County. Nesting Bald Eagles\, migrating warblers\, meadowlarks\, woodpeckers and waterfowl can all be found via Sotterley’s farm roads and trails. \nThe walk starts promptly at 9:00 am\, please arrive 10-15 minutes prior in the parking lot in front of the Visitor Center. Please bring with you binoculars and a field guide (don’t worry if you don’t have). Suggested to wear comfortable walking shoes and attire weather appropriate. For all levels of birdwatchers. \nNo registration required.\n  \nIn preparation for the walk\, please download the Merlin app from Cornell University for your phone and install the US: Southeast Bird Pack. Both downloads are free and you won’t get spammed with email. It’s a GREAT app and you’ll be glad you downloaded it. \nDirections: From Rt. 235\, go north on Sotterley Road; turn right through gates then head towards the Historic Sotterley Visitor Center\, we meet in the parking lot. \nWatch our website and Facebook for updates on this event (especially in case of inclement weather). \n 
URL:https://sotterley.org/event/whats-soaring-at-sotterley-birdwalk-2/
LOCATION:Historic Sotterley\, 44300 Sotterley Lane\, Hollywood\, MD\, 20636\, United States
ATTACH;FMTTYPE=image/png:https://sotterley.org/wp-content/uploads/2025/02/Wordpress-Featured-Image-Whats-Soaring-at-Sotterley.png
END:VEVENT
END:VCALENDAR