BEGIN:VCALENDAR
VERSION:2.0
PRODID:-//Sotterley - ECPv6.15.17.1//NONSGML v1.0//EN
CALSCALE:GREGORIAN
METHOD:PUBLISH
X-WR-CALNAME:Sotterley
X-ORIGINAL-URL:https://sotterley.org
X-WR-CALDESC:Events for Sotterley
REFRESH-INTERVAL;VALUE=DURATION:PT1H
X-Robots-Tag:noindex
X-PUBLISHED-TTL:PT1H
BEGIN:VTIMEZONE
TZID:America/New_York
BEGIN:DAYLIGHT
TZOFFSETFROM:-0500
TZOFFSETTO:-0400
TZNAME:EDT
DTSTART:20230312T070000
END:DAYLIGHT
BEGIN:STANDARD
TZOFFSETFROM:-0400
TZOFFSETTO:-0500
TZNAME:EST
DTSTART:20231105T060000
END:STANDARD
BEGIN:DAYLIGHT
TZOFFSETFROM:-0500
TZOFFSETTO:-0400
TZNAME:EDT
DTSTART:20240310T070000
END:DAYLIGHT
BEGIN:STANDARD
TZOFFSETFROM:-0400
TZOFFSETTO:-0500
TZNAME:EST
DTSTART:20241103T060000
END:STANDARD
BEGIN:DAYLIGHT
TZOFFSETFROM:-0500
TZOFFSETTO:-0400
TZNAME:EDT
DTSTART:20250309T070000
END:DAYLIGHT
BEGIN:STANDARD
TZOFFSETFROM:-0400
TZOFFSETTO:-0500
TZNAME:EST
DTSTART:20251102T060000
END:STANDARD
END:VTIMEZONE
BEGIN:VEVENT
DTSTART;VALUE=DATE:20240929
DTEND;VALUE=DATE:20241028
DTSTAMP:20260421T053939
CREATED:20240930T122603Z
LAST-MODIFIED:20240930T122612Z
UID:7880-1727568000-1730073599@sotterley.org
SUMMARY:Moments in Nature Art Exhibition
DESCRIPTION:September 29 to October 27\, 2024 – Come see Joi Lowe’s new art exhibition\, “Moments in Nature: Acknowledging spiritual connections to the landscape of Historic Sotterley”. The exhibit features artworks created by Joi using resources from Historic Sotterley\, as well as special contributions from artists Pamela Callen\, Mark Boneham\, and Damien Wilkinson. Joi’s exhibit aims to reflect her emotional and spiritual connection to Historic Sotterley’s complex history and to inspire viewers to engage with the past. \nThe exhibition will be open every Friday through Saturday in October. Please check in at the Visitor Center first to pay for your $5 grounds pass!
URL:https://sotterley.org/event/moments-in-nature-art-exhibition/
LOCATION:Historic Sotterley\, 44300 Sotterley Lane\, Hollywood\, MD\, 20636\, United States
END:VEVENT
END:VCALENDAR