BEGIN:VCALENDAR
VERSION:2.0
PRODID:-//Sotterley - ECPv6.15.17.1//NONSGML v1.0//EN
CALSCALE:GREGORIAN
METHOD:PUBLISH
X-ORIGINAL-URL:https://sotterley.org
X-WR-CALDESC:Events for Sotterley
REFRESH-INTERVAL;VALUE=DURATION:PT1H
X-Robots-Tag:noindex
X-PUBLISHED-TTL:PT1H
BEGIN:VTIMEZONE
TZID:America/New_York
BEGIN:DAYLIGHT
TZOFFSETFROM:-0500
TZOFFSETTO:-0400
TZNAME:EDT
DTSTART:20230312T070000
END:DAYLIGHT
BEGIN:STANDARD
TZOFFSETFROM:-0400
TZOFFSETTO:-0500
TZNAME:EST
DTSTART:20231105T060000
END:STANDARD
BEGIN:DAYLIGHT
TZOFFSETFROM:-0500
TZOFFSETTO:-0400
TZNAME:EDT
DTSTART:20240310T070000
END:DAYLIGHT
BEGIN:STANDARD
TZOFFSETFROM:-0400
TZOFFSETTO:-0500
TZNAME:EST
DTSTART:20241103T060000
END:STANDARD
BEGIN:DAYLIGHT
TZOFFSETFROM:-0500
TZOFFSETTO:-0400
TZNAME:EDT
DTSTART:20250309T070000
END:DAYLIGHT
BEGIN:STANDARD
TZOFFSETFROM:-0400
TZOFFSETTO:-0500
TZNAME:EST
DTSTART:20251102T060000
END:STANDARD
END:VTIMEZONE
BEGIN:VEVENT
DTSTART;TZID=America/New_York:20240918T190000
DTEND;TZID=America/New_York:20240918T190000
DTSTAMP:20260421T055408
CREATED:20240805T204041Z
LAST-MODIFIED:20240805T205500Z
UID:7792-1726686000-1726686000@sotterley.org
SUMMARY:Sotterley Presents: People & Perspectives with Dan Dawson
DESCRIPTION:Dan will spend an evening discussing his family’s farming history from decades as tobacco-centric to small grains and currently to bourbon production. Topics will include the impact of the development of NAS Patuxent River on the farming community and his family\, the tobacco buyout\, the rise in popularity of bourbon – America’s spirit and the history of southern Maryland as bourbon’s true birthplace. For those of legal age\, samples of Tobacco Barn’s currently released products will be made available as well as the opportunity to purchase bottles with a portion of the proceeds benefiting Historic Sotterley. \nThis event is FREE and hybrid\, meaning you can join us in-person or virtually. Registration is required.\nIn-person participants are welcome to join us for a pre-reception at 6:15 pm. \nRegister to attend In-Person\nRegister to attend Virtually\nDan Dawson retired after a 39-year career in the defense industry\, having risen from an entry-level engineering role at Veda Incorporated to a senior executive position at KBR. His career was largely spent with the same company through various acquisitions. Before his defense career\, Dan made a mark in ethanol fuel production during high school and briefly afterward\, becoming the third licensed fuel ethanol distiller in 1980. After a long hiatus\, he re-entered the distillation world in 2014 by co-founding Tobacco Barn Distillery\, LLC on his family farm in Hollywood\, Maryland\, which has been recognized as the Top Farm Distillery in the U.S. Dan and his wife\, Susan\, who is also a distiller at Tobacco Barn\, have two adult children. \nThis event is made possible in part by a sponsorship from:
URL:https://sotterley.org/event/sotterley-presents-people-perspectives-with-dan-dawson/
LOCATION:Historic Sotterley\, 44300 Sotterley Lane\, Hollywood\, MD\, 20636\, United States
ATTACH;FMTTYPE=image/png:https://sotterley.org/wp-content/uploads/2024/08/Wordpress-Featured-Image-Dan-Dawson.png
END:VEVENT
END:VCALENDAR