BEGIN:VCALENDAR
VERSION:2.0
PRODID:-//Sotterley - ECPv6.15.17.1//NONSGML v1.0//EN
CALSCALE:GREGORIAN
METHOD:PUBLISH
X-WR-CALNAME:Sotterley
X-ORIGINAL-URL:https://sotterley.org
X-WR-CALDESC:Events for Sotterley
REFRESH-INTERVAL;VALUE=DURATION:PT1H
X-Robots-Tag:noindex
X-PUBLISHED-TTL:PT1H
BEGIN:VTIMEZONE
TZID:America/New_York
BEGIN:DAYLIGHT
TZOFFSETFROM:-0500
TZOFFSETTO:-0400
TZNAME:EDT
DTSTART:20230312T070000
END:DAYLIGHT
BEGIN:STANDARD
TZOFFSETFROM:-0400
TZOFFSETTO:-0500
TZNAME:EST
DTSTART:20231105T060000
END:STANDARD
BEGIN:DAYLIGHT
TZOFFSETFROM:-0500
TZOFFSETTO:-0400
TZNAME:EDT
DTSTART:20240310T070000
END:DAYLIGHT
BEGIN:STANDARD
TZOFFSETFROM:-0400
TZOFFSETTO:-0500
TZNAME:EST
DTSTART:20241103T060000
END:STANDARD
BEGIN:DAYLIGHT
TZOFFSETFROM:-0500
TZOFFSETTO:-0400
TZNAME:EDT
DTSTART:20250309T070000
END:DAYLIGHT
BEGIN:STANDARD
TZOFFSETFROM:-0400
TZOFFSETTO:-0500
TZNAME:EST
DTSTART:20251102T060000
END:STANDARD
END:VTIMEZONE
BEGIN:VEVENT
DTSTART;TZID=America/New_York:20240906T173000
DTEND;TZID=America/New_York:20240906T173000
DTSTAMP:20260421T055256
CREATED:20240513T155101Z
LAST-MODIFIED:20240522T120345Z
UID:7673-1725643800-1725643800@sotterley.org
SUMMARY:Sotterley on the Patuxent - Specialty Tour
DESCRIPTION:September 6\, 2024 – From rolling hogsheads and whistling steamboats to roaring jets overhead\, the Sotterley on the Patuxent specialty tour will cover how Sotterley’s location along the Patuxent River was key to establishing successful commerce and communication from the time of its very beginning until the close of the steamboat era. We will explore various aspects of the Patuxent River’s impact on the inhabitants of Sotterley\, starting with the Piscataway Indian settlements and log canoes\, through early English settlements and sailing vessels bringing goods and enslaved Africans\, to Commodore Joshua Barney’s heroic flotilla during the War of 1812\, to well-established manor communities serviced by gracious steamboats\, to the crabbing and oystering industry\, and finally the location of a major naval aircraft testing and training facility. The Patuxent River has a rich history. As the only Tidewater plantation in Maryland open to the public\, Sotterley offers an ideal location for gaining in-depth knowledge of the important role of the river in our region’s history. \nThe tour will be followed by a reception with wine\, nibbles\, and a Q&A. \nRecommended for ages 16 & older.  Walking and standing required.  The historic house is not ADA compliant. \nAdvance reservations required – please no walk-ins.  Tour is limited to 18 people. \nIt is advised to arrive approximately 15 minutes prior to your tour. Please proceed to the Warehouse to Check-in upon arrival. \n  \nPurchase Tickets Here
URL:https://sotterley.org/event/sotterley-on-the-patuxent-specialty-tour/
LOCATION:Historic Sotterley\, 44300 Sotterley Lane\, Hollywood\, MD\, 20636\, United States
ATTACH;FMTTYPE=image/png:https://sotterley.org/wp-content/uploads/2024/05/Wordpress-Featured-Image-Sotterley-on-the-Patuxent.png
END:VEVENT
END:VCALENDAR