BEGIN:VCALENDAR
VERSION:2.0
PRODID:-//Sotterley - ECPv6.15.17.1//NONSGML v1.0//EN
CALSCALE:GREGORIAN
METHOD:PUBLISH
X-WR-CALNAME:Sotterley
X-ORIGINAL-URL:https://sotterley.org
X-WR-CALDESC:Events for Sotterley
REFRESH-INTERVAL;VALUE=DURATION:PT1H
X-Robots-Tag:noindex
X-PUBLISHED-TTL:PT1H
BEGIN:VTIMEZONE
TZID:America/New_York
BEGIN:DAYLIGHT
TZOFFSETFROM:-0500
TZOFFSETTO:-0400
TZNAME:EDT
DTSTART:20230312T070000
END:DAYLIGHT
BEGIN:STANDARD
TZOFFSETFROM:-0400
TZOFFSETTO:-0500
TZNAME:EST
DTSTART:20231105T060000
END:STANDARD
BEGIN:DAYLIGHT
TZOFFSETFROM:-0500
TZOFFSETTO:-0400
TZNAME:EDT
DTSTART:20240310T070000
END:DAYLIGHT
BEGIN:STANDARD
TZOFFSETFROM:-0400
TZOFFSETTO:-0500
TZNAME:EST
DTSTART:20241103T060000
END:STANDARD
BEGIN:DAYLIGHT
TZOFFSETFROM:-0500
TZOFFSETTO:-0400
TZNAME:EDT
DTSTART:20250309T070000
END:DAYLIGHT
BEGIN:STANDARD
TZOFFSETFROM:-0400
TZOFFSETTO:-0500
TZNAME:EST
DTSTART:20251102T060000
END:STANDARD
END:VTIMEZONE
BEGIN:VEVENT
DTSTART;TZID=America/New_York:20240824T090000
DTEND;TZID=America/New_York:20240824T163000
DTSTAMP:20260421T092212
CREATED:20240513T130550Z
LAST-MODIFIED:20240823T155007Z
UID:7666-1724490000-1724517000@sotterley.org
SUMMARY:Day of Unity and Healing: Together We Can Make A Difference
DESCRIPTION:August 24\, 2024 – Day of Unity and Healing this year will focus on Descendants\, historic sites\, and communities working together to preserve and interpret our history transparently. We will have a variety of organizations present to increase awareness that in order to have a shared success we must learn from each other and work together for a shared success. Each year\, the vision of Day of Unity and Healing is different because the needs are constantly changing. In order to heal we must have a conversation and share. Join us to experience history through different eyes this year. One of the first steps to healing is understanding the truth about our history and building bridges of understanding to move forward and create a better community and country. \n“It starts with every individual being open to listening and learning. We can’t change our history\, but we can reflect\, learn\, and heal to build a better tomorrow.”\n– Gwen Bankins and Jan Briscoe Descendants\, Board Trustee Historic Sotterley \n  \nThis event is FREE. Registration is encouraged\, but not required. \n  \nRegister here\n  \nPlease note that the schedule below is still in development and may change slightly as we get closer to the event. \n9:00 am \n\nHistoric Farm Wagon Tour (Reservation only\, register here)\n\n10:05 – 11:05 am Opening Ceremony with guest speakers \n11:15 – 11:35 am Middle Passage Marker Unveiling \n11:45 am– 12:30 pm Dedication of Sacred Space \n12:30 – 2:45 pm  \n\nSotterley Descendants Portrait Project unveiling\nRegional Historic sites Barn Displays\nHistorical Documentary Quilt Displays\nOpen House Tours\nBlacksmith demonstrations\nMeet the authors and book signings\nHolistic Health screenings and events\nUncovering History: Archeological updates : Historic St. Mary’s City and Historic Sotterley\nFood Trucks: Dan D’s Catering and The Salted Scoop\nHistoric Farm Wagon Tour (First come\, first serve)\n\n3:00 pm Living History : Underground Railroad Month Kick Off \n3:30 – 4:30 pm Music \n  \nCheck out our food truck menus for the event!
URL:https://sotterley.org/event/day-of-unity-and-healing-together-we-can-make-a-difference/
LOCATION:Historic Sotterley\, 44300 Sotterley Lane\, Hollywood\, MD\, 20636\, United States
ATTACH;FMTTYPE=image/png:https://sotterley.org/wp-content/uploads/2024/05/Wordpress-Featured-Image-Day-of-Unity-and-Healing.png
END:VEVENT
END:VCALENDAR