BEGIN:VCALENDAR
VERSION:2.0
PRODID:-//Sotterley - ECPv6.15.17.1//NONSGML v1.0//EN
CALSCALE:GREGORIAN
METHOD:PUBLISH
X-ORIGINAL-URL:https://sotterley.org
X-WR-CALDESC:Events for Sotterley
REFRESH-INTERVAL;VALUE=DURATION:PT1H
X-Robots-Tag:noindex
X-PUBLISHED-TTL:PT1H
BEGIN:VTIMEZONE
TZID:America/New_York
BEGIN:DAYLIGHT
TZOFFSETFROM:-0500
TZOFFSETTO:-0400
TZNAME:EDT
DTSTART:20230312T070000
END:DAYLIGHT
BEGIN:STANDARD
TZOFFSETFROM:-0400
TZOFFSETTO:-0500
TZNAME:EST
DTSTART:20231105T060000
END:STANDARD
BEGIN:DAYLIGHT
TZOFFSETFROM:-0500
TZOFFSETTO:-0400
TZNAME:EDT
DTSTART:20240310T070000
END:DAYLIGHT
BEGIN:STANDARD
TZOFFSETFROM:-0400
TZOFFSETTO:-0500
TZNAME:EST
DTSTART:20241103T060000
END:STANDARD
BEGIN:DAYLIGHT
TZOFFSETFROM:-0500
TZOFFSETTO:-0400
TZNAME:EDT
DTSTART:20250309T070000
END:DAYLIGHT
BEGIN:STANDARD
TZOFFSETFROM:-0400
TZOFFSETTO:-0500
TZNAME:EST
DTSTART:20251102T060000
END:STANDARD
END:VTIMEZONE
BEGIN:VEVENT
DTSTART;TZID=America/New_York:20240807T190000
DTEND;TZID=America/New_York:20240807T190000
DTSTAMP:20260421T093620
CREATED:20240515T152120Z
LAST-MODIFIED:20240522T145631Z
UID:7680-1723057200-1723057200@sotterley.org
SUMMARY:Sotterley Presents: People and Perspectives with Dean Newman
DESCRIPTION:August 7\, 2024 – Nature photography is not the serene\, life-prolonging experience most magazine articles say it is. In fact\, it’s anything but the “Zen” experience they espouse. Come listen to Dean Newman\, a nature photographer from our area\, tell the “behind-the-scenes” stories of the images you see in publications. Dean has been bitten\, scratched\, kicked\, spat on and along with any other ways birds\, animals and reptiles can injure you\, all in the name of “getting the shot”. You’ll never look at another magazine photograph the same. \n  \nThis event is FREE and hybrid\, meaning you can join us in-person or virtually. Registration is required.\nIn-person participants are welcome to join us for a pre-reception at 6:15 pm. \n  \nRegister Here to Attend In-Person\nRegister Here to Attend Virtually\n  \nDean Newman is an internationally published photographer who specializes in wildlife and nature images. Living in Southern Maryland\, Dean grew up on a peanut and cattle farm in North Florida. Since leaving that farm he has lived across Europe in Iceland\, Italy\, Spain and Portugal. Dean is a retired Navy veteran who spent much of his career in aviation and\, thanks to a very understanding wife\, Sandy\, now travels 20+ weeks a year in the U.S.\, Africa and South America chasing the natural world. \n  \nThis event is made possible in part by a sponsorship from: \n \n 
URL:https://sotterley.org/event/sotterley-presents-people-and-perspectives-with-dean-newman/
LOCATION:Historic Sotterley\, 44300 Sotterley Lane\, Hollywood\, MD\, 20636\, United States
ATTACH;FMTTYPE=image/png:https://sotterley.org/wp-content/uploads/2024/05/Copy-of-Wordpress-Featured-Image-Dean-Newman.png
END:VEVENT
END:VCALENDAR