BEGIN:VCALENDAR
VERSION:2.0
PRODID:-//Sotterley - ECPv6.15.17.1//NONSGML v1.0//EN
CALSCALE:GREGORIAN
METHOD:PUBLISH
X-ORIGINAL-URL:https://sotterley.org
X-WR-CALDESC:Events for Sotterley
REFRESH-INTERVAL;VALUE=DURATION:PT1H
X-Robots-Tag:noindex
X-PUBLISHED-TTL:PT1H
BEGIN:VTIMEZONE
TZID:America/New_York
BEGIN:DAYLIGHT
TZOFFSETFROM:-0500
TZOFFSETTO:-0400
TZNAME:EDT
DTSTART:20230312T070000
END:DAYLIGHT
BEGIN:STANDARD
TZOFFSETFROM:-0400
TZOFFSETTO:-0500
TZNAME:EST
DTSTART:20231105T060000
END:STANDARD
BEGIN:DAYLIGHT
TZOFFSETFROM:-0500
TZOFFSETTO:-0400
TZNAME:EDT
DTSTART:20240310T070000
END:DAYLIGHT
BEGIN:STANDARD
TZOFFSETFROM:-0400
TZOFFSETTO:-0500
TZNAME:EST
DTSTART:20241103T060000
END:STANDARD
BEGIN:DAYLIGHT
TZOFFSETFROM:-0500
TZOFFSETTO:-0400
TZNAME:EDT
DTSTART:20250309T070000
END:DAYLIGHT
BEGIN:STANDARD
TZOFFSETFROM:-0400
TZOFFSETTO:-0500
TZNAME:EST
DTSTART:20251102T060000
END:STANDARD
END:VTIMEZONE
BEGIN:VEVENT
DTSTART;TZID=America/New_York:20240719T173000
DTEND;TZID=America/New_York:20240719T173000
DTSTAMP:20260421T093619
CREATED:20240510T131004Z
LAST-MODIFIED:20240522T120618Z
UID:7658-1721410200-1721410200@sotterley.org
SUMMARY:Specialty Tour - Medical History at Historic Sotterley: Herbs\, Lancets\, Bone Saws\, Vaccinations\, Antibiotics\, Oh My!
DESCRIPTION:July 19\, 2024 – What was it like to experience treatment of illness or injury in the past? How did the practice of medicine develop in our region? While touring the manor house\, slave dwelling\, and gardens\, take the journey from medicinal herbs\, blood-letting\, patent medicines\, lessons of sanitation learned during warfare\, crude surgical techniques\, and unsettling realities of medical research to the regulation of medical practice and development of effective prevention and treatment of deadly infections. Join docent Dr. Marcia Coe for a tour highlighting medical history as it relates to the people of Sotterley during 1699-1961. \nThe tour will be followed by a reception with wine\, nibbles\, and a Q&A. \nRecommended for ages 16 & older.  Walking and standing required.  The historic house is not ADA compliant. \nAdvance reservations required – please no walk-ins.  Tour is limited to 18 people. \nIt is advised to arrive approximately 15 minutes prior to your tour. Please proceed to the Warehouse to Check-in upon arrival. \n  \nPurchase Tickets Here\n 
URL:https://sotterley.org/event/specialty-tour-medical-history-at-historic-sotterley-herbs-lancets-bone-saws-vaccinations-antibiotics-oh-my-2/
LOCATION:Historic Sotterley\, 44300 Sotterley Lane\, Hollywood\, MD\, 20636\, United States
ATTACH;FMTTYPE=image/png:https://sotterley.org/wp-content/uploads/2024/05/Wordpress-Featured-Image-Medical-History-Tour.png
END:VEVENT
END:VCALENDAR