BEGIN:VCALENDAR
VERSION:2.0
PRODID:-//Sotterley - ECPv6.15.17.1//NONSGML v1.0//EN
CALSCALE:GREGORIAN
METHOD:PUBLISH
X-ORIGINAL-URL:https://sotterley.org
X-WR-CALDESC:Events for Sotterley
REFRESH-INTERVAL;VALUE=DURATION:PT1H
X-Robots-Tag:noindex
X-PUBLISHED-TTL:PT1H
BEGIN:VTIMEZONE
TZID:America/New_York
BEGIN:DAYLIGHT
TZOFFSETFROM:-0500
TZOFFSETTO:-0400
TZNAME:EDT
DTSTART:20230312T070000
END:DAYLIGHT
BEGIN:STANDARD
TZOFFSETFROM:-0400
TZOFFSETTO:-0500
TZNAME:EST
DTSTART:20231105T060000
END:STANDARD
BEGIN:DAYLIGHT
TZOFFSETFROM:-0500
TZOFFSETTO:-0400
TZNAME:EDT
DTSTART:20240310T070000
END:DAYLIGHT
BEGIN:STANDARD
TZOFFSETFROM:-0400
TZOFFSETTO:-0500
TZNAME:EST
DTSTART:20241103T060000
END:STANDARD
BEGIN:DAYLIGHT
TZOFFSETFROM:-0500
TZOFFSETTO:-0400
TZNAME:EDT
DTSTART:20250309T070000
END:DAYLIGHT
BEGIN:STANDARD
TZOFFSETFROM:-0400
TZOFFSETTO:-0500
TZNAME:EST
DTSTART:20251102T060000
END:STANDARD
END:VTIMEZONE
BEGIN:VEVENT
DTSTART;TZID=America/New_York:20240710T190000
DTEND;TZID=America/New_York:20240710T190000
DTSTAMP:20260421T093619
CREATED:20240509T134408Z
LAST-MODIFIED:20240703T145941Z
UID:7652-1720638000-1720638000@sotterley.org
SUMMARY:Sotterley Presents: People & Perspectives with Merideth Taylor
DESCRIPTION:July 10\, 2024 – Join us and author Merideth Taylor for a speaker event and book signing for her new book\, “Making a Way out of No Way”. The photographs and stories in this book cover 150 years of slavery on tobacco plantations in Southern Maryland and the communities of men\, women\, and children who were subjected to this system. Merideth Taylor chose to largely avoid graphic depictions of the violence perpetrated on enslaved people to instead allow the reader to focus on the resilience\, ingenuity\, skills\, and cultural strengths that enabled them to make a way out of no way. Merideth Taylor will discuss her motivations\, insights\, and journey to writing this book. \n  \nCopies of the book will be available for purchase at the event and you can get them signed by Merideth! \n  \nThis event is FREE and hybrid\, meaning you can join us in-person or virtually. Registration is required.\nIn-person participants are welcome to join us for a pre-reception at 6:15 pm. \n  \nRegister to attend In-Person here!\nRegister to attend virtually here!\n  \nMerideth M. Taylor is Professor Emerita of Theater and Dance at St. Mary’s College of Maryland\, and a founding member of the African and African Diaspora and Women Studies programs at the College. She is author of Listening in: Echoes and Artifacts from Maryland’s Mother County; co-editor of In Relentless Pursuit of an Education: African American Stories from a Century of Segregation; and screenwriter/director of the documentaries With All Deliberate Speed: One High School’s Story and Telly-Award-winning Talking and Walking Common Ground. \n  \nThis event is made possible in part by a sponsorship from:
URL:https://sotterley.org/event/sotterley-presents-people-perspectives-with-merideth-taylor/
LOCATION:Historic Sotterley\, 44300 Sotterley Lane\, Hollywood\, MD\, 20636\, United States
ATTACH;FMTTYPE=image/png:https://sotterley.org/wp-content/uploads/2024/05/Copy-of-Wordpress-Featured-Image-Merideth-Taylor-1.png
END:VEVENT
END:VCALENDAR