BEGIN:VCALENDAR
VERSION:2.0
PRODID:-//Sotterley - ECPv6.15.17.1//NONSGML v1.0//EN
CALSCALE:GREGORIAN
METHOD:PUBLISH
X-ORIGINAL-URL:https://sotterley.org
X-WR-CALDESC:Events for Sotterley
REFRESH-INTERVAL;VALUE=DURATION:PT1H
X-Robots-Tag:noindex
X-PUBLISHED-TTL:PT1H
BEGIN:VTIMEZONE
TZID:America/New_York
BEGIN:DAYLIGHT
TZOFFSETFROM:-0500
TZOFFSETTO:-0400
TZNAME:EDT
DTSTART:20230312T070000
END:DAYLIGHT
BEGIN:STANDARD
TZOFFSETFROM:-0400
TZOFFSETTO:-0500
TZNAME:EST
DTSTART:20231105T060000
END:STANDARD
BEGIN:DAYLIGHT
TZOFFSETFROM:-0500
TZOFFSETTO:-0400
TZNAME:EDT
DTSTART:20240310T070000
END:DAYLIGHT
BEGIN:STANDARD
TZOFFSETFROM:-0400
TZOFFSETTO:-0500
TZNAME:EST
DTSTART:20241103T060000
END:STANDARD
BEGIN:DAYLIGHT
TZOFFSETFROM:-0500
TZOFFSETTO:-0400
TZNAME:EDT
DTSTART:20250309T070000
END:DAYLIGHT
BEGIN:STANDARD
TZOFFSETFROM:-0400
TZOFFSETTO:-0500
TZNAME:EST
DTSTART:20251102T060000
END:STANDARD
END:VTIMEZONE
BEGIN:VEVENT
DTSTART;TZID=America/New_York:20240621T100000
DTEND;TZID=America/New_York:20240621T120000
DTSTAMP:20260421T155924
CREATED:20240522T180632Z
LAST-MODIFIED:20240618T205130Z
UID:7716-1718964000-1718971200@sotterley.org
SUMMARY:Art in the Gardens
DESCRIPTION:June 21\, 2024 – Art in the gardens! Participants will meet at the gorgeous Sotterley Colonial Revival Gardens where we will explore\, sketch flowers and plants\, and then walk to the Barn to create a beautiful painting using watercolor pencils.  Creation Guide Jami will provide assistance and instruction on using the watercolor pencils and will guide all in translating their garden sketches into farmable art. \n  \n$10 per person for non-members\, $5 per person for members. Not a member yet? Sign up today! \nMaterials will be provided for all participants. This event is geared toward ages 6 and up. \n\nPlease note: Due to the heat wave\, the indoor portion of this Friday’s Art in the Garden class has moved from the Warehouse to our Historic Barn\, which has air-conditioning. Rest assured you will be able to stay cool while being creative! \n\n  \nParents\, please note that this is not a drop-off event and children are expected to have a parent or guardian with them at all times. Parents who would like to paint are welcome to purchase a regular ticket\, or if you will just be accompanying your child you only need to pay our usual grounds fee. \n  \nPurchase tickets here!\n  \nThis event is made possible by a grant from St. Mary’s Arts Council.
URL:https://sotterley.org/event/art-in-the-gardens/
LOCATION:Historic Sotterley\, 44300 Sotterley Lane\, Hollywood\, MD\, 20636\, United States
ATTACH;FMTTYPE=image/png:https://sotterley.org/wp-content/uploads/2024/05/Wordpress-Featured-Image-Art-in-the-Gardens.png
END:VEVENT
END:VCALENDAR