BEGIN:VCALENDAR
VERSION:2.0
PRODID:-//Sotterley - ECPv6.15.17.1//NONSGML v1.0//EN
CALSCALE:GREGORIAN
METHOD:PUBLISH
X-ORIGINAL-URL:https://sotterley.org
X-WR-CALDESC:Events for Sotterley
REFRESH-INTERVAL;VALUE=DURATION:PT1H
X-Robots-Tag:noindex
X-PUBLISHED-TTL:PT1H
BEGIN:VTIMEZONE
TZID:America/New_York
BEGIN:DAYLIGHT
TZOFFSETFROM:-0500
TZOFFSETTO:-0400
TZNAME:EDT
DTSTART:20230312T070000
END:DAYLIGHT
BEGIN:STANDARD
TZOFFSETFROM:-0400
TZOFFSETTO:-0500
TZNAME:EST
DTSTART:20231105T060000
END:STANDARD
BEGIN:DAYLIGHT
TZOFFSETFROM:-0500
TZOFFSETTO:-0400
TZNAME:EDT
DTSTART:20240310T070000
END:DAYLIGHT
BEGIN:STANDARD
TZOFFSETFROM:-0400
TZOFFSETTO:-0500
TZNAME:EST
DTSTART:20241103T060000
END:STANDARD
BEGIN:DAYLIGHT
TZOFFSETFROM:-0500
TZOFFSETTO:-0400
TZNAME:EDT
DTSTART:20250309T070000
END:DAYLIGHT
BEGIN:STANDARD
TZOFFSETFROM:-0400
TZOFFSETTO:-0500
TZNAME:EST
DTSTART:20251102T060000
END:STANDARD
END:VTIMEZONE
BEGIN:VEVENT
DTSTART;TZID=America/New_York:20240612T190000
DTEND;TZID=America/New_York:20240612T190000
DTSTAMP:20260421T121217
CREATED:20240508T185134Z
LAST-MODIFIED:20240522T145736Z
UID:7643-1718218800-1718218800@sotterley.org
SUMMARY:Sotterley Presents: People & Perspectives with Patricia Samford
DESCRIPTION:June 12\, 2024 – Join us and Dr. Patricia Samford for a speaker event all about the James Adams Floating Theater. In the days before television and computers\, residents of coastal Maryland\, Virginia and North Carolina anxiously awaited the arrival of the James Adams for an evening of diverting musical and theatrical entertainment. An inspiration for Edna Ferber’s novel\, Showboat\, this floating theatre was the “…best entertainment going…” along the Chesapeake in the early 20th century. \n  \nThis event is FREE and hybrid\, meaning you can join us in-person or virtually. Registration is required.\nIn-person participants are welcome to join us for a pre-reception at 6:15 pm. \n  \nRegister here to attend in-person\nRegister here to attend virtually\n  \nDr. Patricia Samford is the Director of the Maryland Archaeological Conservation Laboratory at Jefferson Patterson Park and Museum. Prior to receiving her doctorate in Anthropology at the University of North Carolina at Chapel Hill\, she was an archaeologist at the Colonial Williamsburg Foundation for 13 years. Samford is the author of Subfloor Pits and the Archaeology of Slavery in Colonial Virginia (2007) and Below Baltimore: An Archaeology of Charm City (2023)\, coauthored with Adam Fracchia. \n  \nThis event is made possible in part by a sponsorship from:
URL:https://sotterley.org/event/sotterley-presents-people-perspectives-with-patricia-samford/
LOCATION:Historic Sotterley\, 44300 Sotterley Lane\, Hollywood\, MD\, 20636\, United States
ATTACH;FMTTYPE=image/png:https://sotterley.org/wp-content/uploads/2024/05/Wordpress-Featured-Image-Floating-Theater.png
END:VEVENT
END:VCALENDAR