BEGIN:VCALENDAR
VERSION:2.0
PRODID:-//Sotterley - ECPv6.15.17.1//NONSGML v1.0//EN
CALSCALE:GREGORIAN
METHOD:PUBLISH
X-WR-CALNAME:Sotterley
X-ORIGINAL-URL:https://sotterley.org
X-WR-CALDESC:Events for Sotterley
REFRESH-INTERVAL;VALUE=DURATION:PT1H
X-Robots-Tag:noindex
X-PUBLISHED-TTL:PT1H
BEGIN:VTIMEZONE
TZID:America/New_York
BEGIN:DAYLIGHT
TZOFFSETFROM:-0500
TZOFFSETTO:-0400
TZNAME:EDT
DTSTART:20230312T070000
END:DAYLIGHT
BEGIN:STANDARD
TZOFFSETFROM:-0400
TZOFFSETTO:-0500
TZNAME:EST
DTSTART:20231105T060000
END:STANDARD
BEGIN:DAYLIGHT
TZOFFSETFROM:-0500
TZOFFSETTO:-0400
TZNAME:EDT
DTSTART:20240310T070000
END:DAYLIGHT
BEGIN:STANDARD
TZOFFSETFROM:-0400
TZOFFSETTO:-0500
TZNAME:EST
DTSTART:20241103T060000
END:STANDARD
BEGIN:DAYLIGHT
TZOFFSETFROM:-0500
TZOFFSETTO:-0400
TZNAME:EDT
DTSTART:20250309T070000
END:DAYLIGHT
BEGIN:STANDARD
TZOFFSETFROM:-0400
TZOFFSETTO:-0500
TZNAME:EST
DTSTART:20251102T060000
END:STANDARD
END:VTIMEZONE
BEGIN:VEVENT
DTSTART;TZID=America/New_York:20240511T103000
DTEND;TZID=America/New_York:20240512T150000
DTSTAMP:20260421T155859
CREATED:20240216T142924Z
LAST-MODIFIED:20240322T185811Z
UID:6957-1715423400-1715526000@sotterley.org
SUMMARY:Mother's Day Weekend Tours - Moms get in FREE!
DESCRIPTION:May 11 & 12\, 2024 – Looking to spend time with your mom this Mother’s Day? Spend the day at Historic Sotterley! \nHistoric Sotterley will have an extra focus on the women of Sotterley on Saturday\, May 11 and Sunday\, May 12. To make the day extra special\, Moms get their tours for free! Tickets can be purchased at Sotterley’s Visitor Center on the day of the tour. \nTours will be offered Saturday at 10:30\, 11:30\, 1:00\, 2:00\, and 3:00 and on Sunday at Noon\, 1:00\, 2:00\, and 3:00. \nHistoric Sotterley’s guided tours allow visitors an intimate perspective of the lives and cultures of those that owned\, lived\, and worked in the historic Manor House\, enslaved or free\, over three centuries of American history. Tours this weekend will have an extra focus on the women of Sotterley\, from Rebecca Bowles\, the second wife of Sotterley’s first owner\, to Ruth Barber\, one of Sotterley’s last residents. Visitors will learn about how these women influenced Sotterley’s history and set the course for its future. \nThe tour is on the ground floor spaces and is approximately 45-60 minutes in length. The 18th Century Manor House doorways may not accommodate all wheelchairs or walkers in some rooms of the house. Please call in advance for full access details. \nAfter the tour\, Sotterley offers a museum gift shop\, beautiful trails\, expansive gardens\, access to a quiet creek\, and additional exhibits to explore and learn from. Tour attendees are welcome to bring a picnic and enjoy all that the grounds have to offer with their mom. Historic Sotterley is a “Leave No Trace” site\, so please be prepared to pack out any trash and leftover food when you leave.
URL:https://sotterley.org/event/mothers-day-weekend-tours-moms-get-in-free/
ATTACH;FMTTYPE=image/png:https://sotterley.org/wp-content/uploads/2024/02/Wordpress-Featured-Image-Mothers-Day-Tours.png
END:VEVENT
END:VCALENDAR