BEGIN:VCALENDAR
VERSION:2.0
PRODID:-//Sotterley - ECPv6.15.17.1//NONSGML v1.0//EN
CALSCALE:GREGORIAN
METHOD:PUBLISH
X-ORIGINAL-URL:https://sotterley.org
X-WR-CALDESC:Events for Sotterley
REFRESH-INTERVAL;VALUE=DURATION:PT1H
X-Robots-Tag:noindex
X-PUBLISHED-TTL:PT1H
BEGIN:VTIMEZONE
TZID:America/New_York
BEGIN:DAYLIGHT
TZOFFSETFROM:-0500
TZOFFSETTO:-0400
TZNAME:EDT
DTSTART:20230312T070000
END:DAYLIGHT
BEGIN:STANDARD
TZOFFSETFROM:-0400
TZOFFSETTO:-0500
TZNAME:EST
DTSTART:20231105T060000
END:STANDARD
BEGIN:DAYLIGHT
TZOFFSETFROM:-0500
TZOFFSETTO:-0400
TZNAME:EDT
DTSTART:20240310T070000
END:DAYLIGHT
BEGIN:STANDARD
TZOFFSETFROM:-0400
TZOFFSETTO:-0500
TZNAME:EST
DTSTART:20241103T060000
END:STANDARD
BEGIN:DAYLIGHT
TZOFFSETFROM:-0500
TZOFFSETTO:-0400
TZNAME:EDT
DTSTART:20250309T070000
END:DAYLIGHT
BEGIN:STANDARD
TZOFFSETFROM:-0400
TZOFFSETTO:-0500
TZNAME:EST
DTSTART:20251102T060000
END:STANDARD
END:VTIMEZONE
BEGIN:VEVENT
DTSTART;TZID=America/New_York:20240510T173000
DTEND;TZID=America/New_York:20240510T190000
DTSTAMP:20260421T121215
CREATED:20240403T195300Z
LAST-MODIFIED:20240403T195346Z
UID:7269-1715362200-1715367600@sotterley.org
SUMMARY:Women of Sotterley Specialty Tour
DESCRIPTION:May 10th\, 2024 – In honor of Mother’s Day weekend\, we are offering a tour focusing on the lives and legacies of ten remarkable women who lived at Sotterley over the course of 300 years. Learn about the lives of the women of Sotterley including Rebecca Bowles\, Elsa Bond\, Mabel Ingalls\, and Agnes Kane Callum. We will hear about the lives of women from the 18th century\, 19th\, and 20th centuries. We will tell these women’s stories and explore how women’s roles in marriage\, birth\, family differed depending on their era and status. Along the way we will discover the role that women have played in preserving the history of the site. A reception with Q & A will follow the tour. \nRecommended for ages 16 & older. Walking and standing required\, please note the historic house is not ADA compliant. \nAdvance reservations required – please no walk-ins. Limited to 15 people per tour. \nIt is advised to arrive approximately 15 minutes prior to your tour. Please proceed to the Warehouse to Check-in upon arrival. \n  \nRegister Here\n 
URL:https://sotterley.org/event/women-of-sotterley-specialty-tour/
LOCATION:Historic Sotterley\, 44300 Sotterley Lane\, Hollywood\, MD\, 20636\, United States
ATTACH;FMTTYPE=image/png:https://sotterley.org/wp-content/uploads/2024/04/Wordpress-Featured-Image-Women-of-Sotterley.png
ORGANIZER;CN="Historic Sotterley":MAILTO:marketing@sotterley.org
END:VEVENT
END:VCALENDAR