BEGIN:VCALENDAR
VERSION:2.0
PRODID:-//Sotterley - ECPv6.15.17.1//NONSGML v1.0//EN
CALSCALE:GREGORIAN
METHOD:PUBLISH
X-WR-CALNAME:Sotterley
X-ORIGINAL-URL:https://sotterley.org
X-WR-CALDESC:Events for Sotterley
REFRESH-INTERVAL;VALUE=DURATION:PT1H
X-Robots-Tag:noindex
X-PUBLISHED-TTL:PT1H
BEGIN:VTIMEZONE
TZID:America/New_York
BEGIN:DAYLIGHT
TZOFFSETFROM:-0500
TZOFFSETTO:-0400
TZNAME:EDT
DTSTART:20230312T070000
END:DAYLIGHT
BEGIN:STANDARD
TZOFFSETFROM:-0400
TZOFFSETTO:-0500
TZNAME:EST
DTSTART:20231105T060000
END:STANDARD
BEGIN:DAYLIGHT
TZOFFSETFROM:-0500
TZOFFSETTO:-0400
TZNAME:EDT
DTSTART:20240310T070000
END:DAYLIGHT
BEGIN:STANDARD
TZOFFSETFROM:-0400
TZOFFSETTO:-0500
TZNAME:EST
DTSTART:20241103T060000
END:STANDARD
BEGIN:DAYLIGHT
TZOFFSETFROM:-0500
TZOFFSETTO:-0400
TZNAME:EDT
DTSTART:20250309T070000
END:DAYLIGHT
BEGIN:STANDARD
TZOFFSETFROM:-0400
TZOFFSETTO:-0500
TZNAME:EST
DTSTART:20251102T060000
END:STANDARD
END:VTIMEZONE
BEGIN:VEVENT
DTSTART;TZID=America/New_York:20240420T080000
DTEND;TZID=America/New_York:20240420T110000
DTSTAMP:20260421T132800
CREATED:20240223T173745Z
LAST-MODIFIED:20240322T185812Z
UID:7076-1713600000-1713610800@sotterley.org
SUMMARY:What's Soaring at Sotterley Birdwalk
DESCRIPTION:April 20\, 2024 – Historic Sotterley and Southern Maryland Audobon Society are joining in partnership to bring you this FREE Event being led by Dean Newman\, Director of the Southern Maryland Audobon Society. \nCelebrate Earth Day with a bird walk at this scenic and historic Patuxent River property as the annual surge of migrating birds begins throughout St. Mary’s County. Nesting Bald Eagles\, migrating warblers\, meadowlarks\, woodpeckers and waterfowl can all be found via Sotterley’s farm roads and trails. \nThe walk starts promptly at 8:00 am\, please arrive 10-15 minutes prior in the parking lot in front of the Visitor Center. Please bring binoculars and a field guide (don’t worry if you don’t have). Suggested to wear comfortable walking shoes and attire weather appropriate. For all levels of birdwatchers. \n  \nRegister Here
URL:https://sotterley.org/event/whats-soaring-at-sotterley-birdwalk/
LOCATION:Historic Sotterley\, 44300 Sotterley Lane\, Hollywood\, MD\, 20636\, United States
ATTACH;FMTTYPE=image/png:https://sotterley.org/wp-content/uploads/2024/02/Wordpress-Featured-Image-Whats-Soaring-at-Sotterley.png
ORGANIZER;CN="Historic Sotterley":MAILTO:marketing@sotterley.org
END:VEVENT
END:VCALENDAR