BEGIN:VCALENDAR
VERSION:2.0
PRODID:-//Sotterley - ECPv6.15.17.1//NONSGML v1.0//EN
CALSCALE:GREGORIAN
METHOD:PUBLISH
X-ORIGINAL-URL:https://sotterley.org
X-WR-CALDESC:Events for Sotterley
REFRESH-INTERVAL;VALUE=DURATION:PT1H
X-Robots-Tag:noindex
X-PUBLISHED-TTL:PT1H
BEGIN:VTIMEZONE
TZID:America/New_York
BEGIN:DAYLIGHT
TZOFFSETFROM:-0500
TZOFFSETTO:-0400
TZNAME:EDT
DTSTART:20230312T070000
END:DAYLIGHT
BEGIN:STANDARD
TZOFFSETFROM:-0400
TZOFFSETTO:-0500
TZNAME:EST
DTSTART:20231105T060000
END:STANDARD
BEGIN:DAYLIGHT
TZOFFSETFROM:-0500
TZOFFSETTO:-0400
TZNAME:EDT
DTSTART:20240310T070000
END:DAYLIGHT
BEGIN:STANDARD
TZOFFSETFROM:-0400
TZOFFSETTO:-0500
TZNAME:EST
DTSTART:20241103T060000
END:STANDARD
BEGIN:DAYLIGHT
TZOFFSETFROM:-0500
TZOFFSETTO:-0400
TZNAME:EDT
DTSTART:20250309T070000
END:DAYLIGHT
BEGIN:STANDARD
TZOFFSETFROM:-0400
TZOFFSETTO:-0500
TZNAME:EST
DTSTART:20251102T060000
END:STANDARD
END:VTIMEZONE
BEGIN:VEVENT
DTSTART;TZID=America/New_York:20240406T090000
DTEND;TZID=America/New_York:20240406T120000
DTSTAMP:20260421T132901
CREATED:20240207T151950Z
LAST-MODIFIED:20240322T185812Z
UID:6915-1712394000-1712404800@sotterley.org
SUMMARY:Growing for Good Planting Day
DESCRIPTION:April 6\, 2024 – Ready to help Historic Sotterley usher in spring? We’re looking for volunteers who don’t mind getting dirty\, love gardening and farming\, and want to help their community to join us for our Growing for Good Planting Days! You will help us get our seeds planted so they can start growing in our Hoop House or cut and prep potatoes for planting in our fields. What we produce here at Historic Sotterley gets donated to our partners at local food banks and pantries to support community members in need. \n  \nWe’re hosting 3 planting days: March 23\, March 30\, and April 6. Planting will take place from 9:00 am to 12:00 pm. These planting dates are not weather dependent\, if the weather does not cooperate we can move indoors to continue planting while staying dry! Please sign up in advance so we can know how many volunteers to expect. \n  \nThis volunteer opportunity is family-friendly. Anyone 5 years and older is invited to help us plant\, and it’s a wonderful opportunity to teach little ones about where food comes from. This is also a great opportunity for Girl Scout or Boy Scout troops to get their volunteer requirements in. \n  \nPlan to arrive 15 minutes prior to the start time and check-in at the Farm Building to the right of the Visitor Center. We recommend hats\, gloves\, sunscreen\, bug spray\, and shoes and clothes you are not afraid to get dirty. \n  \nRegister to Volunteer Here!
URL:https://sotterley.org/event/growing-for-good-planting-day-3/
LOCATION:Historic Sotterley\, 44300 Sotterley Lane\, Hollywood\, MD\, 20636\, United States
ATTACH;FMTTYPE=image/png:https://sotterley.org/wp-content/uploads/2024/01/Copy-of-Wordpress-Featured-Image-Planting-Day-1.png
ORGANIZER;CN="Historic Sotterley":MAILTO:marketing@sotterley.org
END:VEVENT
END:VCALENDAR