BEGIN:VCALENDAR
VERSION:2.0
PRODID:-//Sotterley - ECPv6.15.17.1//NONSGML v1.0//EN
CALSCALE:GREGORIAN
METHOD:PUBLISH
X-WR-CALNAME:Sotterley
X-ORIGINAL-URL:https://sotterley.org
X-WR-CALDESC:Events for Sotterley
REFRESH-INTERVAL;VALUE=DURATION:PT1H
X-Robots-Tag:noindex
X-PUBLISHED-TTL:PT1H
BEGIN:VTIMEZONE
TZID:America/New_York
BEGIN:DAYLIGHT
TZOFFSETFROM:-0500
TZOFFSETTO:-0400
TZNAME:EDT
DTSTART:20220313T070000
END:DAYLIGHT
BEGIN:STANDARD
TZOFFSETFROM:-0400
TZOFFSETTO:-0500
TZNAME:EST
DTSTART:20221106T060000
END:STANDARD
BEGIN:DAYLIGHT
TZOFFSETFROM:-0500
TZOFFSETTO:-0400
TZNAME:EDT
DTSTART:20230312T070000
END:DAYLIGHT
BEGIN:STANDARD
TZOFFSETFROM:-0400
TZOFFSETTO:-0500
TZNAME:EST
DTSTART:20231105T060000
END:STANDARD
BEGIN:DAYLIGHT
TZOFFSETFROM:-0500
TZOFFSETTO:-0400
TZNAME:EDT
DTSTART:20240310T070000
END:DAYLIGHT
BEGIN:STANDARD
TZOFFSETFROM:-0400
TZOFFSETTO:-0500
TZNAME:EST
DTSTART:20241103T060000
END:STANDARD
END:VTIMEZONE
BEGIN:VEVENT
DTSTART;TZID=America/New_York:20231007T120000
DTEND;TZID=America/New_York:20231007T170000
DTSTAMP:20260421T212738
CREATED:20230711T204908Z
LAST-MODIFIED:20240322T190039Z
UID:6544-1696680000-1696698000@sotterley.org
SUMMARY:Southern Maryland Heritage Festival
DESCRIPTION:October 7th & 8th – Historic Sotterley is proud to announce a NEW event: the Southern Maryland Heritage Festival. This festival is a celebration of Southern Maryland food\, culture\, history\, and the people that make it unique. The two-day event will feature music\, heritage demos and exhibits\, food trucks\, artisan vendors\, family activities\, and so much more. \nMusic & Entertainment – Music is part of our heritage! Enjoy a range of country\, rock\, gospel\, jazz at various stages around the site. So much to choose from! Local comedy acts for kids and adults will also be featured in various locations on site. \nHeritage Demos & Exhibits – Check out demonstrations and exhibits from Southern Maryland businesses and organizations\, such as blacksmithing\, quilting\, bee keeping\, antique tractor demos and more! \nFood and Artisan Vendors – Shop one-of-a-kind hand-crafted goods made by local artisans\, and enjoy fabulous food from local favorites! \nBeer & Wine – Brews on tap and wine will be available at two locations on site\, including our historic Barn (bring your ID!) \nKids Corner – Your little ones will enjoy games\, and other family -friendly activities \nWagon Rides – Take a scenic ride through Historic Sotterley on a wagon hauled by our new tractor \nOpen House Tours – Explore some areas of our Manor House and learn some history from our experienced docents \n  \nWe will be running a food drive for St. Mary’s Caring Kitchen during this event! Please bring only nonperishable food items that have not expired. Donations can be dropped off at the donation table next to admissions as guests are entering the event – no need to carry them around! \n  \nTicket Pricing \nTwo-Day Entrance (adults only): $40 in advance\, $50 at the gate \nAdults: $25 in advance\, $30 at the gate \nMembers: $20 \nYouth (13-17): $10 \nChildren (12 & under): FREE \nTicket purchase can be used for a one-day entry on Saturday or Sunday and covers entry to the event only. Food & drink will be available for purchase. If you would like to attend both days you can purchase a second ticket. Not a member\, not a problem! Click here to join us and become a member today! \nAttendees are encouraged to bring chairs & blankets\, but NO coolers or pets will be allowed at the event! \nPURCHASE TICKETS HERE\n  \nFULL EVENT PROGRAM
URL:https://sotterley.org/event/heritage/
LOCATION:Historic Sotterley\, 44300 Sotterley Lane\, Hollywood\, MD\, 20636\, United States
ATTACH;FMTTYPE=image/png:https://sotterley.org/wp-content/uploads/2023/07/Heritage-Website-Feature-Image.png
ORGANIZER;CN="Historic Sotterley":MAILTO:marketing@sotterley.org
END:VEVENT
END:VCALENDAR