BEGIN:VCALENDAR
VERSION:2.0
PRODID:-//Sotterley - ECPv6.15.17.1//NONSGML v1.0//EN
CALSCALE:GREGORIAN
METHOD:PUBLISH
X-WR-CALNAME:Sotterley
X-ORIGINAL-URL:https://sotterley.org
X-WR-CALDESC:Events for Sotterley
REFRESH-INTERVAL;VALUE=DURATION:PT1H
X-Robots-Tag:noindex
X-PUBLISHED-TTL:PT1H
BEGIN:VTIMEZONE
TZID:America/New_York
BEGIN:DAYLIGHT
TZOFFSETFROM:-0500
TZOFFSETTO:-0400
TZNAME:EDT
DTSTART:20220313T070000
END:DAYLIGHT
BEGIN:STANDARD
TZOFFSETFROM:-0400
TZOFFSETTO:-0500
TZNAME:EST
DTSTART:20221106T060000
END:STANDARD
BEGIN:DAYLIGHT
TZOFFSETFROM:-0500
TZOFFSETTO:-0400
TZNAME:EDT
DTSTART:20230312T070000
END:DAYLIGHT
BEGIN:STANDARD
TZOFFSETFROM:-0400
TZOFFSETTO:-0500
TZNAME:EST
DTSTART:20231105T060000
END:STANDARD
BEGIN:DAYLIGHT
TZOFFSETFROM:-0500
TZOFFSETTO:-0400
TZNAME:EDT
DTSTART:20240310T070000
END:DAYLIGHT
BEGIN:STANDARD
TZOFFSETFROM:-0400
TZOFFSETTO:-0500
TZNAME:EST
DTSTART:20241103T060000
END:STANDARD
END:VTIMEZONE
BEGIN:VEVENT
DTSTART;TZID=America/New_York:20230915T103000
DTEND;TZID=America/New_York:20230915T123000
DTSTAMP:20260421T223703
CREATED:20230720T121552Z
LAST-MODIFIED:20240322T190039Z
UID:6568-1694773800-1694781000@sotterley.org
SUMMARY:Homeschool Day Nature Walk
DESCRIPTION:September 15th\, 2023 – The Sierra Club Southern Maryland Group will be partnering with Historic Sotterley for a family-friendly homeschool day activity. From 10:30 am to 12:30 pm\, kids can take a nature walk exploring the grounds of Sotterley and learning about local ecosystem. Afterwards\, children will have the opportunity to create their own artistic masterpiece depicting the gardens of Sotterley. \nThe event is $5 per person\, but guided tours will be available for an additional purchase if families wish to extend their stay and learn about Sotterley’s history.
URL:https://sotterley.org/event/homeschool-day-nature-walk/
LOCATION:Historic Sotterley\, 44300 Sotterley Lane\, Hollywood\, MD\, 20636\, United States
ATTACH;FMTTYPE=image/png:https://sotterley.org/wp-content/uploads/2023/07/Copy-of-Copy-of-People-and-Perspectives-David-Moulton.png
END:VEVENT
END:VCALENDAR