BEGIN:VCALENDAR
VERSION:2.0
PRODID:-//Sotterley - ECPv6.15.17.1//NONSGML v1.0//EN
CALSCALE:GREGORIAN
METHOD:PUBLISH
X-WR-CALNAME:Sotterley
X-ORIGINAL-URL:https://sotterley.org
X-WR-CALDESC:Events for Sotterley
REFRESH-INTERVAL;VALUE=DURATION:PT1H
X-Robots-Tag:noindex
X-PUBLISHED-TTL:PT1H
BEGIN:VTIMEZONE
TZID:America/New_York
BEGIN:DAYLIGHT
TZOFFSETFROM:-0500
TZOFFSETTO:-0400
TZNAME:EDT
DTSTART:20220313T070000
END:DAYLIGHT
BEGIN:STANDARD
TZOFFSETFROM:-0400
TZOFFSETTO:-0500
TZNAME:EST
DTSTART:20221106T060000
END:STANDARD
BEGIN:DAYLIGHT
TZOFFSETFROM:-0500
TZOFFSETTO:-0400
TZNAME:EDT
DTSTART:20230312T070000
END:DAYLIGHT
BEGIN:STANDARD
TZOFFSETFROM:-0400
TZOFFSETTO:-0500
TZNAME:EST
DTSTART:20231105T060000
END:STANDARD
BEGIN:DAYLIGHT
TZOFFSETFROM:-0500
TZOFFSETTO:-0400
TZNAME:EDT
DTSTART:20240310T070000
END:DAYLIGHT
BEGIN:STANDARD
TZOFFSETFROM:-0400
TZOFFSETTO:-0500
TZNAME:EST
DTSTART:20241103T060000
END:STANDARD
END:VTIMEZONE
BEGIN:VEVENT
DTSTART;TZID=America/New_York:20230913T190000
DTEND;TZID=America/New_York:20230913T190000
DTSTAMP:20260421T223703
CREATED:20230719T150338Z
LAST-MODIFIED:20240322T190039Z
UID:6563-1694631600-1694631600@sotterley.org
SUMMARY:Sotterley Presents: People and Perspectives with David Moulton
DESCRIPTION:September 13\, 2023 – Saving Grassland Birds in Sotterley’s Hayfields \nDavid Moulton\, founder of Saving Southern Maryland’s Grassland Birds\, will discuss the role Sotterley has played in finding ways to bale hay while trying not to harm baby birds at the same time. Some of our most beloved species of grassland birds\, such as the Eastern Meadowlark\, nest only in large hay fields during May and June – often conflicting directly with the spring hay harvest.  What can be done? With Sotterley’s property manager\, Joe Goldsmith\, David has undertaken a series of experiments to demonstrate that by altering harvest techniques\, timing and patterns\, Southern Maryland hay farmers can often maintain their haying operations while significantly increasing the reproductive success of the birds.  He will outline their findings and share ideas about maintaining our agricultural heritage and conserving our threatened wildlife. \nDavid Moulton has been an avid birder since he was a boy in Massachusetts\, where he accompanied his dad to such birding hotspots as Plum Island\, Cape Ann and the Great Meadows of Concord. He moved to Washington\, DC to attend law school at Georgetown and to pursue a professional career working on energy\, environment and climate policy in the US House of Representatives. Now in retirement\, David devotes much of his time to saving habitat for birds. In 2020\, he initiated a nonprofit demonstration project in St. Mary’s County – Saving Southern Maryland’s Grassland Birds. This project experiments with bird-friendly hay mowing techniques that can lessen the mortality of grassland birds during the breeding season. Through the “Grassland Ambassadors” at the Southern Maryland Audubon Society\, he is hoping to reduce the decline of hayfield-nesting birds with the cooperation of conservation-minded landowners. \nDavid has served as the field trip coordinator for the Southern Maryland Audubon Society\, a board member of the Patuxent Tidewater Land Trust\, and is currently a member of the Administrative Board of the Cornell Lab of Ornithology. After six decades-worth of hours in the field\, he can report a Life List for North American species that tops 700 species. \n  \nThis event will be in-person only. We request that you register in advance here: \nRegister for FREE Here!
URL:https://sotterley.org/event/sotterley-presents-people-and-perspectives-with-david-moulton/
LOCATION:Historic Sotterley\, 44300 Sotterley Lane\, Hollywood\, MD\, 20636\, United States
ATTACH;FMTTYPE=image/png:https://sotterley.org/wp-content/uploads/2023/07/Copy-of-People-and-Perspectives-David-Moulton-1.png
END:VEVENT
END:VCALENDAR