BEGIN:VCALENDAR
VERSION:2.0
PRODID:-//Sotterley - ECPv6.15.17.1//NONSGML v1.0//EN
CALSCALE:GREGORIAN
METHOD:PUBLISH
X-WR-CALNAME:Sotterley
X-ORIGINAL-URL:https://sotterley.org
X-WR-CALDESC:Events for Sotterley
REFRESH-INTERVAL;VALUE=DURATION:PT1H
X-Robots-Tag:noindex
X-PUBLISHED-TTL:PT1H
BEGIN:VTIMEZONE
TZID:America/New_York
BEGIN:DAYLIGHT
TZOFFSETFROM:-0500
TZOFFSETTO:-0400
TZNAME:EDT
DTSTART:20220313T070000
END:DAYLIGHT
BEGIN:STANDARD
TZOFFSETFROM:-0400
TZOFFSETTO:-0500
TZNAME:EST
DTSTART:20221106T060000
END:STANDARD
BEGIN:DAYLIGHT
TZOFFSETFROM:-0500
TZOFFSETTO:-0400
TZNAME:EDT
DTSTART:20230312T070000
END:DAYLIGHT
BEGIN:STANDARD
TZOFFSETFROM:-0400
TZOFFSETTO:-0500
TZNAME:EST
DTSTART:20231105T060000
END:STANDARD
BEGIN:DAYLIGHT
TZOFFSETFROM:-0500
TZOFFSETTO:-0400
TZNAME:EDT
DTSTART:20240310T070000
END:DAYLIGHT
BEGIN:STANDARD
TZOFFSETFROM:-0400
TZOFFSETTO:-0500
TZNAME:EST
DTSTART:20241103T060000
END:STANDARD
END:VTIMEZONE
BEGIN:VEVENT
DTSTART;TZID=America/New_York:20230819T100000
DTEND;TZID=America/New_York:20230819T123000
DTSTAMP:20260421T234544
CREATED:20230613T150439Z
LAST-MODIFIED:20240322T190040Z
UID:6387-1692439200-1692448200@sotterley.org
SUMMARY:Day of Unity and Healing – Beyond Color: The Power of Connection
DESCRIPTION:Historic Sotterley’s Day of Unity and Healing is a Descendant planned event that remembers and celebrates our complete American Heritage and all Descendants through leadership\, education\, history and the arts. \nThis year’s event\, Beyond Color: The Power of Connection\, will be held on August 19\, 2023 from 10:00am to 12:30pm. One of the first steps to healing is understanding the truth about our history and building bridges of understanding to move forward and create a better community and country. The event will feature a keynote from Rev. Lawrence Ellis Walker\, Sr.\, speakers\, music\, a performance by Washington Revels Jubilee Voices\, brief video screenings\, and a UNESCO Remembrance Ceremony. After the event\, guests can visit the historic barn for a display of Documentary Story Quilts and walk through Historic Sotterley’s exhibits. \n“It starts with every individual being open to listening and learning. We can’t change our history\, but we can reflect\, learn\, and heal to build a better tomorrow.” – Gwen Bankins and Jan Briscoe Descendants and Historic Sotterley Board Trustees \n  \nThis event is free and open to the public\, but we request that attendees register in advance. \nRegister HERE\n  \nEvent Attractions: \nThe Washington Revels Jubilee Voices ensemble will present songs and stories of struggle and perseverance\, trials and triumphs expressed through acapella music\, drama and dance \nOn display will be Documentary Story Quilts by Dr. Joan M.E. Gaither which reflect the personal stories of life experiences of other people\, places and events that keep connections to our American Heritage capture and record oral histories and memories that bring and eye and ear to humanitarian concerns. \nPresenters: Daryl Hinman\, Lucille Walker\, Common Groove Band\, Shamika Renee\, Janice Walthour\, Dorothy Waters \nArtist Nicole Stewart will unveil the first few portraits of the Historic Sotterley Descendants Portrait Project \nDescendants: Dante Eubanks\, Kelsey Bush\, Jan Briscoe\, Gwen Bankins\, Jerome Spears\, Angela Wilson \nUNESCO Remembrance Ceremony\, Return Passage Highlights \nVideo: Walking and Talking Common Ground \n  \n**Please note\, we will not have morning guided tours due to this event. Guided tours will resume at 1pm.**
URL:https://sotterley.org/event/day-of-unity-and-healing-2023/
LOCATION:Historic Sotterley\, 44300 Sotterley Lane\, Hollywood\, MD\, 20636\, United States
ORGANIZER;CN="Historic Sotterley":MAILTO:marketing@sotterley.org
END:VEVENT
END:VCALENDAR