BEGIN:VCALENDAR
VERSION:2.0
PRODID:-//Sotterley - ECPv6.15.17.1//NONSGML v1.0//EN
CALSCALE:GREGORIAN
METHOD:PUBLISH
X-WR-CALNAME:Sotterley
X-ORIGINAL-URL:https://sotterley.org
X-WR-CALDESC:Events for Sotterley
REFRESH-INTERVAL;VALUE=DURATION:PT1H
X-Robots-Tag:noindex
X-PUBLISHED-TTL:PT1H
BEGIN:VTIMEZONE
TZID:America/New_York
BEGIN:DAYLIGHT
TZOFFSETFROM:-0500
TZOFFSETTO:-0400
TZNAME:EDT
DTSTART:20220313T070000
END:DAYLIGHT
BEGIN:STANDARD
TZOFFSETFROM:-0400
TZOFFSETTO:-0500
TZNAME:EST
DTSTART:20221106T060000
END:STANDARD
BEGIN:DAYLIGHT
TZOFFSETFROM:-0500
TZOFFSETTO:-0400
TZNAME:EDT
DTSTART:20230312T070000
END:DAYLIGHT
BEGIN:STANDARD
TZOFFSETFROM:-0400
TZOFFSETTO:-0500
TZNAME:EST
DTSTART:20231105T060000
END:STANDARD
BEGIN:DAYLIGHT
TZOFFSETFROM:-0500
TZOFFSETTO:-0400
TZNAME:EDT
DTSTART:20240310T070000
END:DAYLIGHT
BEGIN:STANDARD
TZOFFSETFROM:-0400
TZOFFSETTO:-0500
TZNAME:EST
DTSTART:20241103T060000
END:STANDARD
END:VTIMEZONE
BEGIN:VEVENT
DTSTART;TZID=America/New_York:20230818T103000
DTEND;TZID=America/New_York:20230818T120000
DTSTAMP:20260421T234543
CREATED:20230726T150601Z
LAST-MODIFIED:20240322T190040Z
UID:6579-1692354600-1692360000@sotterley.org
SUMMARY:The Importance of Bees - Family Friendly Activities
DESCRIPTION:August 18\, 2023 – Join us from 10:30-12:00 for a family friendly activity.  Melanie\, a Historic Sotterley intern and apprentice with the Teacher Academy Program\, will lead a story time and hands on craft. Bea\, a Historic Sotterley intern and student at St. Mary’s Ryken\, will talk about her experiences as a beekeeper. This is a wonderful opportunity for kids to learn about one of our most important pollinators and ask questions to one of the people who works with them.\n \n\nActivity will take place under the riverside portico of the manor house and the cost is the $5/person grounds fee and check in is at the museum shop.
URL:https://sotterley.org/event/the-importance-of-bees-family-friendly-activities/
LOCATION:Historic Sotterley\, 44300 Sotterley Lane\, Hollywood\, MD\, 20636\, United States
ATTACH;FMTTYPE=image/png:https://sotterley.org/wp-content/uploads/2023/07/Website-Hero-Image-Bees-1.png
END:VEVENT
END:VCALENDAR