BEGIN:VCALENDAR
VERSION:2.0
PRODID:-//Sotterley - ECPv6.15.17.1//NONSGML v1.0//EN
CALSCALE:GREGORIAN
METHOD:PUBLISH
X-WR-CALNAME:Sotterley
X-ORIGINAL-URL:https://sotterley.org
X-WR-CALDESC:Events for Sotterley
REFRESH-INTERVAL;VALUE=DURATION:PT1H
X-Robots-Tag:noindex
X-PUBLISHED-TTL:PT1H
BEGIN:VTIMEZONE
TZID:America/New_York
BEGIN:DAYLIGHT
TZOFFSETFROM:-0500
TZOFFSETTO:-0400
TZNAME:EDT
DTSTART:20220313T070000
END:DAYLIGHT
BEGIN:STANDARD
TZOFFSETFROM:-0400
TZOFFSETTO:-0500
TZNAME:EST
DTSTART:20221106T060000
END:STANDARD
BEGIN:DAYLIGHT
TZOFFSETFROM:-0500
TZOFFSETTO:-0400
TZNAME:EDT
DTSTART:20230312T070000
END:DAYLIGHT
BEGIN:STANDARD
TZOFFSETFROM:-0400
TZOFFSETTO:-0500
TZNAME:EST
DTSTART:20231105T060000
END:STANDARD
BEGIN:DAYLIGHT
TZOFFSETFROM:-0500
TZOFFSETTO:-0400
TZNAME:EDT
DTSTART:20240310T070000
END:DAYLIGHT
BEGIN:STANDARD
TZOFFSETFROM:-0400
TZOFFSETTO:-0500
TZNAME:EST
DTSTART:20241103T060000
END:STANDARD
END:VTIMEZONE
BEGIN:VEVENT
DTSTART;TZID=America/New_York:20230621T190000
DTEND;TZID=America/New_York:20230621T190000
DTSTAMP:20260422T022417
CREATED:20230517T155233Z
LAST-MODIFIED:20240322T190040Z
UID:6362-1687374000-1687374000@sotterley.org
SUMMARY:Talking and Walking Common Ground: A Shared Vision in Action
DESCRIPTION:Historic Sotterley is proud to host another installment in its 2023 Sotterley Presents: People and Perspectives on June 21st with “Talking and Walking Common Ground: A Shared Vision in Action”.  This virtual event will feature a panel discussion of museum leadership from James Madison’s Montpelier\, Riversdale House Museum\, and Historic Sotterley as they discuss their site’s journeys toward providing a more honest and inclusive history. They will talk about their challenges\, their successes\, and their sites’ inclusion of descendants in this important work. \nThe panel will include Elizabeth Chew\, Senior Director of Museum Programs and Chief Curator of James Madison’s Montpelier\, Maya Davis\, Executive Director of the Riversdale House Museum\, and Nancy Easterling\, Executive Director of Historic Sotterley. All three of these historic museum sites have experienced ongoing transformations in how their history and stories are interpreted.  The journey has not always been easy\, and each site has had to face unique challenges as well as shared ones\, but these museums represent a growing movement dedicated to providing a more holistic and honest view into our shared past\, as well as creating ways to find Common Ground. \nElizabeth Chew\, Ph.D. is the Senior Director of Museum Programs and Chief Curator at James Madison’s Montpelier\, where she oversees the Curatorial\, Education\, and Research departments. She has worked at museums and historic sites since 1985. At Montpelier she has overseen the excavation and reconstruction of six slave dwellings and work buildings\, the creation of the exhibition The Mere Distinction of Colour\, winner of six national awards\, and the National Summit on Teaching Slavery. As curator at Monticello for thirteen years\, she was instrumental in expanding interpretation to include women\, slavery\, and domestic work. \nMaya Davis is the Director of the Riversdale House Museum\, the former 19th Century Plantation home of George and Rosalie Calvert\, as well as generations of enslaved families held in bondage. Prior to her arrival at Riversdale\, Maya was the Research Archivist and Legislative Liaison at the Maryland State Archive where she consulted on statewide projects that documented\, interpreted\, and preserved African American History and Culture and facilitated discussions on state legislation and prepared statements for contemplated legislation. \n\nRegister Here! 
URL:https://sotterley.org/event/talking-and-walking-common-ground-a-shared-vision-in-action/
LOCATION:Virtual
ATTACH;FMTTYPE=image/png:https://sotterley.org/wp-content/uploads/2023/05/Copy-of-People-and-Perspectives-Imani-2.png
ORGANIZER;CN="Historic Sotterley":MAILTO:marketing@sotterley.org
END:VEVENT
END:VCALENDAR