BEGIN:VCALENDAR
VERSION:2.0
PRODID:-//Sotterley - ECPv6.15.17.1//NONSGML v1.0//EN
CALSCALE:GREGORIAN
METHOD:PUBLISH
X-WR-CALNAME:Sotterley
X-ORIGINAL-URL:https://sotterley.org
X-WR-CALDESC:Events for Sotterley
REFRESH-INTERVAL;VALUE=DURATION:PT1H
X-Robots-Tag:noindex
X-PUBLISHED-TTL:PT1H
BEGIN:VTIMEZONE
TZID:America/New_York
BEGIN:DAYLIGHT
TZOFFSETFROM:-0500
TZOFFSETTO:-0400
TZNAME:EDT
DTSTART:20220313T070000
END:DAYLIGHT
BEGIN:STANDARD
TZOFFSETFROM:-0400
TZOFFSETTO:-0500
TZNAME:EST
DTSTART:20221106T060000
END:STANDARD
BEGIN:DAYLIGHT
TZOFFSETFROM:-0500
TZOFFSETTO:-0400
TZNAME:EDT
DTSTART:20230312T070000
END:DAYLIGHT
BEGIN:STANDARD
TZOFFSETFROM:-0400
TZOFFSETTO:-0500
TZNAME:EST
DTSTART:20231105T060000
END:STANDARD
BEGIN:DAYLIGHT
TZOFFSETFROM:-0500
TZOFFSETTO:-0400
TZNAME:EDT
DTSTART:20240310T070000
END:DAYLIGHT
BEGIN:STANDARD
TZOFFSETFROM:-0400
TZOFFSETTO:-0500
TZNAME:EST
DTSTART:20241103T060000
END:STANDARD
END:VTIMEZONE
BEGIN:VEVENT
DTSTART;VALUE=DATE:20230615
DTEND;VALUE=DATE:20230619
DTSTAMP:20260422T021614
CREATED:20230517T162144Z
LAST-MODIFIED:20250320T160258Z
UID:6368-1686787200-1687132799@sotterley.org
SUMMARY:Juneteenth Weekend Tours
DESCRIPTION:In honor of Juneteenth\, Historic Sotterley will offer guided tours focusing on stories of strength and resilience. Learn about how over the centuries\, the enslaved at Sotterley resisted against slavery\, how they maintained strength and identity when it had been denied to them\, how they built families and communities\, and discover how many took their freedom\, and what life was like at Sotterley after the abolition of slavery. \nTours will run from Thursday\, June 15th until Sunday June 18th. \nNote: We will be closed on Juneteenth\, Monday\, June 19th. \n  \nTour Times\nThursday – Saturday \n10:30 am\, 11:30 am\, 1 pm\, 2 pm\, 3 pm \nSunday \nNoon\, 1 pm\, 2 pm\, 3 pm \n  \nPricing\nAdults: $10 \nSenior: $9 \nYouth: $6 \nChildren: FREE \n*** Half-Priced Admission for everyone on Father’s Day 6/18 ***
URL:https://sotterley.org/event/juneteenth-weekend-tours/
LOCATION:Historic Sotterley\, 44300 Sotterley Lane\, Hollywood\, MD\, 20636\, United States
ATTACH;FMTTYPE=image/png:https://sotterley.org/wp-content/uploads/2023/05/Copy-of-Copy-of-People-and-Perspectives-Imani.png
ORGANIZER;CN="Historic Sotterley":MAILTO:marketing@sotterley.org
END:VEVENT
BEGIN:VEVENT
DTSTART;TZID=America/New_York:20230617T103000
DTEND;TZID=America/New_York:20230617T130000
DTSTAMP:20260422T021614
CREATED:20230321T200827Z
LAST-MODIFIED:20240322T190424Z
UID:6259-1686997800-1687006800@sotterley.org
SUMMARY:Paper Rocket Launching with the Robobees and GrowingSTEMS
DESCRIPTION:Join us at Historic Sotterley for a perfect family fun activity! The Robobees and GrowingSTEMS will be on site to build and launch paper rockets with you. They’ll also be doing demos with some of the robots that they’ve designed and built. This event happens the day before Father’s Day\, making it a great chance for Dads and kids to learn together about science and engineering – or just launch cool stuff into the air! \n  \nThe activity is available to everyone and is included in our $5 per person grounds fee.
URL:https://sotterley.org/event/paper-rocket-launching/
LOCATION:Historic Sotterley\, 44300 Sotterley Lane\, Hollywood\, MD\, 20636\, United States
END:VEVENT
END:VCALENDAR