BEGIN:VCALENDAR
VERSION:2.0
PRODID:-//Sotterley - ECPv6.15.17.1//NONSGML v1.0//EN
CALSCALE:GREGORIAN
METHOD:PUBLISH
X-WR-CALNAME:Sotterley
X-ORIGINAL-URL:https://sotterley.org
X-WR-CALDESC:Events for Sotterley
REFRESH-INTERVAL;VALUE=DURATION:PT1H
X-Robots-Tag:noindex
X-PUBLISHED-TTL:PT1H
BEGIN:VTIMEZONE
TZID:America/New_York
BEGIN:DAYLIGHT
TZOFFSETFROM:-0500
TZOFFSETTO:-0400
TZNAME:EDT
DTSTART:20220313T070000
END:DAYLIGHT
BEGIN:STANDARD
TZOFFSETFROM:-0400
TZOFFSETTO:-0500
TZNAME:EST
DTSTART:20221106T060000
END:STANDARD
BEGIN:DAYLIGHT
TZOFFSETFROM:-0500
TZOFFSETTO:-0400
TZNAME:EDT
DTSTART:20230312T070000
END:DAYLIGHT
BEGIN:STANDARD
TZOFFSETFROM:-0400
TZOFFSETTO:-0500
TZNAME:EST
DTSTART:20231105T060000
END:STANDARD
BEGIN:DAYLIGHT
TZOFFSETFROM:-0500
TZOFFSETTO:-0400
TZNAME:EDT
DTSTART:20240310T070000
END:DAYLIGHT
BEGIN:STANDARD
TZOFFSETFROM:-0400
TZOFFSETTO:-0500
TZNAME:EST
DTSTART:20241103T060000
END:STANDARD
END:VTIMEZONE
BEGIN:VEVENT
DTSTART;TZID=America/New_York:20230329T190000
DTEND;TZID=America/New_York:20230329T190000
DTSTAMP:20260422T044028
CREATED:20230227T143845Z
LAST-MODIFIED:20240322T190426Z
UID:6205-1680116400-1680116400@sotterley.org
SUMMARY:Talking and Walking Common Ground Film Screening
DESCRIPTION:Historic Sotterley and St. Mary’s County Library invite the public to join us virtually on Wednesday\, March 29th at 7:00pm for a screening of Talking and Walking Common Ground followed by a panel discussion with several of the Sotterley Descendants who are featured in the film. The Descendants will discuss Sotterley’s mission\, the importance of interpreting the realities of our shared history honestly\, and the complex feelings that facing these realities can bring. \nThis program will be held free of charge\, and you can join us for this virtual event by registering via the Zoom link on sotterley.org or on the St. Mary’s County Library events calendar found on www.stmalib.org. Guests will be able to participate in a Question-and-Answer session that evening via Chat. \nAbout the film: Talking and Walking Common Ground is a short\, interview-based film about Historic Sotterley’s Common Ground Initiative and Descendant Project. It features descendants of Sotterley enslaved and Sotterley owners sharing their stories in their own words. \nThis documentary was filmed with a grant from Maryland Heritage Area Authority and first screened at Historic Sotterley’s Day of Unity and Healing event in August of last year. \nThe discussion panel will include the film’s director\, Merideth Taylor\, and Sotterley Descendants Gwen Bankins\, Jan Briscoe\, Martina Callum\, Dante Eubanks\, Jerome Spears\, Trudy Taliaferro\, and Angela Wilson. \n  \nYou can register on the St. Mary’s County Library Website\, HERE!
URL:https://sotterley.org/event/talking-and-walking-common-ground-film-screening/
LOCATION:Virtual
END:VEVENT
END:VCALENDAR