BEGIN:VCALENDAR
VERSION:2.0
PRODID:-//Sotterley - ECPv6.15.17.1//NONSGML v1.0//EN
CALSCALE:GREGORIAN
METHOD:PUBLISH
X-WR-CALNAME:Sotterley
X-ORIGINAL-URL:https://sotterley.org
X-WR-CALDESC:Events for Sotterley
REFRESH-INTERVAL;VALUE=DURATION:PT1H
X-Robots-Tag:noindex
X-PUBLISHED-TTL:PT1H
BEGIN:VTIMEZONE
TZID:America/New_York
BEGIN:DAYLIGHT
TZOFFSETFROM:-0500
TZOFFSETTO:-0400
TZNAME:EDT
DTSTART:20220313T070000
END:DAYLIGHT
BEGIN:STANDARD
TZOFFSETFROM:-0400
TZOFFSETTO:-0500
TZNAME:EST
DTSTART:20221106T060000
END:STANDARD
BEGIN:DAYLIGHT
TZOFFSETFROM:-0500
TZOFFSETTO:-0400
TZNAME:EDT
DTSTART:20230312T070000
END:DAYLIGHT
BEGIN:STANDARD
TZOFFSETFROM:-0400
TZOFFSETTO:-0500
TZNAME:EST
DTSTART:20231105T060000
END:STANDARD
BEGIN:DAYLIGHT
TZOFFSETFROM:-0500
TZOFFSETTO:-0400
TZNAME:EDT
DTSTART:20240310T070000
END:DAYLIGHT
BEGIN:STANDARD
TZOFFSETFROM:-0400
TZOFFSETTO:-0500
TZNAME:EST
DTSTART:20241103T060000
END:STANDARD
END:VTIMEZONE
BEGIN:VEVENT
DTSTART;TZID=America/New_York:20230319T090000
DTEND;TZID=America/New_York:20230319T130000
DTSTAMP:20260422T065324
CREATED:20230123T155935Z
LAST-MODIFIED:20240322T190426Z
UID:6135-1679216400-1679230800@sotterley.org
SUMMARY:AeroPark Farmer's Market
DESCRIPTION:Historic Sotterley is sponsoring the AeroPark Farmer’s Market\, but you don’t need a plane to visit! Drive\, bike\, or walk in to get fresh goods and produce. All businesses selling at our Airport Farmer’s Market are local small businesses that sell products that they have grown or produced themselves. When you shop local\, up to 68% of the money you spend stays in the community\, so come help support the wonderful entrepreneurs that make Maryland unique. The market runs from 9am – 1pm and is located indoors so you can enjoy watching the planes go by while shopping rain or shine! \nSotterley is sponsoring this unique market at the Airport Terminal building located at 44200 Airport Road\, California\, Maryland. Located in St. Mary’s County\, the airport is about four miles northeast of the central business district of Leonardtown. \n  \nVendors:  \n\nDixon Family Farm\nOlga’s Cakes\nOlivin’s Olive Oils & Balsamic Vinegars\nUnforgoatable Goods\nBeez Knees (Ice Cream!)\nBoon Doggie Farm\nZekiah Farms\nTobacco Barn Distillery\nBeachin Bay Bakery\nMully’s Brewery\nFree State Ciders\nGigi’s treats\nNativo Spices (Empanadas & take home pizza!)\nSotterley (Growing for Good)\nAchterberg Acres\nThe Garden (Mushrooms)\nBird Dog Café\nBlue Wind (Chocolate & Stuffed Ham)
URL:https://sotterley.org/event/aeropark-farmers-market-6/
LOCATION:SMC Regional Airport
ORGANIZER;CN="Historic Sotterley":MAILTO:marketing@sotterley.org
END:VEVENT
END:VCALENDAR