BEGIN:VCALENDAR
VERSION:2.0
PRODID:-//Sotterley - ECPv6.15.17.1//NONSGML v1.0//EN
CALSCALE:GREGORIAN
METHOD:PUBLISH
X-ORIGINAL-URL:https://sotterley.org
X-WR-CALDESC:Events for Sotterley
REFRESH-INTERVAL;VALUE=DURATION:PT1H
X-Robots-Tag:noindex
X-PUBLISHED-TTL:PT1H
BEGIN:VTIMEZONE
TZID:America/New_York
BEGIN:DAYLIGHT
TZOFFSETFROM:-0500
TZOFFSETTO:-0400
TZNAME:EDT
DTSTART:20220313T070000
END:DAYLIGHT
BEGIN:STANDARD
TZOFFSETFROM:-0400
TZOFFSETTO:-0500
TZNAME:EST
DTSTART:20221106T060000
END:STANDARD
BEGIN:DAYLIGHT
TZOFFSETFROM:-0500
TZOFFSETTO:-0400
TZNAME:EDT
DTSTART:20230312T070000
END:DAYLIGHT
BEGIN:STANDARD
TZOFFSETFROM:-0400
TZOFFSETTO:-0500
TZNAME:EST
DTSTART:20231105T060000
END:STANDARD
BEGIN:DAYLIGHT
TZOFFSETFROM:-0500
TZOFFSETTO:-0400
TZNAME:EDT
DTSTART:20240310T070000
END:DAYLIGHT
BEGIN:STANDARD
TZOFFSETFROM:-0400
TZOFFSETTO:-0500
TZNAME:EST
DTSTART:20241103T060000
END:STANDARD
END:VTIMEZONE
BEGIN:VEVENT
DTSTART;TZID=America/New_York:20230222T190000
DTEND;TZID=America/New_York:20230222T190000
DTSTAMP:20260422T065315
CREATED:20230130T195919Z
LAST-MODIFIED:20240322T190448Z
UID:6157-1677092400-1677092400@sotterley.org
SUMMARY:Forward Together: The Legacy of Agnes Kane Callum
DESCRIPTION:Register Here\n  \nJoin us virtually on Wednesday\, February 22nd\, for the first of two connected events featuring two individuals who were transformative in shaping Historic Sotterley\, their communities\, and our State . February is both Black History Month and the birth month of Sotterley Descendant and Trustee Emeritus Agnes Kane Callum\, so who better to begin our two-part series than this incredible woman. Through her genealogical research and her advocacy of how we must tell an honest and inclusive history\, Agnes impacted not only Sotterley and how we tell our stories\, but people and institutions throughout Maryland. Our panel for the evening will include Sotterley Descendants Martina Callum\, Gwen Bankins\, Jerome Spears\, and Dante Eubanks\, as well as Merideth Taylor and Sam Baldwin. \nAgnes Kane Callum was born on February 24\, 1925. In her lifetime she did extensive and painstaking genealogical research\, published many books documenting the genealogy of enslaved persons in Maryland\, and was a founding member of both the Baltimore chapter of the Afro-American Historical and Genealogical Society and the Commission to Coordinate the Study\, Commemoration\, and Impact of Slavery’s History and Legacy in Maryland. In her time as a member of the Historic Sotterley Board of Trustees\, Agnes helped save and preserve Sotterley so that it could continue to share its history with the world. \nIn April\, we will host the second part of this series to remember the legacy of John Hanson Briscoe\, who\, together with Agnes\, helped to save Sotterley. \n 
URL:https://sotterley.org/event/forward-together-the-legacy-of-agnes-kane-callum/
LOCATION:Virtual
ORGANIZER;CN="Historic Sotterley":MAILTO:marketing@sotterley.org
END:VEVENT
END:VCALENDAR