BEGIN:VCALENDAR
VERSION:2.0
PRODID:-//Sotterley - ECPv6.15.17.1//NONSGML v1.0//EN
CALSCALE:GREGORIAN
METHOD:PUBLISH
X-ORIGINAL-URL:https://sotterley.org
X-WR-CALDESC:Events for Sotterley
REFRESH-INTERVAL;VALUE=DURATION:PT1H
X-Robots-Tag:noindex
X-PUBLISHED-TTL:PT1H
BEGIN:VTIMEZONE
TZID:America/New_York
BEGIN:DAYLIGHT
TZOFFSETFROM:-0500
TZOFFSETTO:-0400
TZNAME:EDT
DTSTART:20210314T070000
END:DAYLIGHT
BEGIN:STANDARD
TZOFFSETFROM:-0400
TZOFFSETTO:-0500
TZNAME:EST
DTSTART:20211107T060000
END:STANDARD
BEGIN:DAYLIGHT
TZOFFSETFROM:-0500
TZOFFSETTO:-0400
TZNAME:EDT
DTSTART:20220313T070000
END:DAYLIGHT
BEGIN:STANDARD
TZOFFSETFROM:-0400
TZOFFSETTO:-0500
TZNAME:EST
DTSTART:20221106T060000
END:STANDARD
BEGIN:DAYLIGHT
TZOFFSETFROM:-0500
TZOFFSETTO:-0400
TZNAME:EDT
DTSTART:20230312T070000
END:DAYLIGHT
BEGIN:STANDARD
TZOFFSETFROM:-0400
TZOFFSETTO:-0500
TZNAME:EST
DTSTART:20231105T060000
END:STANDARD
END:VTIMEZONE
BEGIN:VEVENT
DTSTART;TZID=America/New_York:20221218T090000
DTEND;TZID=America/New_York:20221218T130000
DTSTAMP:20260422T144603
CREATED:20220927T192700Z
LAST-MODIFIED:20240322T190448Z
UID:6018-1671354000-1671368400@sotterley.org
SUMMARY:AeroPark Farmer's Market
DESCRIPTION:The last AeroPark Farmer’s Market of 2022 is coming in time for you to get fantastic local goods for your holiday parties and dinners! Support local this holiday season by purchasing fresh\, delicious ingredients and prepared foods directly from Southern Maryland businesses. \n  \nWe’re expecting a very special visitor again this year. Bring the kids along\, because we hear Santa himself will be making an appearance around 11:30 am\, and weather permitting he’ll be flying in! There will be an opportunity to meet Santa on the flightline and he’ll be passing out treats. \n  \nThis Airport Famer’s Market embraces and showcases the rural characteristics of Southern Maryland while highlighting the role that our region has played in developing our nation’s air and space technologies. One of the most unique characteristics is that people can fly their plane into the airport from other parts of the region to buy goods and then fly home! \n  \nSotterley is sponsoring this special market at the Airport Terminal building located at 44200 Airport Road\, California\, Maryland. Located in   St. Mary’s County\, the airport is about four miles northeast of the central business district of Leonardtown and is part of the growing AeroPark Innovation District. \n  \nVendors:  \n\nDixon Family Farm\nOlga’s Cakes\nOlivin’s Olive Oils & Balsamic Vinegars\nUnforgoatable goods\nBeez Knees (Ice Cream!)\nBoon Doggie Farm\nZekiah Farms\nTobacco Barn Distillery\nNo Guarantees Bakery\nMully’s Brewery\nFree State Ciders\nGigi’s treats\nNativo Spices (Empanadas & take home pizza!)\nSotterley (Growing for Good)\nAchterberg Acres\nThe Garden (Mushrooms)\nBird Dog Café\nBlue Wind (Chocolate & Stuffed Ham)\nDouble T Oysters
URL:https://sotterley.org/event/aeropark-farmers-market-4/
LOCATION:SMC Regional Airport
ORGANIZER;CN="Historic Sotterley":MAILTO:marketing@sotterley.org
END:VEVENT
END:VCALENDAR