BEGIN:VCALENDAR
VERSION:2.0
PRODID:-//Sotterley - ECPv6.15.17.1//NONSGML v1.0//EN
CALSCALE:GREGORIAN
METHOD:PUBLISH
X-WR-CALNAME:Sotterley
X-ORIGINAL-URL:https://sotterley.org
X-WR-CALDESC:Events for Sotterley
REFRESH-INTERVAL;VALUE=DURATION:PT1H
X-Robots-Tag:noindex
X-PUBLISHED-TTL:PT1H
BEGIN:VTIMEZONE
TZID:America/New_York
BEGIN:DAYLIGHT
TZOFFSETFROM:-0500
TZOFFSETTO:-0400
TZNAME:EDT
DTSTART:20210314T070000
END:DAYLIGHT
BEGIN:STANDARD
TZOFFSETFROM:-0400
TZOFFSETTO:-0500
TZNAME:EST
DTSTART:20211107T060000
END:STANDARD
BEGIN:DAYLIGHT
TZOFFSETFROM:-0500
TZOFFSETTO:-0400
TZNAME:EDT
DTSTART:20220313T070000
END:DAYLIGHT
BEGIN:STANDARD
TZOFFSETFROM:-0400
TZOFFSETTO:-0500
TZNAME:EST
DTSTART:20221106T060000
END:STANDARD
BEGIN:DAYLIGHT
TZOFFSETFROM:-0500
TZOFFSETTO:-0400
TZNAME:EDT
DTSTART:20230312T070000
END:DAYLIGHT
BEGIN:STANDARD
TZOFFSETFROM:-0400
TZOFFSETTO:-0500
TZNAME:EST
DTSTART:20231105T060000
END:STANDARD
END:VTIMEZONE
BEGIN:VEVENT
DTSTART;VALUE=DATE:20221203
DTEND;VALUE=DATE:20221204
DTSTAMP:20260422T122612
CREATED:20221011T133230Z
LAST-MODIFIED:20240322T190448Z
UID:6059-1670025600-1670111999@sotterley.org
SUMMARY:Winter Wonderland Workshops
DESCRIPTION:Four sessions throughout the day available for you to choose from: 8:30\, 10:30\, 1:00 & 3:00\nHave you tried DIY holiday décor projects before\, but just couldn’t seem to pull it off? Great news\, the Sotterley Garden Guild is offering workshops on Saturday\, December 3rd to share their expertise! This is a fantastic opportunity to spend time with your friends and loved ones while creating something beautiful. The Garden Guild’s wreaths and other holiday décor are unique\, festive\, and eye-catching – you’ll love showing them off just as much as you enjoy making them! \n  \nOnly 16 participants per session and each session is 1 1/2 hours long. Tickets must be purchased in advance. $30 per participant. \nPurchase Tickets Here\n  \nPlease Note: Bring your own gloves and clippers for the workshops – other materials to be provided. Workshops will be held in Historic Sotterley Maintenance Building. Guests are asked to arrive promptly for your workshop time and to proceed directly to the Maintenance Building across from the Visitor Center to check in. Visitors are encouraged to dress appropriately for the weather and to wear foot gear suitable for the conditions as the site is kept rustic\, although the workshop will be held indoors.
URL:https://sotterley.org/event/winter-wonderland-workshops-2/
LOCATION:Historic Sotterley\, 44300 Sotterley Lane\, Hollywood\, MD\, 20636\, United States
END:VEVENT
END:VCALENDAR