BEGIN:VCALENDAR
VERSION:2.0
PRODID:-//Sotterley - ECPv6.15.17.1//NONSGML v1.0//EN
CALSCALE:GREGORIAN
METHOD:PUBLISH
X-ORIGINAL-URL:https://sotterley.org
X-WR-CALDESC:Events for Sotterley
REFRESH-INTERVAL;VALUE=DURATION:PT1H
X-Robots-Tag:noindex
X-PUBLISHED-TTL:PT1H
BEGIN:VTIMEZONE
TZID:America/New_York
BEGIN:DAYLIGHT
TZOFFSETFROM:-0500
TZOFFSETTO:-0400
TZNAME:EDT
DTSTART:20210314T070000
END:DAYLIGHT
BEGIN:STANDARD
TZOFFSETFROM:-0400
TZOFFSETTO:-0500
TZNAME:EST
DTSTART:20211107T060000
END:STANDARD
BEGIN:DAYLIGHT
TZOFFSETFROM:-0500
TZOFFSETTO:-0400
TZNAME:EDT
DTSTART:20220313T070000
END:DAYLIGHT
BEGIN:STANDARD
TZOFFSETFROM:-0400
TZOFFSETTO:-0500
TZNAME:EST
DTSTART:20221106T060000
END:STANDARD
BEGIN:DAYLIGHT
TZOFFSETFROM:-0500
TZOFFSETTO:-0400
TZNAME:EDT
DTSTART:20230312T070000
END:DAYLIGHT
BEGIN:STANDARD
TZOFFSETFROM:-0400
TZOFFSETTO:-0500
TZNAME:EST
DTSTART:20231105T060000
END:STANDARD
END:VTIMEZONE
BEGIN:VEVENT
DTSTART;TZID=America/New_York:20221102T190000
DTEND;TZID=America/New_York:20221102T203000
DTSTAMP:20260422T171603
CREATED:20221004T185831Z
LAST-MODIFIED:20240322T190448Z
UID:6054-1667415600-1667421000@sotterley.org
SUMMARY:Sotterley Presents: People and Perspectives with Donald Shomette
DESCRIPTION:Donald Shomette\nAuthor\, Archaeologist\, and Award-winning Historian\nThe Civil War in Southern Maryland: The Forgotten Conflict\nWednesday\, November 2nd\, 2022 at 7:00 p.m.\n____________________________________________________________________________\n \nNote: This is a HYBRID EVENT! If you are local to Southern Maryland and interested in attending in person\, please register on our EventBrite instead! In-Person Space is limited\, so register soon.  \nClick here to Register to Attend Virtually!\nClick Here to Register to Attend In Person!\nOn November 2\, noted historian and author Donald Grady Shomette will present a fascinating illustrated lecture on his most recent award winning book Anaconda’s Tail: The Civil War on the Potomac Frontier 1861-1865\, the hitherto unwritten and all but forgotten chronicle of that devastating conflict as it was played out in Southern Maryland. It is a hitherto largely ignored account of the guerilla war\, spies and smugglers\, invasions and naval battles\, heroism and chicanery\, slavery and emancipation\, and the political intrigue that swept across the countryside of Maryland’s five southernmost counties that would influence the course of the war itself. It is a story that will place for the first time Southern Maryland’s critical role in not simply speaking to the well trod accounts of the Lincoln assassination and the escape of John Wilkes Booth or the ill-famed Point Lookout prisoner of war death camp\, but in the very context of both the major Northern and Southern war efforts and their consequences. It is a narrative well worth visiting. \nDonald Grady Shomette completed his undergraduate work in graphic design and art history at the Pratt Institute\, Brooklyn\, New York. In 1997 he was awarded an honorary Ph.D. from the University of Baltimore for contributions to history\, science and the arts. His early career included stints at the Wall Street Journal and Grolier Publishing in New York City\, and with the Washington Post in Washington\, D.C. For more than two decades he served on the staff of the Library of Congress and simultaneously as director of Nautical Archaeological Associates\, a non-profit research organization\, which conducted\, among others\, the first underwater archaeological surveys in the states of Maryland\, New Jersey\, and Arkansas. \nAs a historian Shomette has served as a cultural resources management consultant for numerous states\, various agencies of the U.S. Government\, museums\, universities\, and non-profit research establishments. As a marine archaeologist he has worked in the U.S.\, Canada\, and Western Europe under the sponsorship of such institutions as the National Geographic Society\, the National Park Service\, the U.S. Navy\, and various educational foundations and museums. \nShomette is the author of twenty books\, the most recent being Navigational Hazards (2020) and Anaconda’s Tail: Civil War on the Potomac Frontier\, 1861-1865 (2019). He is a contributor to three international encyclopedias and five anthologies of history and archaeology. His many scientific and popular articles have appeared in such publications as National Geographic Magazine\, History and Technology\, Sea History\, and the American Neptune. He has appeared in documentaries on the History Channel\, the Discovery Channel\, the National Geographic Channel\, Maryland Public Television\, NBC\, CBS and the BBC. For more than a decade he served as a lecturer for the Smithsonian Journeys Program in the Great Lakes and along the entirety of the North American Atlantic Seaboard. \nThrice winner of the prestigious John Lyman Book Award for Best American Maritime History\, and twice winner of the Marion V. Brewington Award for Best U.S. Naval History\, Shomette was also honored with the Calvert Prize\, the highest award in Maryland for historic preservation. He is a resident of Calvert County\, Maryland. \n​​​​​​​This presentation is made possible by the generous support of the National Trust for Historic Preservation. \nFREE EVENT for the public – Advance registration required.  \nClick here to Register to Attend Virtually!\nClick Here to Register to Attend In Person!
URL:https://sotterley.org/event/sotterley-presents-people-and-perspectives-with-donald-shomette/
LOCATION:Historic Sotterley\, 44300 Sotterley Lane\, Hollywood\, MD\, 20636\, United States
ORGANIZER;CN="Historic Sotterley":MAILTO:marketing@sotterley.org
END:VEVENT
END:VCALENDAR