BEGIN:VCALENDAR
VERSION:2.0
PRODID:-//Sotterley - ECPv6.15.17.1//NONSGML v1.0//EN
CALSCALE:GREGORIAN
METHOD:PUBLISH
X-ORIGINAL-URL:https://sotterley.org
X-WR-CALDESC:Events for Sotterley
REFRESH-INTERVAL;VALUE=DURATION:PT1H
X-Robots-Tag:noindex
X-PUBLISHED-TTL:PT1H
BEGIN:VTIMEZONE
TZID:America/New_York
BEGIN:DAYLIGHT
TZOFFSETFROM:-0500
TZOFFSETTO:-0400
TZNAME:EDT
DTSTART:20210314T070000
END:DAYLIGHT
BEGIN:STANDARD
TZOFFSETFROM:-0400
TZOFFSETTO:-0500
TZNAME:EST
DTSTART:20211107T060000
END:STANDARD
BEGIN:DAYLIGHT
TZOFFSETFROM:-0500
TZOFFSETTO:-0400
TZNAME:EDT
DTSTART:20220313T070000
END:DAYLIGHT
BEGIN:STANDARD
TZOFFSETFROM:-0400
TZOFFSETTO:-0500
TZNAME:EST
DTSTART:20221106T060000
END:STANDARD
BEGIN:DAYLIGHT
TZOFFSETFROM:-0500
TZOFFSETTO:-0400
TZNAME:EDT
DTSTART:20230312T070000
END:DAYLIGHT
BEGIN:STANDARD
TZOFFSETFROM:-0400
TZOFFSETTO:-0500
TZNAME:EST
DTSTART:20231105T060000
END:STANDARD
END:VTIMEZONE
BEGIN:VEVENT
DTSTART;TZID=America/New_York:20221030T120000
DTEND;TZID=America/New_York:20221030T160000
DTSTAMP:20260422T171603
CREATED:20221003T195302Z
LAST-MODIFIED:20240322T190449Z
UID:6047-1667131200-1667145600@sotterley.org
SUMMARY:Family Activities in October
DESCRIPTION:Join Us the Month of October!\nEvery Friday\, Saturday\, and Sunday in October!\nHistoric Sotterley is offering a fun month for children. Pumpkin painting\, games and activities are offered each weekend and are included in the normal grounds fee of $5 (or the normal guided tour fee)\, and children under 6 are free\, as are Members! An extra bonus – children 12 and younger will receive their small pumpkin to paint for free!\n\n\nActivities include:\nPumpkin Painting\nCornhole Toss\nSensory Bins\nFarm Puzzles\n\n\nLarge Games:\nFarming Football and Basketball\n\n\nPlease join us while supplies last!
URL:https://sotterley.org/event/family-activities-in-october-12/
LOCATION:Historic Sotterley\, 44300 Sotterley Lane\, Hollywood\, MD\, 20636\, United States
ORGANIZER;CN="Historic Sotterley":MAILTO:marketing@sotterley.org
END:VEVENT
END:VCALENDAR